{"text_format":"1","workbook":"xlsx","n_sheets":4,"sheets":["Responsible Sourcing Calculator","Ark2","Dialogboks1","Schedule of changes"],"not_rendered":{"charts":0,"images":7,"macros":1,"external_links":6,"defined_names":666,"comments":0,"pivot_tables":0},"unopened":[{"sheet":"Dialogboks1","index":2,"reason":"not_a_worksheet"}],"bounds":{"document_bytes":16777216,"sheet_cells":100000,"rows_first":2000,"rows_last":500,"rows_between":2000,"halvings":0,"cell_chars":16384,"cell_head_chars":4096},"cells_cut":0,"cells_raw":0,"read":"whole","date_system":"1900"}

{"sheet":"Responsible Sourcing Calculator","index":0,"n_rows":1262,"n_cols":24,"rows_kept":1262,"cut":false,"hidden":false,"merged":[[1,5,1,9],[24,12,32,12],[17,12,19,12],[308,13,315,14],[124,3,124,14],[32,7,32,10],[45,13,52,14],[25,13,32,14],[84,2,91,3],[125,2,132,3],[137,6,138,6],[133,7,133,10],[144,3,144,14],[153,7,153,10],[106,13,113,14],[214,7,214,10],[205,3,205,14],[218,6,219,6],[247,13,254,14],[225,3,225,14],[254,7,254,10],[1,14,1,24],[17,7,17,11],[24,2,31,3],[380,6,381,6],[264,2,264,4],[326,3,326,14],[327,2,334,3],[307,2,314,3],[288,13,295,14],[305,2,305,4],[287,2,294,3],[299,6,300,6],[346,2,346,4],[356,7,356,10],[315,7,315,10],[275,7,275,10],[306,3,306,14],[367,3,367,14],[328,13,335,14],[347,3,347,14],[339,6,340,6],[366,2,366,4],[319,6,320,6],[360,6,361,6],[325,2,325,4],[286,3,286,14],[287,12,295,12],[396,7,396,10],[531,13,538,14],[592,13,599,14],[400,6,401,6],[389,13,396,14],[388,2,395,3],[407,3,407,14],[589,2,589,4],[542,6,543,6],[551,13,558,14],[538,7,538,10],[578,7,578,10],[569,3,569,14],[570,2,577,3],[511,13,518,14],[426,2,426,4],[420,6,421,6],[489,2,496,3],[529,3,529,14],[469,2,476,3],[1074,2,1074,4],[1064,7,1064,10],[1145,4,1145,5],[1105,7,1105,10],[1008,6,1009,6],[1076,3,1076,14],[1055,3,1055,14],[1017,13,1024,14],[1037,13,1044,14],[1044,7,1044,10],[1024,7,1024,10],[1048,6,1049,6],[1135,2,1135,4],[1054,2,1054,4],[1077,2,1084,3],[1014,2,1014,4],[1075,2,1075,4],[1015,3,1015,14],[1115,2,1115,4],[1109,6,1110,6],[469,12,477,12],[489,12,497,12],[510,12,518,12],[457,7,457,10],[448,3,448,14],[501,6,502,6],[441,6,442,6],[428,3,428,14],[437,7,437,10],[468,3,468,14],[467,2,467,4],[429,2,436,3],[518,7,518,10],[488,3,488,14],[430,13,437,14],[461,6,462,6],[470,13,477,14],[481,6,482,6],[487,2,487,4],[497,7,497,10],[510,2,517,3],[509,3,509,14],[43,3,43,14],[72,7,72,10],[83,3,83,14],[187,13,194,14],[166,13,173,14],[416,3,416,5],[437,3,437,5],[457,3,457,5],[386,2,386,4],[408,2,415,3],[450,13,457,14],[409,13,416,14],[449,2,456,3],[295,3,295,5],[348,12,356,12],[368,12,376,12],[315,3,315,5],[447,2,447,4],[369,13,376,14],[368,2,375,3],[376,7,376,10],[335,3,335,5],[427,2,427,4],[449,12,457,12],[206,12,214,12],[44,2,51,3],[96,6,97,6],[42,2,42,4],[82,2,82,4],[279,6,280,6],[145,2,152,3],[123,2,123,4],[62,2,62,4],[64,2,71,3],[226,12,234,12],[102,2,102,4],[194,7,194,10],[198,6,199,6],[183,2,183,4],[165,2,172,3],[177,6,178,6],[234,7,234,10],[185,3,185,14],[244,2,244,4],[266,3,266,14],[265,2,265,4],[173,3,173,5],[246,2,253,3],[1178,12,1186,12],[1166,3,1166,5],[1157,3,1157,14],[21,2,21,4],[268,13,275,14],[125,12,133,12],[246,12,254,12],[267,12,275,12],[238,6,239,6],[226,2,233,3],[84,12,92,12],[105,12,113,12],[227,13,234,14],[207,13,214,14],[143,2,143,4],[206,2,213,3],[184,2,184,4],[164,3,164,14],[163,2,163,4],[157,6,158,6],[146,13,153,14],[145,12,153,12],[165,12,173,12],[186,12,194,12],[1117,2,1124,3],[1125,4,1125,5],[1156,2,1156,4],[1149,6,1150,6],[1158,2,1165,3],[1170,6,1171,6],[1177,3,1177,14],[1138,13,1145,14],[1125,7,1125,10],[1159,13,1166,14],[1166,7,1166,10],[1145,7,1145,10],[1129,6,1130,6],[1176,2,1176,4],[1137,12,1145,12],[1158,12,1166,12],[1137,2,1144,3],[753,2,760,3],[631,2,638,3],[590,3,590,14],[724,6,725,6],[740,7,740,10],[791,2,791,4],[793,2,800,3],[731,3,731,14],[765,6,766,6],[773,12,781,12],[793,12,801,12],[710,2,710,4],[650,3,650,14],[639,7,639,10],[629,2,629,4],[693,13,700,14],[684,6,685,6],[680,7,680,10],[692,2,699,3],[630,3,630,14],[659,7,659,10],[612,13,619,14],[619,7,619,10],[611,2,618,3],[700,7,700,10],[571,13,578,14],[591,12,599,12],[611,12,619,12],[631,12,639,12],[672,2,679,3],[704,6,705,6],[730,2,730,4],[744,6,745,6],[582,6,583,6],[1230,6,1231,6],[1217,3,1217,14],[1226,7,1226,10],[1206,7,1206,10],[1198,2,1205,3],[1210,6,1211,6],[1190,6,1191,6],[1197,3,1197,14],[1199,13,1206,14],[1206,3,1206,5],[1226,3,1226,5],[1218,2,1225,3],[1219,13,1226,14],[1196,2,1196,4],[1216,2,1216,4],[1198,12,1206,12],[1218,12,1226,12],[477,3,477,5],[497,3,497,5],[518,3,518,5],[846,6,847,6],[842,7,842,10],[774,13,781,14],[801,7,801,10],[842,3,842,5],[852,2,852,4],[530,2,537,3],[558,7,558,10],[528,2,528,4],[538,3,538,5],[550,2,557,3],[649,2,649,4],[720,7,720,10],[663,6,664,6],[670,2,670,4],[671,3,671,14],[669,2,669,4],[712,2,719,3],[711,3,711,14],[609,2,609,4],[643,6,644,6],[610,3,610,14],[632,13,639,14],[690,2,690,4],[835,13,842,14],[754,13,761,14],[773,2,780,3],[834,2,841,3],[831,2,831,4],[814,13,821,14],[781,7,781,10],[792,3,792,14],[825,6,826,6],[811,2,811,4],[812,3,812,14],[771,2,771,4],[805,6,806,6],[813,2,820,3],[733,13,740,14],[750,2,750,4],[794,13,801,14],[740,3,740,5],[761,3,761,5],[781,3,781,5],[801,3,801,5],[995,3,995,14],[996,2,1003,3],[913,2,913,4],[955,2,962,3],[993,2,993,4],[967,6,968,6],[866,6,867,6],[935,12,943,12],[955,12,963,12],[975,12,983,12],[874,2,881,3],[875,13,882,14],[902,7,902,10],[886,6,887,6],[912,2,912,4],[973,2,973,4],[997,13,1004,14],[895,13,902,14],[892,2,892,4],[882,7,882,10],[873,3,873,14],[906,6,907,6],[914,3,914,14],[974,3,974,14],[254,3,254,5],[275,3,275,5],[853,3,853,14],[872,2,872,4],[994,2,994,4],[983,7,983,10],[17,13,19,13],[295,7,295,10],[245,3,245,14],[894,2,901,3],[855,13,862,14],[854,2,861,3],[902,3,902,5],[923,7,923,10],[927,6,928,6],[947,6,948,6],[954,3,954,14],[953,2,953,4],[975,2,982,3],[987,6,988,6],[862,7,862,10],[894,12,902,12],[893,3,893,14],[943,7,943,10],[588,2,588,4],[522,6,523,6],[9,10,9,12],[10,10,10,12],[18,9,19,9],[388,12,396,12],[408,12,416,12],[429,12,437,12],[530,12,538,12],[550,12,558,12],[570,12,578,12],[387,3,387,14],[406,2,406,4],[490,13,497,14],[17,14,19,14],[20,2,20,5],[56,6,57,6],[85,13,92,14],[285,2,285,4],[267,2,274,3],[345,2,345,4],[194,3,194,5],[214,3,214,5],[234,3,234,5],[862,3,862,5],[882,3,882,5],[651,12,659,12],[672,12,680,12],[692,12,700,12],[549,3,549,14],[691,3,691,14],[673,13,680,14],[712,12,720,12],[732,12,740,12],[753,12,761,12],[558,3,558,5],[578,3,578,5],[599,3,599,5],[619,3,619,5],[639,3,639,5],[659,3,659,5],[680,3,680,5],[700,3,700,5],[720,3,720,5],[652,13,659,14],[713,13,720,14],[623,6,624,6],[603,6,604,6],[1117,12,1125,12],[1116,3,1116,14],[1089,6,1090,6],[1105,4,1105,5],[1096,3,1096,14],[1085,7,1085,10],[1098,13,1105,14],[1036,2,1043,3],[1186,3,1186,5],[1186,7,1186,10],[1097,2,1104,3],[1095,2,1095,4],[1057,13,1064,14],[1085,4,1085,5],[1056,2,1063,3],[1068,6,1069,6],[1078,13,1085,14],[1077,12,1085,12],[1097,12,1105,12],[1178,2,1185,3],[1179,13,1186,14],[1155,2,1155,4],[1118,13,1125,14],[1136,3,1136,14],[963,7,963,10],[956,13,963,14],[1004,3,1004,5],[1024,3,1024,5],[1044,3,1044,5],[1064,3,1064,5],[916,13,923,14],[933,2,933,4],[915,2,922,3],[935,2,942,3],[934,3,934,14],[923,3,923,5],[996,12,1004,12],[1016,12,1024,12],[1036,12,1044,12],[1056,12,1064,12],[915,12,923,12],[1016,2,1023,3],[1034,2,1034,4],[1035,3,1035,14],[1028,6,1029,6],[1004,7,1004,10],[976,13,983,14],[936,13,943,14],[11,10,14,12],[11,13,14,13],[32,3,32,5],[52,3,52,5],[72,3,72,5],[92,3,92,5],[113,3,113,5],[133,3,133,5],[153,3,153,5],[126,13,133,14],[104,3,104,14],[44,12,52,12],[64,12,72,12],[76,6,77,6],[52,7,52,10],[63,3,63,14],[65,13,72,14],[36,6,37,6],[18,11,19,11],[18,7,19,7],[18,10,19,10],[17,2,19,3],[17,4,19,5],[18,8,19,8],[17,6,19,6],[963,3,963,5],[983,3,983,5],[943,3,943,5],[22,2,22,4],[23,3,23,14],[258,6,259,6],[117,6,118,6],[173,7,173,10],[92,7,92,10],[651,2,658,3],[103,2,103,4],[113,7,113,10],[105,2,112,3],[186,2,193,3],[204,2,204,4],[224,2,224,4],[348,2,355,3],[854,12,862,12],[874,12,882,12],[752,3,752,14],[732,2,739,3],[307,12,315,12],[335,7,335,10],[821,3,821,5],[761,7,761,10],[356,3,356,5],[376,3,376,5],[396,3,396,5],[813,12,821,12],[834,12,842,12],[327,12,335,12],[349,13,356,14],[416,7,416,10],[833,3,833,14],[751,2,751,4],[507,2,507,4],[821,7,821,10],[772,3,772,14],[832,2,832,4],[785,6,786,6],[562,6,563,6],[599,7,599,10],[591,2,598,3],[477,7,477,10],[548,2,548,4],[508,2,508,4],[568,2,568,4]]}
[]
[null,null,null,null,null,"Mat 03 – kalkulator for ansvarlig innkjøp av materialer",null,null,null,null,null,null,null,null,"Versjon 2.0\nNorsk utgave tilrettelagt av"]
[null,null,null,null,null,null,null,null,null,null,null,null,null,null,null,null,null,null,"Nybygg- og/eller større renoveringsprosjekter",2,"Varehandel",2]
[null,null,null,null,null,null,null,null,null,null,null,null,null,null,null,null,null,null,"Kun innredning",3,"Kontor"]
[null,null,null,null,null,null,null,null,null,null,null,null,null,null,null,null,null,null,null,null,"Industri"]
[null,null,null,null,null,null,null,null,null,null,null,null,null,null,null,null,null,null,3,null,"Utdanning"]
[]
[null,null,null,null,null,null,null,null,null,null,null,null,null,null,null,null,null,null,"Denne var tidligere Vurderingstype, dvs Nybygg- og/eller større renoveringsprosjekter eller Kun innredning.",null,3]
[null,null,null,null,null,null,null,null,null,null,null,null,null,null,null,null,null,null,null,"Quantity of types selected"]
[null,null,null,null,null,null,"Antall poeng tilgjengelig","Nødvendige områdepoeng",null,null,"Antall bygningselementer:",null,null,{"$f":"D1242","v":0},null,null,null,null,"Polo497r",{"$f":"VLOOKUP(G22,$T$1242:$U$1246,2,FALSE)","v":2}]
[null,null,null,null,null,null,{"$f":"IF(D1242=0,\"\",1)","v":""},{"$f":"IF(D1242=0,\"\",G1246)","v":""},null,null,"Totalt oppnådde områdepoeng",null,null,{"$f":"IF(N10=0,0,IF(O22+O103+O184+O265+O346+O427+O508+O589+O670+O751+O832+O913+O994+O1075+O1156=0,0,O22+O103+O184+O265+O346+O427+O508+O589+O670+O751+O832+O913+O994+O1075+O1156))","v":0}]
[null,null,null,null,null,null,{"$f":"IF(D1242=0,\"\",IF(H12=\"\",\"\",2))","v":""},{"$f":"IF(D1242=0,\"\",G1247)","v":""},null,null,"TOTALT OPPNÅDDE POENG",null,null,{"$f":"IF(N11=0,0,IF(N11<5,0,VLOOKUP(N11,F1245:H1248,3,TRUE)))","v":0}]
[]
[]
[null,null,null,null,null,null,{"$f":"IF(D1242=0,\"\",IF(H12=\"\",\"\",3))","v":""},{"$f":"IF(D1242=0,\"\",G1248)","v":""},null,null,null,null,null,null,null,null,null,{"$f":"IF(AND(G22=\"\",G103=\"\",G184=\"\",G265=\"\",G346=\"\",G427=\"\",G508=\"\",G589=\"\",G670=\"\",G751=\"\",G832=\"\",G913=\"\",G994=\"\",G1156=\"\"),0,1)","v":0},"Makro Nullstill"]
[]
[null,null,null,null,null,null,null,null,null,null,null,null,null,null,null,null,null,"0 = synlig, 1 = skjult"]
[null,null,"BYGNINGSELEMENT",null,"MATERIALTYPER",null,"RELEVANTE MATERIALERS \nPROSENT/VOLUM","Prosentandel/volum av relevante materialer i \noverensstemmelse med hvert nivå",null,null,null,null,"Område-\npoeng","% av vurderte materialer","Områdepoeng pr. bygningselement",null,null,{"$f":"IF(asstype=1,1,0)","v":0},"=HVIS(asstype=1;1;0)",null,"Data type selected","Averaging  Value"]
[null,null,null,null,null,null,null,"Nivå 1","N/A","Nivå 2","Nivå 3","Nivå 4",null,null,null,null,null,{"$f":"IF(asstype=1,1,0)","v":0},"=HVIS(asstype=1;1;0)"]
[null,null,null,null,null,null,null,null,null,null,null,null,null,null,null,null,null,{"$f":"IF(asstype=1,1,0)","v":0},"=HVIS(asstype=1;1;0)"]
[null,null,null,null,null,null,null,3,2.5,2,1.5,1,null,null,null,null,null,1,"=1"]
[null,null,"BÆREKONSTRUKSJON",null,null,"Velg antall bærekonstruksjoner du ønsker å vurdere (deretter trykk «velg»):",null,null,null,null,null,null,null,null,{"$f":"IF(ISERROR(O34+O54+O74+O94)/V24,\"\",(O34+O54+O74+O94)/V24)","v":0},null,{"$f":"0","v":0},{"$f":"IF($R$15=0,0,IF($G$22>=1,0,1))","v":0},"=HVIS(asstype=2;0;1)"]
[null,null,"BÆREKONSTRUKSJON (1)",null,null,"Velg elementtype:",null,null,null,null,null,null,null,null,null,null,{"$f":"IF(freq1>=3,0,1)","v":1},0,"=HVIS(asstype=2;0;1)",null,{"$f":"IF(ISERROR(VLOOKUP(G23,$T$1249:$U$1250,2,FALSE)),\"\",VLOOKUP(G23,$T$1249:$U$1250,2,FALSE))","v":""}]
[null,null,null,{"$f":"IF(G33=\"\",\"\",IF(P34>=1,\"NB! Volum av nivåene kan ikke være større enn det totale volumet for hvert enkelt materiale!\",IF(AND(P33=TRUE,type1=2,G33>100),\"NB! Prosentandel for hvert nivå må registreres i prosent av det vurderte bygningselementet, og den totale prosentandelen kan ikke være større enn den totale prosent av hvert enkelt materiale!\",\"\")))","v":""},null,null,null,null,null,null,null,null,null,null,null,null,1,0,"=HVIS(asstype=2;0;1)","Betinget rosa",null,{"$f":"IF(freq1=3,1,IF(freq1=4,2,IF(freq1=5,3,IF(freq1=6,4,1))))","v":1}]
[null,null,{"$f":"IF(AND(G22=\"\",Volum=\"\"),\"\",IF(AND(U23=1,L33=\"\"),\"REGISTRER FØRST DET TOTALE VOLUMET  AV MATERIALER I CELLEN NEDERST TIL HØYRE\",IF(G25:G32=\"\",\"\",IF(G33>100,\"Mengden materialer kan ikke overstige det  totale volumet!\",IF(G33<80,\"Minst 80 % av de relevante materialer må vurderes\",\"\")))))","v":""},null,"Mat. 1",null,null,null,null,null,null,null,{"$f":"IF(N25=0,0,IF(P33=TRUE,\"0\",IF(SUM(H41+I41+J41+K41+L41)>=3,\"3\",SUM(H41+I41+J41+K41+L41))))","v":0},{"$f":"IF(AND(U23=1,L33=\"\"),0,IF(OR(NOT(D24=\"\"),NOT(C25=\"\")),0,IF(ISERROR(N34),\"0\",N34)))","v":0},null,{"$f":"IF(SUM(H25:L25)>G25,\"1\",\"0\")","v":"0"},1,0,"=HVIS(asstype=2;0;1)"]
[null,null,null,null,"Mat. 2",null,null,null,null,null,null,null,null,{"$f":"IF(OR(G33=\"\",G33=0,G33>100),\"\",IF(N34=0,\"\",IF(N34<80,\"Ingen poeng oppnådd,\nmindre enn 80 % oppfyller kravet\",C25)))","v":""},null,{"$f":"IF(SUM(H26:L26)>G26,\"1\",\"0\")","v":"0"},1,0,"=HVIS(asstype=2;0;1)"]
[null,null,null,null,"Mat. 3",null,null,null,null,null,null,null,null,null,null,"0",1,0,"=HVIS(asstype=2;0;1)"]
[null,null,null,null,"Mat. 4",null,null,null,null,null,null,null,null,null,null,"0",1,0,"=HVIS(asstype=2;0;1)"]
[null,null,null,null,"Mat. 5",null,null,null,null,null,null,null,null,null,null,{"$f":"IF(SUM(H29:L29)>G29,\"1\",\"0\")","v":"0"},1,0,"=HVIS(asstype=2;0;1)","Volum",1]
[null,null,null,null,"Mat. 6",null,null,null,null,null,null,null,null,null,null,"0",1,0,"=HVIS(asstype=2;0;1)","Prosentandel",2]
[null,null,null,null,"Mat. 7",null,null,null,null,null,null,null,null,null,null,"0",1,0,"=HVIS(asstype=2;0;1)"]
[null,null,null,null,"Mat. 8",null,null,null,null,null,null,null,null,null,null,{"$f":"IF(SUM(H32:L32)>G32,\"1\",\"0\")","v":"0"},1,0,"=HVIS(asstype=2;0;1)"]
[null,null,null,"Totalt % av bygningselementet (relevante materialer) vurdert:",null,null,{"$f":"IF(U23=\"\",\"\",IF(U23+L33=1,\"\",IF(SUM(G25:G32)=0,\"\",IF(U23=1,IF(OR(G25>L33,G26>L33,G27>L33,G28>L33,G29>L33,G30>L33,G31>L33,G32>L33,SUM(G25:G32)>L33),ROUND(SUM(G25:G32)/L33,2)*100,((SUM(G25:G32)/L33)*100)),IF(U23=2,IF(OR(G25>100,G26>100,G27>100,G28>100,G29>100,G30>100,G31>100,G32>100,SUM(G25:G32)>100),SUM(G25:G32),SUM(G25:G32)))))))","v":""},"Totalt volum:",null,null,null,520,null,null,null,{"$f":"IF(OR(SUM(H25:L25)>G25,SUM(H26:L26)>G26,SUM(H27:L27)>G27,SUM(H28:L28)>G28,SUM(H29:L29)>G29,SUM(H30:L30)>G30,SUM(H31:L31)>G31,SUM(H32:L32)>G32),TRUE,FALSE)","v":false},1,0,"=HVIS(asstype=2;0;1)"]
[null,null,{"$f":"IF(G33=0,\"0\",IF(U23=2,\"0\",IF(U23=1,(G33/100)*100,IF(U23=2,(G33/100)*100))))","v":false},{"$f":"G33","v":""},null,"Totalt",{"$f":"IF(SUM(G25:G32)=0,\"1\",SUM(G25:G32))","v":"1"},{"$f":"SUM(H25:H32)","v":0},{"$f":"SUM(I25:I32)","v":0},{"$f":"SUM(J25:J32)","v":0},{"$f":"SUM(K25:K32)","v":0},{"$f":"SUM(L25:L32)","v":0},null,{"$f":"SUM(H35:L35)","v":0},{"$f":"IF(G33<80,\"0,00\",IF(P34>0,\"0\",IF(G33>100,\"0,00\",IF(N25>=80,M25,IF(N25<80,0)))))","v":"0,00"},{"$f":"P25+P26+P27+P28+P29+P30+P31+P32","v":0},{"$f":"1","v":1},{"$f":"1","v":1},"=1"]
[null,null,null,null,null,null,"Percentage",{"$f":"IF(H34+G34=0,\"0\",(H34/G34)*100)","v":0},{"$f":"IF(I34+G34=0,\"0\",(I34/G34)*100)","v":0},{"$f":"IF(J34+G34=0,\"0\",(J34/G34)*100)","v":0},{"$f":"IF(K34+G34=0,\"0\",(K34/G34)*100)","v":0},{"$f":"IF(L34+G34=0,\"0\",(L34/G34)*100)","v":0},null,100,null,null,{"$f":"1","v":1},{"$f":"1","v":1},"=1"]
[null,null,null,null,null,{"$f":"IF(U23=1,((G34/100)*80))","v":false},"% of 80",{"$f":"(H35/80)*100","v":0},{"$f":"(I35/80)*100","v":0},{"$f":"(J35/80)*100","v":0},{"$f":"(K35/80)*100","v":0},{"$f":"(L35/80)*100","v":0},null,null,null,null,{"$f":"1","v":1},{"$f":"1","v":1},"=1"]
[null,null,{"$f":"IF(AND(G22=\"\",Volum=\"\"),\"\",IF(AND(U23=1,L33=\"\"),\"REGISTRER FØRST DET TOTALE VOLUMET AV MATERIALER\",IF(G25:G32=\"\",\"\",IF(G33<80,\"Minst 80 % av de relevante materialer må vurderes\",IF(AND(type1=1,G33>L33),\"Mengden materialer kan ikke overstige det  totale volumet\",IF(G33>=80,\"80 % andel er oppnådd...\",IF(G34>100,\"Andel av de enkelte materialerer kan ikke overstige 100 %\",\"\")))))))","v":""},null,null,null,"Limiter",{"$f":"IF(H36>100,\"100\",H36)","v":0},{"$f":"IF(I36>100,\"100\",I36)","v":0},{"$f":"IF(J36>100,\"100\",J36)","v":0},{"$f":"IF(K36>100,\"100\",K36)","v":0},{"$f":"IF(L36>100,\"100\",L36)","v":0},null,null,null,null,{"$f":"1","v":1},{"$f":"1","v":1},"=1"]
[null,null,null,null,null,null,null,null,{"$f":"IF(H37+I37+J37+K37+L37=0,0,100-(H37))","v":0},{"$f":"IF(H37+I37+J37+K37+L37=0,0,100-(H37+I37))","v":0},{"$f":"IF(J37+I37+H37+K37+L37=0,0,100-(J37+I37+H37))","v":0},{"$f":"IF(K37+J37+I37+H37+L37=0,0,100-(H37+I37+K37+J37))","v":0},null,null,null,null,{"$f":"1","v":1},{"$f":"1","v":1},"=1"]
[null,null,{"$f":"IF(G23=\"\",\"\",IF(SUM(G25:G32)=0,\"\",IF(U23=1,IF(U23+L33=1,\"REGISTRER DET TOTALE VOLUMET AV RELEVANTE MATERIALER\",IF((U23+G33+L33)=1,\"REGISTRER DET TOTALE VOLUMET AV RELEVANTE MATERIALER\",IF(ISERROR(C34),\"REGISTRER DET TOTALE VOLUMET AV RELEVANTE MATERIALER\",IF(OR(G25>L33,G26>L33,G27>L33,G28>L33,G29>L33,G30>L33,G31>L33,G32>L33),\"Volumet av de enkelte materialer kan ikke overstige mengden relevante materialer\",IF(SUM(G25:G32)>L33,\"Den totale mengden av materialer kan ikke overstige det  totale volumet av relevante materialer\",\"\"))))),IF(U23=2,IF(SUM(G25:G32)<80,\"Minst 80 % av de relevante materialer må vurderes, vennligst beregn på nytt.\",IF(OR(G25>100,G26>100,G27>100,G28>100,G29>100,G30>100,G31>100,G32>100),\"Prosentandel av de enkelte materialerer kan ikke overstige 100\",IF(SUM(G25:G32)>100,\"Den totale prosentandelen av materialer kan ikke overstige 100\",\"\")))))))","v":""},null,null,null,null,null,{"$f":"IF(I37>I38,I38,I37)","v":0},{"$f":"IF(J37>J38,J38,J37)","v":0},{"$f":"IF(K37>K38,K38,K37)","v":0},{"$f":"IF(L37>L38,L38,L37)","v":0},null,null,null,null,{"$f":"1","v":1},{"$f":"1","v":1},"=1"]
[null,null,null,null,null,null,null,null,null,null,null,{"$f":"IF(K39+J37+H37+I37>=100,0,L39)","v":0},null,null,null,null,{"$f":"1","v":1},{"$f":"1","v":1},"=1"]
[null,null,null,null,null,null,"Scores",{"$f":"IF(H34=0,0,0.01*(H37*H42))","v":0},{"$f":"IF(I34=0,0,0.01*(I39*I42))","v":0},{"$f":"IF(J34=0,0,0.01*(J39*J42))","v":0},{"$f":"IF(K34=0,0,0.01*(K39*K42))","v":0},{"$f":"IF(L34=0,0,0.01*(L40*L42))","v":0},null,null,null,null,{"$f":"1","v":1},{"$f":"1","v":1},"=1"]
[null,null,null,null,null,null,null,3,2.5,2,1.5,1,"Total",null,null,null,{"$f":"1","v":1},{"$f":"1","v":1},"=1"]
[null,null,"BÆREKONSTRUKSJON (2)",null,null,"Velg elementtype:",null,null,null,null,null,null,null,null,null,null,{"$f":"IF(freq1>=4,0,1)","v":1},{"$f":"IF($R$15=0,0,IF($G$22>=2,0,1))","v":0},"=1",null,{"$f":"IF(ISERROR(VLOOKUP(G43,$T$1249:$U$1250,2,FALSE)),\"\",VLOOKUP(G43,$T$1249:$U$1250,2,FALSE))","v":""}]
[null,null,null,{"$f":"IF(G53=\"\",\"\",IF(P54>=1,\"NB! Volum av nivåene kan ikke være større enn det totale volumet for hvert enkelt materiale!\",IF(AND(P53=TRUE,type1=2,G53>100),\"NB! Prosentandel for hvert nivå må registreres i prosent av det vurderte bygningselementet, og den totale prosentandelen kan ikke være større enn den totale prosent av hvert enkelt materiale!\",\"\")))","v":""},null,null,null,null,null,null,null,null,null,null,null,null,1,0,"=1"]
[null,null,{"$f":"IF(AND(G43=\"\",Volum=\"\"),\"\",IF(AND(U43=1,L53=\"\"),\"REGISTRER FØRST DET TOTALE VOLUMET  AV MATERIALER I CELLEN NEDERST TIL HØYRE\",IF(G45:G52=\"\",\"\",IF(G53>100,\"Mengden materialer kan ikke overstige det  totale volumet!\",IF(G53<80,\"Minst 80 % av de relevante materialer må vurderes\",\"\")))))","v":""},null,"Mat. 1",null,null,null,null,null,null,null,{"$f":"IF(N45=0,0,IF(P53=TRUE,\"0\",IF(SUM(H61+I61+J61+K61+L61)>=3,\"3\",SUM(H61+I61+J61+K61+L61))))","v":0},{"$f":"IF(AND(U43=1,L53=\"\"),0,IF(OR(NOT(D44=\"\"),NOT(C45=\"\")),0,IF(ISERROR(N54),\"0\",N54)))","v":0},null,{"$f":"IF(SUM(H45:L45)>G45,\"1\",\"0\")","v":"0"},1,0,"=1"]
[null,null,null,null,"Mat. 2",null,null,null,null,null,null,null,null,{"$f":"IF(OR(G53=\"\",G53=0,G53>100),\"\",IF(N54=0,\"\",IF(N54<80,\"Ingen poeng oppnådd,\nmindre enn 80 % oppfyller kravet\",C45)))","v":""},null,{"$f":"IF(SUM(H46:L46)>G46,\"1\",\"0\")","v":"0"},1,0,"=1"]
[null,null,null,null,"Mat. 3",null,null,null,null,null,null,null,null,null,null,"0",1,0,"=1"]
[null,null,null,null,"Mat. 4",null,null,null,null,null,null,null,null,null,null,"0",1,0,"=1"]
[null,null,null,null,"Mat. 5",null,null,null,null,null,null,null,null,null,null,"0",1,0,"=1"]
[null,null,null,null,"Mat. 6",null,null,null,null,null,null,null,null,null,null,"0",1,0,"=1"]
[null,null,null,null,"Mat. 7",null,null,null,null,null,null,null,null,null,null,"0",1,0,"=1"]
[null,null,null,null,"Mat. 8",null,null,null,null,null,null,null,null,null,null,"0",1,0,"=1"]
[null,null,null,"Totalt % av bygningselementet (relevante materialer) vurdert:",null,null,{"$f":"IF(U43=\"\",\"\",IF(U43+L53=1,\"\",IF(SUM(G45:G52)=0,\"\",IF(U43=1,IF(OR(G45>L53,G46>L53,G47>L53,G48>L53,G49>L53,G50>L53,G51>L53,G52>L53,SUM(G45:G52)>L53),ROUND(SUM(G45:G52)/L53,2)*100,((SUM(G45:G52)/L53)*100)),IF(U43=2,IF(OR(G45>100,G46>100,G47>100,G48>100,G49>100,G50>100,G51>100,G52>100,SUM(G45:G52)>100),SUM(G45:G52),SUM(G45:G52)))))))","v":""},"Totalt volum:",null,null,null,null,null,null,null,{"$f":"IF(OR(SUM(H45:L45)>G45,SUM(H46:L46)>G46,SUM(H47:L47)>G47,SUM(H48:L48)>G48,SUM(H49:L49)>G49,SUM(H50:L50)>G50,SUM(H51:L51)>G51,SUM(H52:L52)>G52),TRUE,FALSE)","v":false},1,0,"=1"]
[null,null,{"$f":"IF(G53=0,\"0\",IF(U43=2,\"0\",IF(U43=1,(G53/100)*100,IF(U43=2,(G53/100)*100))))","v":false},{"$f":"G53","v":""},null,"Total",{"$f":"IF(SUM(G45:G52)=0,\"1\",SUM(G45:G52))","v":"1"},{"$f":"SUM(H45:H52)","v":0},{"$f":"SUM(I45:I52)","v":0},{"$f":"SUM(J45:J52)","v":0},{"$f":"SUM(K45:K52)","v":0},{"$f":"SUM(L45:L52)","v":0},null,{"$f":"SUM(H55:L55)","v":0},{"$f":"IF(G53<80,\"0,00\",IF(P54>0,\"0\",IF(G53>100,\"0,00\",IF(N45>=80,M45,IF(N45<80,0)))))","v":"0,00"},{"$f":"P45+P46+P47+P48+P49+P50+P51+P52","v":0},{"$f":"1","v":1},{"$f":"1","v":1},"=1"]
[null,null,null,null,null,null,"Percentage",{"$f":"IF(H54+G54=0,\"0\",(H54/G54)*100)","v":0},{"$f":"IF(I54+G54=0,\"0\",(I54/G54)*100)","v":0},{"$f":"IF(J54+G54=0,\"0\",(J54/G54)*100)","v":0},{"$f":"IF(K54+G54=0,\"0\",(K54/G54)*100)","v":0},{"$f":"IF(L54+G54=0,\"0\",(L54/G54)*100)","v":0},null,100,null,null,{"$f":"1","v":1},{"$f":"1","v":1},"=1"]
[null,null,null,null,null,{"$f":"IF(U43=1,((G54/100)*80))","v":false},"% of 80",{"$f":"(H55/80)*100","v":0},{"$f":"(I55/80)*100","v":0},{"$f":"(J55/80)*100","v":0},{"$f":"(K55/80)*100","v":0},{"$f":"(L55/80)*100","v":0},null,null,null,null,{"$f":"1","v":1},{"$f":"1","v":1},"=1"]
[null,null,null,null,null,null,"Limiter",{"$f":"IF(H56>100,\"100\",H56)","v":0},{"$f":"IF(I56>100,\"100\",I56)","v":0},{"$f":"IF(J56>100,\"100\",J56)","v":0},{"$f":"IF(K56>100,\"100\",K56)","v":0},{"$f":"IF(L56>100,\"100\",L56)","v":0},null,null,null,null,{"$f":"1","v":1},{"$f":"1","v":1},"=1"]
[null,null,null,null,null,null,null,null,{"$f":"IF(H57+I57+J57+K57+L57=0,0,100-(H57))","v":0},{"$f":"IF(H57+I57+J57+K57+L57=0,0,100-(H57+I57))","v":0},{"$f":"IF(J57+I57+H57+K57+L57=0,0,100-(J57+I57+H57))","v":0},{"$f":"IF(K57+J57+I57+H57+L57=0,0,100-(H57+I57+K57+J57))","v":0},null,null,null,null,{"$f":"1","v":1},{"$f":"1","v":1},"=1"]
[null,null,null,null,null,null,null,null,{"$f":"IF(I57>I58,I58,I57)","v":0},{"$f":"IF(J57>J58,J58,J57)","v":0},{"$f":"IF(K57>K58,K58,K57)","v":0},{"$f":"IF(L57>L58,L58,L57)","v":0},null,null,null,null,{"$f":"1","v":1},{"$f":"1","v":1},"=1"]
[null,null,null,null,null,null,null,null,null,null,null,{"$f":"IF(K59+J57+H57+I57>=100,0,L59)","v":0},null,null,null,null,{"$f":"1","v":1},{"$f":"1","v":1},"=1"]
[null,null,null,null,null,null,"Scores",{"$f":"IF(H54=0,0,0.01*(H57*H62))","v":0},{"$f":"IF(I54=0,0,0.01*(I59*I62))","v":0},{"$f":"IF(J54=0,0,0.01*(J59*J62))","v":0},{"$f":"IF(K54=0,0,0.01*(K59*K62))","v":0},{"$f":"IF(L54=0,0,0.01*(L60*L62))","v":0},null,null,null,null,{"$f":"1","v":1},{"$f":"1","v":1},"=1"]
[null,null,null,null,null,null,null,3,2.5,2,1.5,1,"Total",null,null,null,{"$f":"1","v":1},{"$f":"1","v":1},"=1"]
[null,null,"BÆREKONSTRUKSJON (3)",null,null,"Velg elementtype:",null,null,null,null,null,null,null,null,null,null,{"$f":"IF(freq1>=5,0,1)","v":1},{"$f":"IF($R$15=0,0,IF($G$22>=3,0,1))","v":0},"=1",null,{"$f":"IF(ISERROR(VLOOKUP(G63,$T$1249:$U$1250,2,FALSE)),\"\",VLOOKUP(G63,$T$1249:$U$1250,2,FALSE))","v":""}]
[null,null,null,{"$f":"IF(G73=\"\",\"\",IF(P74>=1,\"NB! Volum av nivåene kan ikke være større enn det totale volumet for hvert enkelt materiale!\",IF(AND(P73=TRUE,type1=2,G73>100),\"NB! Prosentandel for hvert nivå må registreres i prosent av det vurderte bygningselementet, og den totale prosentandelen kan ikke være større enn den totale prosent av hvert enkelt materiale!\",\"\")))","v":""},null,null,null,null,null,null,null,null,null,null,null,null,1,0,"=1"]
[null,null,{"$f":"IF(AND(G63=\"\",Volum=\"\"),\"\",IF(AND(U63=1,L73=\"\"),\"REGISTRER FØRST DET TOTALE VOLUMET  AV MATERIALER I CELLEN NEDERST TIL HØYRE\",IF(G65:G72=\"\",\"\",IF(G73>100,\"Mengden materialer kan ikke overstige det  totale volumet!\",IF(G73<80,\"Minst 80 % av de relevante materialer må vurderes\",\"\")))))","v":""},null,"Mat. 1",null,null,null,null,null,null,null,{"$f":"IF(N65=0,0,IF(P73=TRUE,\"0\",IF(SUM(H81+I81+J81+K81+L81)>=3,\"3\",SUM(H81+I81+J81+K81+L81))))","v":0},{"$f":"IF(AND(U63=1,L73=\"\"),0,IF(OR(NOT(D64=\"\"),NOT(C65=\"\")),0,IF(ISERROR(N74),\"0\",N74)))","v":0},null,{"$f":"IF(SUM(H65:L65)>G65,\"1\",\"0\")","v":"0"},1,0,"=1"]
[null,null,null,null,"Mat. 2",null,null,null,null,null,null,null,null,{"$f":"IF(OR(G73=\"\",G73=0,G73>100),\"\",IF(N74=0,\"\",IF(N74<80,\"Ingen poeng oppnådd,\nmindre enn 80 % oppfyller kravet\",C65)))","v":""},null,{"$f":"IF(SUM(H66:L66)>G66,\"1\",\"0\")","v":"0"},1,0,"=1"]
[null,null,null,null,"Mat. 3",null,null,null,null,null,null,null,null,null,null,"0",1,0,"=1"]
[null,null,null,null,"Mat. 4",null,null,null,null,null,null,null,null,null,null,"0",1,0,"=1"]
[null,null,null,null,"Mat. 5",null,null,null,null,null,null,null,null,null,null,"0",1,0,"=1"]
[null,null,null,null,"Mat. 6",null,null,null,null,null,null,null,null,null,null,"0",1,0,"=1"]
[null,null,null,null,"Mat. 7",null,null,null,null,null,null,null,null,null,null,"0",1,0,"=1"]
[null,null,null,null,"Mat. 8",null,null,null,null,null,null,null,null,null,null,"0",1,0,"=1"]
[null,null,null,"Totalt % av bygningselementet (relevante materialer) vurdert:",null,null,{"$f":"IF(U63=\"\",\"\",IF(U63+L73=1,\"\",IF(SUM(G65:G72)=0,\"\",IF(U63=1,IF(OR(G65>L73,G66>L73,G67>L73,G68>L73,G69>L73,G70>L73,G71>L73,G72>L73,SUM(G65:G72)>L73),ROUND(SUM(G65:G72)/L73,2)*100,((SUM(G65:G72)/L73)*100)),IF(U63=2,IF(OR(G65>100,G66>100,G67>100,G68>100,G69>100,G70>100,G71>100,G72>100,SUM(G65:G72)>100),SUM(G65:G72),SUM(G65:G72)))))))","v":""},"Totalt volum:",null,null,null,null,null,null,null,{"$f":"IF(OR(H74>G74,K74>G74,L74>G74),TRUE,FALSE)","v":false},1,0,"=1"]
[null,null,{"$f":"IF(G73=0,\"0\",IF(U63=2,\"0\",IF(U63=1,(G73/100)*100,IF(U63=2,(G73/100)*100))))","v":false},{"$f":"G73","v":""},null,"Total",{"$f":"IF(SUM(G65:G72)=0,\"1\",SUM(G65:G72))","v":"1"},{"$f":"SUM(H65:H72)","v":0},{"$f":"SUM(I65:I72)","v":0},{"$f":"SUM(J65:J72)","v":0},{"$f":"SUM(K65:K72)","v":0},{"$f":"SUM(L65:L72)","v":0},null,{"$f":"SUM(H75:L75)","v":0},{"$f":"IF(G73<80,\"0,00\",IF(P74>0,\"0\",IF(G73>100,\"0,00\",IF(N65>=80,M65,IF(N65<80,0)))))","v":"0,00"},{"$f":"P65+P66+P67+P68+P69+P70+P71+P72","v":0},{"$f":"1","v":1},{"$f":"1","v":1},"=1"]
[null,null,null,null,null,null,"Percentage",{"$f":"IF(H74+G74=0,\"0\",(H74/G74)*100)","v":0},{"$f":"IF(I74+G74=0,\"0\",(I74/G74)*100)","v":0},{"$f":"IF(J74+G74=0,\"0\",(J74/G74)*100)","v":0},{"$f":"IF(K74+G74=0,\"0\",(K74/G74)*100)","v":0},{"$f":"IF(L74+G74=0,\"0\",(L74/G74)*100)","v":0},null,100,null,null,{"$f":"1","v":1},{"$f":"1","v":1},"=1"]
[null,null,null,null,null,{"$f":"IF(U63=1,((G74/100)*80))","v":false},"% of 80",{"$f":"(H75/80)*100","v":0},{"$f":"(I75/80)*100","v":0},{"$f":"(J75/80)*100","v":0},{"$f":"(K75/80)*100","v":0},{"$f":"(L75/80)*100","v":0},null,null,null,null,{"$f":"1","v":1},{"$f":"1","v":1},"=1"]
[null,null,null,null,null,null,"Limiter",{"$f":"IF(H76>100,\"100\",H76)","v":0},{"$f":"IF(I76>100,\"100\",I76)","v":0},{"$f":"IF(J76>100,\"100\",J76)","v":0},{"$f":"IF(K76>100,\"100\",K76)","v":0},{"$f":"IF(L76>100,\"100\",L76)","v":0},null,null,null,null,{"$f":"1","v":1},{"$f":"1","v":1},"=1"]
[null,null,null,null,null,null,null,null,{"$f":"IF(H77+I77+J77+K77+L77=0,0,100-(H77))","v":0},{"$f":"IF(H77+I77+J77+K77+L77=0,0,100-(H77+I77))","v":0},{"$f":"IF(J77+I77+H77+K77+L77=0,0,100-(J77+I77+H77))","v":0},{"$f":"IF(K77+J77+I77+H77+L77=0,0,100-(H77+I77+K77+J77))","v":0},null,null,null,null,{"$f":"1","v":1},{"$f":"1","v":1},"=1"]
[null,null,null,null,null,null,null,null,{"$f":"IF(I77>I78,I78,I77)","v":0},{"$f":"IF(J77>J78,J78,J77)","v":0},{"$f":"IF(K77>K78,K78,K77)","v":0},{"$f":"IF(L77>L78,L78,L77)","v":0},null,null,null,null,{"$f":"1","v":1},{"$f":"1","v":1},"=1"]
[null,null,null,null,null,null,null,null,null,null,null,{"$f":"IF(K79+J77+H77+I77>=100,0,L79)","v":0},null,null,null,null,{"$f":"1","v":1},{"$f":"1","v":1},"=1"]
[null,null,null,null,null,null,"Scores",{"$f":"IF(H74=0,0,0.01*(H77*H82))","v":0},{"$f":"IF(I74=0,0,0.01*(I79*I82))","v":0},{"$f":"IF(J74=0,0,0.01*(J79*J82))","v":0},{"$f":"IF(K74=0,0,0.01*(K79*K82))","v":0},{"$f":"IF(L74=0,0,0.01*(L80*L82))","v":0},null,null,null,null,{"$f":"1","v":1},{"$f":"1","v":1},"=1"]
[null,null,null,null,null,null,null,3,2.5,2,1.5,1,"Total",null,null,null,{"$f":"1","v":1},{"$f":"1","v":1},"=1"]
[null,null,"BÆREKONSTRUKSJON (4)",null,null,"Velg elementtype:",null,null,null,null,null,null,null,null,null,null,{"$f":"IF(freq1>=6,0,1)","v":1},{"$f":"IF($R$15=0,0,IF($G$22>=4,0,1))","v":0},"=1",null,{"$f":"IF(ISERROR(VLOOKUP(G83,$T$1249:$U$1250,2,FALSE)),\"\",VLOOKUP(G83,$T$1249:$U$1250,2,FALSE))","v":""}]
[null,null,null,{"$f":"IF(G93=\"\",\"\",IF(P94>=1,\"NB! Volum av nivåene kan ikke være større enn det totale volumet for hvert enkelt materiale!\",IF(AND(P93=TRUE,type1=2,G93>100),\"NB! Prosentandel for hvert nivå må registreres i prosent av det vurderte bygningselementet, og den totale prosentandelen kan ikke være større enn den totale prosent av hvert enkelt materiale!\",\"\")))","v":""},null,null,null,null,null,null,null,null,null,null,null,null,1,0,"=1"]
[null,null,{"$f":"IF(AND(G83=\"\",Volum=\"\"),\"\",IF(AND(U83=1,L93=\"\"),\"REGISTRER FØRST DET TOTALE VOLUMET  AV MATERIALER I CELLEN NEDERST TIL HØYRE\",IF(G85:G92=\"\",\"\",IF(G93>100,\"Mengden materialer kan ikke overstige det  totale volumet!\",IF(G93<80,\"Minst 80 % av de relevante materialer må vurderes\",\"\")))))","v":""},null,"Mat. 1",null,null,null,null,null,null,null,{"$f":"IF(N85=0,0,IF(P93=TRUE,\"0\",IF(SUM(H101+I101+J101+K101+L101)>=3,\"3\",SUM(H101+I101+J101+K101+L101))))","v":0},{"$f":"IF(AND(U83=1,L93=\"\"),0,IF(OR(NOT(D84=\"\"),NOT(C85=\"\")),0,IF(ISERROR(N94),\"0\",N94)))","v":0},null,{"$f":"IF(SUM(H85:L85)>G85,\"1\",\"0\")","v":"0"},1,0,"=1"]
[null,null,null,null,"Mat. 2",null,null,null,null,null,null,null,null,{"$f":"IF(OR(G93=\"\",G93=0,G93>100),\"\",IF(N94=0,\"\",IF(N94<80,\"Ingen poeng oppnådd,\nmindre enn 80 % oppfyller kravet\",C85)))","v":""},null,{"$f":"IF(SUM(H86:L86)>G86,\"1\",\"0\")","v":"0"},1,0,"=1"]
[null,null,null,null,"Mat. 3",null,null,null,null,null,null,null,null,null,null,"0",1,0,"=1"]
[null,null,null,null,"Mat. 4",null,null,null,null,null,null,null,null,null,null,"0",1,0,"=1"]
[null,null,null,null,"Mat. 5",null,null,null,null,null,null,null,null,null,null,"0",1,0,"=1"]
[null,null,null,null,"Mat. 6",null,null,null,null,null,null,null,null,null,null,"0",1,0,"=1"]
[null,null,null,null,"Mat. 7",null,null,null,null,null,null,null,null,null,null,"0",1,0,"=1"]
[null,null,null,null,"Mat. 8",null,null,null,null,null,null,null,null,null,null,"0",1,0,"=1"]
[null,null,null,"Totalt % av bygningselementet (relevante materialer) vurdert:",null,null,{"$f":"IF(U83=\"\",\"\",IF(U83+L93=1,\"\",IF(SUM(G85:G92)=0,\"\",IF(U83=1,IF(OR(G85>L93,G86>L93,G87>L93,G88>L93,G89>L93,G90>L93,G91>L93,G92>L93,SUM(G85:G92)>L93),ROUND(SUM(G85:G92)/L93,2)*100,((SUM(G85:G92)/L93)*100)),IF(U83=2,IF(OR(G85>100,G86>100,G87>100,G88>100,G89>100,G90>100,G91>100,G92>100,SUM(G85:G92)>100),SUM(G85:G92),SUM(G85:G92)))))))","v":""},"Totalt volum:",null,null,null,null,null,null,null,{"$f":"IF(OR(H94>G94,K94>G94,L94>G94),TRUE,FALSE)","v":false},{"$f":"IF(freq1>=6,0,1)","v":1},0,"=1"]
[null,null,{"$f":"IF(G93=0,\"0\",IF(U83=2,\"0\",IF(U83=1,(G93/100)*100,IF(U83=2,(G93/100)*100))))","v":false},{"$f":"G93","v":""},null,"Total",{"$f":"IF(SUM(G85:G92)=0,\"1\",SUM(G85:G92))","v":"1"},{"$f":"SUM(H85:H92)","v":0},{"$f":"SUM(I85:I92)","v":0},{"$f":"SUM(J85:J92)","v":0},{"$f":"SUM(K85:K92)","v":0},{"$f":"SUM(L85:L92)","v":0},null,{"$f":"SUM(H95:L95)","v":0},{"$f":"IF(G93<80,\"0,00\",IF(P94>0,\"0\",IF(G93>100,\"0,00\",IF(N85>=80,M85,IF(N85<80,0)))))","v":"0,00"},{"$f":"P85+P86+P87+P88+P89+P90+P91+P92","v":0},{"$f":"1","v":1},{"$f":"1","v":1},"=1"]
[null,null,null,null,null,null,"Percentage",{"$f":"IF(H94+G94=0,\"0\",(H94/G94)*100)","v":0},{"$f":"IF(I94+G94=0,\"0\",(I94/G94)*100)","v":0},{"$f":"IF(J94+G94=0,\"0\",(J94/G94)*100)","v":0},{"$f":"IF(K94+G94=0,\"0\",(K94/G94)*100)","v":0},{"$f":"IF(L94+G94=0,\"0\",(L94/G94)*100)","v":0},null,100,null,null,{"$f":"1","v":1},{"$f":"1","v":1},"=1"]
[null,null,null,null,null,{"$f":"IF(U83=1,((G94/100)*80))","v":false},"% of 80",{"$f":"(H95/80)*100","v":0},{"$f":"(I95/80)*100","v":0},{"$f":"(J95/80)*100","v":0},{"$f":"(K95/80)*100","v":0},{"$f":"(L95/80)*100","v":0},null,null,null,null,{"$f":"1","v":1},{"$f":"1","v":1},"=1"]
[null,null,null,null,null,null,"Limiter",{"$f":"IF(H96>100,\"100\",H96)","v":0},{"$f":"IF(I96>100,\"100\",I96)","v":0},{"$f":"IF(J96>100,\"100\",J96)","v":0},{"$f":"IF(K96>100,\"100\",K96)","v":0},{"$f":"IF(L96>100,\"100\",L96)","v":0},null,null,null,null,{"$f":"1","v":1},{"$f":"1","v":1},"=1"]
[null,null,null,null,null,null,null,null,{"$f":"IF(H97+I97+J97+K97+L97=0,0,100-(H97))","v":0},{"$f":"IF(H97+I97+J97+K97+L97=0,0,100-(H97+I97))","v":0},{"$f":"IF(J97+I97+H97+K97+L97=0,0,100-(J97+I97+H97))","v":0},{"$f":"IF(K97+J97+I97+H97+L97=0,0,100-(H97+I97+K97+J97))","v":0},null,null,null,null,{"$f":"1","v":1},{"$f":"1","v":1},"=1"]
[null,null,null,null,null,null,null,null,{"$f":"IF(I97>I98,I98,I97)","v":0},{"$f":"IF(J97>J98,J98,J97)","v":0},{"$f":"IF(K97>K98,K98,K97)","v":0},{"$f":"IF(L97>L98,L98,L97)","v":0},null,null,null,null,{"$f":"1","v":1},{"$f":"1","v":1},"=1"]
[null,null,null,null,null,null,null,null,null,null,null,{"$f":"IF(K99+J97+H97+I97>=100,0,L99)","v":0},null,null,null,null,{"$f":"1","v":1},{"$f":"1","v":1},"=1"]
[null,null,null,null,null,null,"Scores",{"$f":"IF(H94=0,0,0.01*(H97*H102))","v":0},{"$f":"IF(I94=0,0,0.01*(I99*I102))","v":0},{"$f":"IF(J94=0,0,0.01*(J99*J102))","v":0},{"$f":"IF(K94=0,0,0.01*(K99*K102))","v":0},{"$f":"IF(L94=0,0,0.01*(L100*L102))","v":0},null,null,null,null,{"$f":"1","v":1},{"$f":"1","v":1},"=1"]
[null,null,null,null,null,null,null,3,2.5,2,1.5,1,"Total",null,null,null,{"$f":"1","v":1},{"$f":"1","v":1},"=1"]
[null,null,"GULV PÅ GRUNN",null,null,"Velg antall gulv på grunn du ønsker å vurdere (deretter trykk «velg»):",null,null,null,null,null,null,null,null,{"$f":"IF(ISERROR(O115+O135+O155+O175)/V104,\"\",(O115+O135+O155+O175)/V104)","v":0},null,{"$f":"0","v":0},{"$f":"IF($R$15=0,0,IF($G$103>=1,0,1))","v":0},"=HVIS(asstype=2;0;1)",{"$f":"VLOOKUP(G103,$T$1242:$U$1246,2,FALSE)","v":2}]
[null,null,"GULV PÅ GRUNN (1)",null,null,"Velg elementtype:",null,null,null,null,null,null,null,null,null,null,{"$f":"IF(freq2>=3,0,1)","v":1},0,"=HVIS(asstype=2;0;1)",null,{"$f":"IF(ISERROR(VLOOKUP(G104,$T$1249:$U$1250,2,FALSE)),\"\",VLOOKUP(G104,$T$1249:$U$1250,2,FALSE))","v":""},{"$f":"IF(freq2=3,1,IF(freq2=4,2,IF(freq2=5,3,IF(freq2=6,4,1))))","v":1}]
[null,null,null,{"$f":"IF(G114=\"\",\"\",IF(P115>=1,\"NB! Volum av nivåene kan ikke være større enn det totale volumet for hvert enkelt materiale!\",IF(AND(P114=TRUE,type1=2,G114>100),\"NB! Prosentandel for hvert nivå må registreres i prosent av det vurderte bygningselementet, og den totale prosentandelen kan ikke være større enn den totale prosent av hvert enkelt materiale!\",\"\")))","v":""},null,null,null,null,null,null,null,null,null,null,null,null,{"$f":"IF(freq2>=3,0,1)","v":1},0,"=HVIS(asstype=2;0;1)"]
[null,null,{"$f":"IF(AND(G103=\"\",Volum=\"\"),\"\",IF(AND(U104=1,L114=\"\"),\"REGISTRER FØRST DET TOTALE VOLUMET  AV MATERIALER I CELLEN NEDERST TIL HØYRE\",IF(G106:G113=\"\",\"\",IF(G114>100,\"Mengden materialer kan ikke overstige det  totale volumet!\",IF(G114<80,\"Minst 80 % av de relevante materialer må vurderes\",\"\")))))","v":""},null,"Mat. 1",null,null,null,null,null,null,null,{"$f":"IF(N106=0,0,IF(P114=TRUE,\"0\",IF(SUM(H122+I122+J122+K122+L122)>=3,\"3\",SUM(H122+I122+J122+K122+L122))))","v":0},{"$f":"IF(AND(U104=1,L114=\"\"),0,IF(OR(NOT(D105=\"\"),NOT(C106=\"\")),0,IF(ISERROR(N115),\"0\",N115)))","v":0},null,{"$f":"IF(SUM(H106:L106)>G106,\"1\",\"0\")","v":"0"},{"$f":"IF(freq2>=3,0,1)","v":1},0,"=HVIS(asstype=2;0;1)"]
[null,null,null,null,"Mat. 2",null,null,null,null,null,null,null,null,{"$f":"IF(OR(G114=\"\",G114=0,G114>100),\"\",IF(N115=0,\"\",IF(N115<80,\"Ingen poeng oppnådd,\nmindre enn 80 % oppfyller kravet\",C106)))","v":""},null,{"$f":"IF(SUM(H107:L107)>G107,\"1\",\"0\")","v":"0"},{"$f":"IF(freq2>=3,0,1)","v":1},0,"=HVIS(asstype=2;0;1)"]
[null,null,null,null,"Mat. 3",null,null,null,null,null,null,null,null,null,null,{"$f":"IF(SUM(H108:L108)>G108,\"1\",\"0\")","v":"0"},{"$f":"IF(freq2>=3,0,1)","v":1},0,"=HVIS(asstype=2;0;1)"]
[null,null,null,null,"Mat. 4",null,null,null,null,null,null,null,null,null,null,"0",1,0,"=HVIS(asstype=2;0;1)"]
[null,null,null,null,"Mat. 5",null,null,null,null,null,null,null,null,null,null,"0",1,0,"=HVIS(asstype=2;0;1)"]
[null,null,null,null,"Mat. 6",null,null,null,null,null,null,null,null,null,null,"0",1,0,"=HVIS(asstype=2;0;1)"]
[null,null,null,null,"Mat. 7",null,null,null,null,null,null,null,null,null,null,"0",1,0,"=HVIS(asstype=2;0;1)"]
[null,null,null,null,"Mat. 8",null,null,null,null,null,null,null,null,null,null,"0",1,0,"=HVIS(asstype=2;0;1)"]
[null,null,null,"Totalt % av bygningselementet (relevante materialer) vurdert:",null,null,{"$f":"IF(U104=\"\",\"\",IF(U104+L114=1,\"\",IF(SUM(G106:G113)=0,\"\",IF(U104=1,IF(OR(G106>L114,G107>L114,G108>L114,G109>L114,G110>L114,G111>L114,G112>L114,G113>L114,SUM(G106:G113)>L114),ROUND(SUM(G106:G113)/L114,2)*100,((SUM(G106:G113)/L114)*100)),IF(U104=2,IF(OR(G106>100,G107>100,G108>100,G109>100,G110>100,G111>100,G112>100,G113>100,SUM(G106:G113)>100),SUM(G106:G113),SUM(G106:G113)))))))","v":""},"Totalt volum:",null,null,null,null,null,null,null,{"$f":"IF(OR(H115>G115,K115>G115,L115>G115),TRUE,FALSE)","v":false},1,0,"=HVIS(asstype=2;0;1)"]
[null,null,{"$f":"IF(G114=0,\"0\",IF(U107=2,\"0\",IF(U107=1,(G114/100)*100,IF(U107=2,(G114/100)*100))))","v":false},{"$f":"G114","v":""},null,"Total",{"$f":"IF(SUM(G106:G113)=0,\"1\",SUM(G106:G113))","v":"1"},{"$f":"SUM(H106:H113)","v":0},{"$f":"SUM(I106:I113)","v":0},{"$f":"SUM(J106:J113)","v":0},{"$f":"SUM(K106:K113)","v":0},{"$f":"SUM(L106:L113)","v":0},null,{"$f":"SUM(H116:L116)","v":0},{"$f":"IF(G114<80,\"0,00\",IF(P115>0,\"0\",IF(G114>100,\"0,00\",IF(N106>=80,M106,IF(N106<80,0)))))","v":"0,00"},{"$f":"P106+P107+P108+P109+P110+P111+P112+P113","v":0},{"$f":"1","v":1},{"$f":"1","v":1},"=1"]
[null,null,null,null,null,null,"Percentage",{"$f":"IF(H115+G115=0,\"0\",(H115/G115)*100)","v":0},{"$f":"IF(I115+G115=0,\"0\",(I115/G115)*100)","v":0},{"$f":"IF(J115+G115=0,\"0\",(J115/G115)*100)","v":0},{"$f":"IF(K115+G115=0,\"0\",(K115/G115)*100)","v":0},{"$f":"IF(L115+G115=0,\"0\",(L115/G115)*100)","v":0},null,100,null,null,{"$f":"1","v":1},{"$f":"1","v":1},"=1"]
[null,null,null,null,null,{"$f":"IF(U107=1,((G115/100)*80))","v":false},"% of 80",{"$f":"(H116/80)*100","v":0},{"$f":"(I116/80)*100","v":0},{"$f":"(J116/80)*100","v":0},{"$f":"(K116/80)*100","v":0},{"$f":"(L116/80)*100","v":0},null,null,null,null,{"$f":"1","v":1},{"$f":"1","v":1},"=1"]
[null,null,null,null,null,null,"Limiter",{"$f":"IF(H117>100,\"100\",H117)","v":0},{"$f":"IF(I117>100,\"100\",I117)","v":0},{"$f":"IF(J117>100,\"100\",J117)","v":0},{"$f":"IF(K117>100,\"100\",K117)","v":0},{"$f":"IF(L117>100,\"100\",L117)","v":0},null,null,null,null,{"$f":"1","v":1},{"$f":"1","v":1},"=1"]
[null,null,null,null,null,null,null,null,{"$f":"IF(H118+I118+J118+K118+L118=0,0,100-(H118))","v":0},{"$f":"IF(H118+I118+J118+K118+L118=0,0,100-(H118+I118))","v":0},{"$f":"IF(J118+I118+H118+K118+L118=0,0,100-(J118+I118+H118))","v":0},{"$f":"IF(K118+J118+I118+H118+L118=0,0,100-(H118+I118+K118+J118))","v":0},null,null,null,null,{"$f":"1","v":1},{"$f":"1","v":1},"=1"]
[null,null,null,null,null,null,null,null,{"$f":"IF(I118>I119,I119,I118)","v":0},{"$f":"IF(J118>J119,J119,J118)","v":0},{"$f":"IF(K118>K119,K119,K118)","v":0},{"$f":"IF(L118>L119,L119,L118)","v":0},null,null,null,null,{"$f":"1","v":1},{"$f":"1","v":1},"=1"]
[null,null,null,null,null,null,null,null,null,null,null,{"$f":"IF(K120+J118+H118+I118>=100,0,L120)","v":0},null,null,null,null,{"$f":"1","v":1},{"$f":"1","v":1},"=1"]
[null,null,null,null,null,null,"Scores",{"$f":"IF(H115=0,0,0.01*(H118*H123))","v":0},{"$f":"IF(I115=0,0,0.01*(I120*I123))","v":0},{"$f":"IF(J115=0,0,0.01*(J120*J123))","v":0},{"$f":"IF(K115=0,0,0.01*(K120*K123))","v":0},{"$f":"IF(L115=0,0,0.01*(L121*L123))","v":0},null,null,null,null,{"$f":"1","v":1},{"$f":"1","v":1},"=1"]
[null,null,null,null,null,null,null,3,2.5,2,1.5,1,"Total",null,null,null,{"$f":"1","v":1},{"$f":"1","v":1},"=1"]
[null,null,"GULV PÅ GRUNN (2)",null,null,"Velg elementtype:",null,null,null,null,null,null,null,null,null,null,{"$f":"IF(freq2>=4,0,1)","v":1},{"$f":"IF($R$15=0,0,IF($G$103>=2,0,1))","v":0},"=1",null,{"$f":"IF(ISERROR(VLOOKUP(G124,$T$1249:$U$1250,2,FALSE)),\"\",VLOOKUP(G124,$T$1249:$U$1250,2,FALSE))","v":""}]
[null,null,null,{"$f":"IF(G134=\"\",\"\",IF(P135>=1,\"NB! Volum av nivåene kan ikke være større enn det totale volumet for hvert enkelt materiale!\",IF(AND(P134=TRUE,type1=2,G134>100),\"NB! Prosentandel for hvert nivå må registreres i prosent av det vurderte bygningselementet, og den totale prosentandelen kan ikke være større enn den totale prosent av hvert enkelt materiale!\",\"\")))","v":""},null,null,null,null,null,null,null,null,null,null,null,null,1,0,"=1"]
[null,null,{"$f":"IF(AND(G124=\"\",Volum=\"\"),\"\",IF(AND(U124=1,L134=\"\"),\"REGISTRER FØRST DET TOTALE VOLUMET  AV MATERIALER I CELLEN NEDERST TIL HØYRE\",IF(G126:G133=\"\",\"\",IF(G134>100,\"Mengden materialer kan ikke overstige det  totale volumet!\",IF(G134<80,\"Minst 80 % av de relevante materialer må vurderes\",\"\")))))","v":""},null,"Mat. 1",null,null,null,null,null,null,null,{"$f":"IF(N126=0,0,IF(P134=TRUE,\"0\",IF(SUM(H142+I142+J142+K142+L142)>=3,\"3\",SUM(H142+I142+J142+K142+L142))))","v":0},{"$f":"IF(AND(U124=1,L134=\"\"),0,IF(OR(NOT(D125=\"\"),NOT(C126=\"\")),0,IF(ISERROR(N135),\"0\",N135)))","v":0},null,{"$f":"IF(SUM(H126:L126)>G126,\"1\",\"0\")","v":"0"},1,0,"=1"]
[null,null,null,null,"Mat. 2",null,null,null,null,null,null,null,null,{"$f":"IF(OR(G134=\"\",G134=0,G134>100),\"\",IF(N135=0,\"\",IF(N135<80,\"Ingen poeng oppnådd,\nmindre enn 80 % oppfyller kravet\",C126)))","v":""},null,{"$f":"IF(SUM(H127:L127)>G127,\"1\",\"0\")","v":"0"},1,0,"=1"]
[null,null,null,null,"Mat. 3",null,null,null,null,null,null,null,null,null,null,"0",1,0,"=1"]
[null,null,null,null,"Mat. 4",null,null,null,null,null,null,null,null,null,null,"0",1,0,"=1"]
[null,null,null,null,"Mat. 5",null,null,null,null,null,null,null,null,null,null,"0",{"$f":"IF(freq2>=4,0,1)","v":1},0,"=1"]
[null,null,null,null,"Mat. 6",null,null,null,null,null,null,null,null,null,null,"0",{"$f":"IF(freq2>=4,0,1)","v":1},0,"=1"]
[null,null,null,null,"Mat. 7",null,null,null,null,null,null,null,null,null,null,"0",{"$f":"IF(freq2>=4,0,1)","v":1},0,"=1"]
[null,null,null,null,"Mat. 8",null,null,null,null,null,null,null,null,null,null,"0",{"$f":"IF(freq2>=4,0,1)","v":1},0,"=1"]
[null,null,null,"Totalt % av bygningselementet (relevante materialer) vurdert:",null,null,{"$f":"IF(U124=\"\",\"\",IF(U124+L134=1,\"\",IF(SUM(G126:G133)=0,\"\",IF(U124=1,IF(OR(G126>L134,G127>L134,G128>L134,G129>L134,G130>L134,G131>L134,G132>L134,G133>L134,SUM(G126:G133)>L134),ROUND(SUM(G126:G133)/L134,2)*100,((SUM(G126:G133)/L134)*100)),IF(U124=2,IF(OR(G126>100,G127>100,G128>100,G129>100,G130>100,G131>100,G132>100,G133>100,SUM(G126:G133)>100),SUM(G126:G133),SUM(G126:G133)))))))","v":""},"Totalt volum:",null,null,null,60,null,null,null,{"$f":"IF(OR(H135>G135,K135>G135,L135>G135),TRUE,FALSE)","v":false},{"$f":"IF(freq2>=4,0,1)","v":1},0,"=1"]
[null,null,{"$f":"IF(G134=0,\"0\",IF(U124=2,\"0\",IF(U124=1,(G134/100)*100,IF(U124=2,(G134/100)*100))))","v":false},{"$f":"G134","v":""},null,"Total",{"$f":"IF(SUM(G126:G133)=0,\"1\",SUM(G126:G133))","v":"1"},{"$f":"SUM(H126:H133)","v":0},{"$f":"SUM(I126:I133)","v":0},{"$f":"SUM(J126:J133)","v":0},{"$f":"SUM(K126:K133)","v":0},{"$f":"SUM(L126:L133)","v":0},null,{"$f":"SUM(H136:L136)","v":0},{"$f":"IF(G134<80,\"0,00\",IF(P135>0,\"0\",IF(G134>100,\"0,00\",IF(N126>=80,M126,IF(N126<80,0)))))","v":"0,00"},{"$f":"P126+P127+P128+P129+P130+P131+P132+P133","v":0},{"$f":"1","v":1},{"$f":"1","v":1},"=1"]
[null,null,null,null,null,null,"Percentage",{"$f":"IF(H135+G135=0,\"0\",(H135/G135)*100)","v":0},{"$f":"IF(I135+G135=0,\"0\",(I135/G135)*100)","v":0},{"$f":"IF(J135+G135=0,\"0\",(J135/G135)*100)","v":0},{"$f":"IF(K135+G135=0,\"0\",(K135/G135)*100)","v":0},{"$f":"IF(L135+G135=0,\"0\",(L135/G135)*100)","v":0},null,100,null,null,{"$f":"1","v":1},{"$f":"1","v":1},"=1"]
[null,null,null,null,null,{"$f":"IF(U124=1,((G135/100)*80))","v":false},"% of 80",{"$f":"(H136/80)*100","v":0},{"$f":"(I136/80)*100","v":0},{"$f":"(J136/80)*100","v":0},{"$f":"(K136/80)*100","v":0},{"$f":"(L136/80)*100","v":0},null,null,null,null,{"$f":"1","v":1},{"$f":"1","v":1},"=1"]
[null,null,null,null,null,null,"Limiter",{"$f":"IF(H137>100,\"100\",H137)","v":0},{"$f":"IF(I137>100,\"100\",I137)","v":0},{"$f":"IF(J137>100,\"100\",J137)","v":0},{"$f":"IF(K137>100,\"100\",K137)","v":0},{"$f":"IF(L137>100,\"100\",L137)","v":0},null,null,null,null,{"$f":"1","v":1},{"$f":"1","v":1},"=1"]
[null,null,null,null,null,null,null,null,{"$f":"IF(H138+I138+J138+K138+L138=0,0,100-(H138))","v":0},{"$f":"IF(H138+I138+J138+K138+L138=0,0,100-(H138+I138))","v":0},{"$f":"IF(J138+I138+H138+K138+L138=0,0,100-(J138+I138+H138))","v":0},{"$f":"IF(K138+J138+I138+H138+L138=0,0,100-(H138+I138+K138+J138))","v":0},null,null,null,null,{"$f":"1","v":1},{"$f":"1","v":1},"=1"]
[null,null,null,null,null,null,null,null,{"$f":"IF(I138>I139,I139,I138)","v":0},{"$f":"IF(J138>J139,J139,J138)","v":0},{"$f":"IF(K138>K139,K139,K138)","v":0},{"$f":"IF(L138>L139,L139,L138)","v":0},null,null,null,null,{"$f":"1","v":1},{"$f":"1","v":1},"=1"]
[null,null,null,null,null,null,null,null,null,null,null,{"$f":"IF(K140+J138+H138+I138>=100,0,L140)","v":0},null,null,null,null,{"$f":"1","v":1},{"$f":"1","v":1},"=1"]
[null,null,null,null,null,null,"Scores",{"$f":"IF(H135=0,0,0.01*(H138*H143))","v":0},{"$f":"IF(I135=0,0,0.01*(I140*I143))","v":0},{"$f":"IF(J135=0,0,0.01*(J140*J143))","v":0},{"$f":"IF(K135=0,0,0.01*(K140*K143))","v":0},{"$f":"IF(L135=0,0,0.01*(L141*L143))","v":0},null,null,null,null,{"$f":"1","v":1},{"$f":"1","v":1},"=1"]
[null,null,null,null,null,null,null,3,2.5,2,1.5,1,"Total",null,null,null,{"$f":"1","v":1},{"$f":"1","v":1},"=1"]
[null,null,"GULV PÅ GRUNN (3)",null,null,"Velg elementtype:",null,null,null,null,null,null,null,null,null,null,{"$f":"IF(freq2>=5,0,1)","v":1},{"$f":"IF($R$15=0,0,IF($G$103>=3,0,1))","v":0},"=1",null,{"$f":"IF(ISERROR(VLOOKUP(G144,$T$1249:$U$1250,2,FALSE)),\"\",VLOOKUP(G144,$T$1249:$U$1250,2,FALSE))","v":""}]
[null,null,null,{"$f":"IF(G154=\"\",\"\",IF(P155>=1,\"NB! Volum av nivåene kan ikke være større enn det totale volumet for hvert enkelt materiale!\",IF(AND(P154=TRUE,type1=2,G154>100),\"NB! Prosentandel for hvert nivå må registreres i prosent av det vurderte bygningselementet, og den totale prosentandelen kan ikke være større enn den totale prosent av hvert enkelt materiale!\",\"\")))","v":""},null,null,null,null,null,null,null,null,null,null,null,null,1,0,"=1"]
[null,null,{"$f":"IF(AND(G144=\"\",Volum=\"\"),\"\",IF(AND(U144=1,L154=\"\"),\"REGISTRER FØRST DET TOTALE VOLUMET  AV MATERIALER I CELLEN NEDERST TIL HØYRE\",IF(G146:G153=\"\",\"\",IF(G154>100,\"Mengden materialer kan ikke overstige det  totale volumet!\",IF(G154<80,\"Minst 80 % av de relevante materialer må vurderes\",\"\")))))","v":""},null,"Mat. 1",null,null,null,null,null,null,null,{"$f":"IF(N146=0,0,IF(P154=TRUE,\"0\",IF(SUM(H162+I162+J162+K162+L162)>=3,\"3\",SUM(H162+I162+J162+K162+L162))))","v":0},{"$f":"IF(AND(U144=1,L154=\"\"),0,IF(OR(NOT(D145=\"\"),NOT(C146=\"\")),0,IF(ISERROR(N155),\"0\",N155)))","v":0},null,{"$f":"IF(SUM(H146:L146)>G146,\"1\",\"0\")","v":"0"},1,0,"=1"]
[null,null,null,null,"Mat. 2",null,null,null,null,null,null,null,null,{"$f":"IF(OR(G154=\"\",G154=0,G154>100),\"\",IF(N155=0,\"\",IF(N155<80,\"Ingen poeng oppnådd,\nmindre enn 80 % oppfyller kravet\",C146)))","v":""},null,{"$f":"IF(SUM(H147:L147)>G147,\"1\",\"0\")","v":"0"},1,0,"=1"]
[null,null,null,null,"Mat. 3",null,null,null,null,null,null,null,null,null,null,"0",1,0,"=1"]
[null,null,null,null,"Mat. 4",null,null,null,null,null,null,null,null,null,null,"0",1,0,"=1"]
[null,null,null,null,"Mat. 5",null,null,null,null,null,null,null,null,null,null,"0",1,0,"=1"]
[null,null,null,null,"Mat. 6",null,null,null,null,null,null,null,null,null,null,"0",1,0,"=1"]
[null,null,null,null,"Mat. 7",null,null,null,null,null,null,null,null,null,null,"0",{"$f":"IF(freq2>=5,0,1)","v":1},0,"=1"]
[null,null,null,null,"Mat. 8",null,null,null,null,null,null,null,null,null,null,"0",{"$f":"IF(freq2>=5,0,1)","v":1},0,"=1"]
[null,null,null,"Totalt % av bygningselementet (relevante materialer) vurdert:",null,null,{"$f":"IF(U144=\"\",\"\",IF(U144+L154=1,\"\",IF(SUM(G146:G153)=0,\"\",IF(U144=1,IF(OR(G146>L154,G147>L154,G148>L154,G149>L154,G150>L154,G151>L154,G152>L154,G153>L154,SUM(G146:G153)>L154),ROUND(SUM(G146:G153)/L154,2)*100,((SUM(G146:G153)/L154)*100)),IF(U144=2,IF(OR(G146>100,G147>100,G148>100,G149>100,G150>100,G151>100,G152>100,G153>100,SUM(G146:G153)>100),SUM(G146:G153),SUM(G146:G153)))))))","v":""},"Totalt volum:",null,null,null,200,null,null,null,{"$f":"IF(OR(H155>G155,K155>G155,L155>G155),TRUE,FALSE)","v":false},{"$f":"IF(freq2>=5,0,1)","v":1},0,"=1"]
[null,null,{"$f":"IF(G154=0,\"0\",IF(U144=2,\"0\",IF(U144=1,(G154/100)*100,IF(U144=2,(G154/100)*100))))","v":false},{"$f":"G154","v":""},null,"Total",{"$f":"IF(SUM(G146:G153)=0,\"1\",SUM(G146:G153))","v":"1"},{"$f":"SUM(H146:H153)","v":0},{"$f":"SUM(I146:I153)","v":0},{"$f":"SUM(J146:J153)","v":0},{"$f":"SUM(K146:K153)","v":0},{"$f":"SUM(L146:L153)","v":0},null,{"$f":"SUM(H156:L156)","v":0},{"$f":"IF(G154<80,\"0,00\",IF(P155>0,\"0\",IF(G154>100,\"0,00\",IF(N146>=80,M146,IF(N146<80,0)))))","v":"0,00"},{"$f":"P146+P147+P148+P149+P150+P151+P152+P153","v":0},{"$f":"1","v":1},{"$f":"1","v":1},"=1"]
[null,null,null,null,null,null,"Percentage",{"$f":"IF(H155+G155=0,\"0\",(H155/G155)*100)","v":0},{"$f":"IF(I155+G155=0,\"0\",(I155/G155)*100)","v":0},{"$f":"IF(J155+G155=0,\"0\",(J155/G155)*100)","v":0},{"$f":"IF(K155+G155=0,\"0\",(K155/G155)*100)","v":0},{"$f":"IF(L155+G155=0,\"0\",(L155/G155)*100)","v":0},null,100,null,null,{"$f":"1","v":1},{"$f":"1","v":1},"=1"]
[null,null,null,null,null,{"$f":"IF(U144=1,((G155/100)*80))","v":false},"% of 80",{"$f":"(H156/80)*100","v":0},{"$f":"(I156/80)*100","v":0},{"$f":"(J156/80)*100","v":0},{"$f":"(K156/80)*100","v":0},{"$f":"(L156/80)*100","v":0},null,null,null,null,{"$f":"1","v":1},{"$f":"1","v":1},"=1"]
[null,null,null,null,null,null,"Limiter",{"$f":"IF(H157>100,\"100\",H157)","v":0},{"$f":"IF(I157>100,\"100\",I157)","v":0},{"$f":"IF(J157>100,\"100\",J157)","v":0},{"$f":"IF(K157>100,\"100\",K157)","v":0},{"$f":"IF(L157>100,\"100\",L157)","v":0},null,null,null,null,{"$f":"1","v":1},{"$f":"1","v":1},"=1"]
[null,null,null,null,null,null,null,null,{"$f":"IF(H158+I158+J158+K158+L158=0,0,100-(H158))","v":0},{"$f":"IF(H158+I158+J158+K158+L158=0,0,100-(H158+I158))","v":0},{"$f":"IF(J158+I158+H158+K158+L158=0,0,100-(J158+I158+H158))","v":0},{"$f":"IF(K158+J158+I158+H158+L158=0,0,100-(H158+I158+K158+J158))","v":0},null,null,null,null,{"$f":"1","v":1},{"$f":"1","v":1},"=1"]
[null,null,null,null,null,null,null,null,{"$f":"IF(I158>I159,I159,I158)","v":0},{"$f":"IF(J158>J159,J159,J158)","v":0},{"$f":"IF(K158>K159,K159,K158)","v":0},{"$f":"IF(L158>L159,L159,L158)","v":0},null,null,null,null,{"$f":"1","v":1},{"$f":"1","v":1},"=1"]
[null,null,null,null,null,null,null,null,null,null,null,{"$f":"IF(K160+J158+H158+I158>=100,0,L160)","v":0},null,null,null,null,{"$f":"1","v":1},{"$f":"1","v":1},"=1"]
[null,null,null,null,null,null,"Scores",{"$f":"IF(H155=0,0,0.01*(H158*H163))","v":0},{"$f":"IF(I155=0,0,0.01*(I160*I163))","v":0},{"$f":"IF(J155=0,0,0.01*(J160*J163))","v":0},{"$f":"IF(K155=0,0,0.01*(K160*K163))","v":0},{"$f":"IF(L155=0,0,0.01*(L161*L163))","v":0},null,null,null,null,{"$f":"1","v":1},{"$f":"1","v":1},"=1"]
[null,null,null,null,null,null,null,3,2.5,2,1.5,1,"Total",null,null,null,{"$f":"1","v":1},{"$f":"1","v":1},"=1"]
[null,null,"GULV PÅ GRUNN (4)",null,null,"Velg elementtype:",null,null,null,null,null,null,null,null,null,null,{"$f":"IF(freq2>=6,0,1)","v":1},{"$f":"IF($R$15=0,0,IF($G$103>=4,0,1))","v":0},"=1",null,{"$f":"IF(ISERROR(VLOOKUP(G164,$T$1249:$U$1250,2,FALSE)),\"\",VLOOKUP(G164,$T$1249:$U$1250,2,FALSE))","v":""}]
[null,null,null,{"$f":"IF(G174=\"\",\"\",IF(P175>=1,\"NB! Volum av nivåene kan ikke være større enn det totale volumet for hvert enkelt materiale!\",IF(AND(P174=TRUE,type1=2,G174>100),\"NB! Prosentandel for hvert nivå må registreres i prosent av det vurderte bygningselementet, og den totale prosentandelen kan ikke være større enn den totale prosent av hvert enkelt materiale!\",\"\")))","v":""},null,null,null,null,null,null,null,null,null,null,null,null,1,0,"=1"]
[null,null,{"$f":"IF(AND(G164=\"\",Volum=\"\"),\"\",IF(AND(U164=1,L174=\"\"),\"REGISTRER FØRST DET TOTALE VOLUMET  AV MATERIALER I CELLEN NEDERST TIL HØYRE\",IF(G166:G173=\"\",\"\",IF(G174>100,\"Mengden materialer kan ikke overstige det  totale volumet!\",IF(G174<80,\"Minst 80 % av de relevante materialer må vurderes\",\"\")))))","v":""},null,"Mat. 1",null,null,null,null,null,null,null,{"$f":"IF(N166=0,0,IF(P174=TRUE,\"0\",IF(SUM(H182+I182+J182+K182+L182)>=3,\"3\",SUM(H182+I182+J182+K182+L182))))","v":0},{"$f":"IF(AND(U164=1,L174=\"\"),0,IF(OR(NOT(D165=\"\"),NOT(C166=\"\")),0,IF(ISERROR(N175),\"0\",N175)))","v":0},null,{"$f":"IF(SUM(H166:L166)>G166,\"1\",\"0\")","v":"0"},1,0,"=1"]
[null,null,null,null,"Mat. 2",null,null,null,null,null,null,null,null,{"$f":"IF(OR(G174=\"\",G174=0,G174>100),\"\",IF(N175=0,\"\",IF(N175<80,\"Ingen poeng oppnådd,\nmindre enn 80 % oppfyller kravet\",C166)))","v":""},null,{"$f":"IF(SUM(H167:L167)>G167,\"1\",\"0\")","v":"0"},1,0,"=1"]
[null,null,null,null,"Mat. 3",null,null,null,null,null,null,null,null,null,null,"0",1,0,"=1"]
[null,null,null,null,"Mat. 4",null,null,null,null,null,null,null,null,null,null,"0",1,0,"=1"]
[null,null,null,null,"Mat. 5",null,null,null,null,null,null,null,null,null,null,"0",1,0,"=1"]
[null,null,null,null,"Mat. 6",null,null,null,null,null,null,null,null,null,null,"0",1,0,"=1"]
[null,null,null,null,"Mat. 7",null,null,null,null,null,null,null,null,null,null,"0",1,0,"=1"]
[null,null,null,null,"Mat. 8",null,null,null,null,null,null,null,null,null,null,"0",1,0,"=1"]
[null,null,null,"Totalt % av bygningselementet (relevante materialer) vurdert:",null,null,{"$f":"IF(U164=\"\",\"\",IF(U164+L174=1,\"\",IF(SUM(G166:G173)=0,\"\",IF(U164=1,IF(OR(G166>L174,G167>L174,G168>L174,G169>L174,G170>L174,G171>L174,G172>L174,G173>L174,SUM(G166:G173)>L174),ROUND(SUM(G166:G173)/L174,2)*100,((SUM(G166:G173)/L174)*100)),IF(U164=2,IF(OR(G166>100,G167>100,G168>100,G169>100,G170>100,G171>100,G172>100,G173>100,SUM(G166:G173)>100),SUM(G166:G173),SUM(G166:G173)))))))","v":""},"Totalt volum:",null,null,null,100,null,null,null,{"$f":"IF(OR(H175>G175,K175>G175,L175>G175),TRUE,FALSE)","v":false},1,0,"=1"]
[null,null,{"$f":"IF(G174=0,\"0\",IF(U164=2,\"0\",IF(U164=1,(G174/100)*100,IF(U164=2,(G174/100)*100))))","v":false},{"$f":"G174","v":""},null,"Total",{"$f":"IF(SUM(G166:G173)=0,\"1\",SUM(G166:G173))","v":"1"},{"$f":"SUM(H166:H173)","v":0},{"$f":"SUM(I166:I173)","v":0},{"$f":"SUM(J166:J173)","v":0},{"$f":"SUM(K166:K173)","v":0},{"$f":"SUM(L166:L173)","v":0},null,{"$f":"SUM(H176:L176)","v":0},{"$f":"IF(G174<80,\"0,00\",IF(P175>0,\"0\",IF(G174>100,\"0,00\",IF(N166>=80,M166,IF(N166<80,0)))))","v":"0,00"},{"$f":"P166+P167+P168+P169+P170+P171+P172+P173","v":0},{"$f":"1","v":1},{"$f":"1","v":1},"=1"]
[null,null,null,null,null,null,"Percentage",{"$f":"IF(H175+G175=0,\"0\",(H175/G175)*100)","v":0},{"$f":"IF(I175+G175=0,\"0\",(I175/G175)*100)","v":0},{"$f":"IF(J175+G175=0,\"0\",(J175/G175)*100)","v":0},{"$f":"IF(K175+G175=0,\"0\",(K175/G175)*100)","v":0},{"$f":"IF(L175+G175=0,\"0\",(L175/G175)*100)","v":0},null,100,null,null,{"$f":"1","v":1},{"$f":"1","v":1},"=1"]
[null,null,null,null,null,{"$f":"IF(U164=1,((G175/100)*80))","v":false},"% of 80",{"$f":"(H176/80)*100","v":0},{"$f":"(I176/80)*100","v":0},{"$f":"(J176/80)*100","v":0},{"$f":"(K176/80)*100","v":0},{"$f":"(L176/80)*100","v":0},null,null,null,null,{"$f":"1","v":1},{"$f":"1","v":1},"=1"]
[null,null,null,null,null,null,"Limiter",{"$f":"IF(H177>100,\"100\",H177)","v":0},{"$f":"IF(I177>100,\"100\",I177)","v":0},{"$f":"IF(J177>100,\"100\",J177)","v":0},{"$f":"IF(K177>100,\"100\",K177)","v":0},{"$f":"IF(L177>100,\"100\",L177)","v":0},null,null,null,null,{"$f":"1","v":1},{"$f":"1","v":1},"=1"]
[null,null,null,null,null,null,null,null,{"$f":"IF(H178+I178+J178+K178+L178=0,0,100-(H178))","v":0},{"$f":"IF(H178+I178+J178+K178+L178=0,0,100-(H178+I178))","v":0},{"$f":"IF(J178+I178+H178+K178+L178=0,0,100-(J178+I178+H178))","v":0},{"$f":"IF(K178+J178+I178+H178+L178=0,0,100-(H178+I178+K178+J178))","v":0},null,null,null,null,{"$f":"1","v":1},{"$f":"1","v":1},"=1"]
[null,null,null,null,null,null,null,null,{"$f":"IF(I178>I179,I179,I178)","v":0},{"$f":"IF(J178>J179,J179,J178)","v":0},{"$f":"IF(K178>K179,K179,K178)","v":0},{"$f":"IF(L178>L179,L179,L178)","v":0},null,null,null,null,{"$f":"1","v":1},{"$f":"1","v":1},"=1"]
[null,null,null,null,null,null,null,null,null,null,null,{"$f":"IF(K180+J178+H178+I178>=100,0,L180)","v":0},null,null,null,null,{"$f":"1","v":1},{"$f":"1","v":1},"=1"]
[null,null,null,null,null,null,"Scores",{"$f":"IF(H175=0,0,0.01*(H178*H183))","v":0},{"$f":"IF(I175=0,0,0.01*(I180*I183))","v":0},{"$f":"IF(J175=0,0,0.01*(J180*J183))","v":0},{"$f":"IF(K175=0,0,0.01*(K180*K183))","v":0},{"$f":"IF(L175=0,0,0.01*(L181*L183))","v":0},null,null,null,null,{"$f":"1","v":1},{"$f":"1","v":1},"=1"]
[null,null,null,null,null,null,null,3,2.5,2,1.5,1,"Total",null,null,null,{"$f":"1","v":1},{"$f":"1","v":1},"=1"]
[null,null,"ETASJESKILLERE",null,null,"Velg antall etasjeskillere du ønsker å vurdere (deretter trykk «velg»):",null,null,null,null,null,null,null,null,{"$f":"IF(ISERROR(O196+O216+O236+O256)/V185,\"\",(O196+O216+O236+O256)/V185)","v":0},null,{"$f":"IF(freq3>=3,0,1)","v":1},{"$f":"IF($R$15=0,0,IF($G$184>=1,0,1))","v":0},"=HVIS(asstype=2;0;1)",{"$f":"VLOOKUP(G184,$T$1242:$U$1246,2,FALSE)","v":2}]
[null,null,"ETASJESKILLERE (1)",null,null,"Velg elementtype:",null,null,null,null,null,null,null,null,null,null,1,0,"=HVIS(asstype=2;0;1)",null,{"$f":"IF(ISERROR(VLOOKUP(G185,$T$1249:$U$1250,2,FALSE)),\"\",VLOOKUP(G185,$T$1249:$U$1250,2,FALSE))","v":""},{"$f":"IF(freq3=3,1,IF(freq3=4,2,IF(freq3=5,3,IF(freq3=6,4,1))))","v":1}]
[null,null,null,{"$f":"IF(G195=\"\",\"\",IF(P196>=1,\"NB! Volum av nivåene kan ikke være større enn det totale volumet for hvert enkelt materiale!\",IF(AND(P195=TRUE,type1=2,G195>100),\"NB! Prosentandel for hvert nivå må registreres i prosent av det vurderte bygningselementet, og den totale prosentandelen kan ikke være større enn den totale prosent av hvert enkelt materiale!\",\"\")))","v":""},null,null,null,null,null,null,null,null,null,null,null,null,1,0,"=HVIS(asstype=2;0;1)"]
[null,null,{"$f":"IF(AND(G184=\"\",Volum=\"\"),\"\",IF(AND(U185=1,L195=\"\"),\"REGISTRER FØRST DET TOTALE VOLUMET  AV MATERIALER I CELLEN NEDERST TIL HØYRE\",IF(G187:G194=\"\",\"\",IF(G195>100,\"Mengden materialer kan ikke overstige det  totale volumet!\",IF(G195<80,\"Minst 80 % av de relevante materialer må vurderes\",\"\")))))","v":""},null,"Mat. 1",null,null,null,null,null,null,null,{"$f":"IF(N187=0,0,IF(P195=TRUE,\"0\",IF(SUM(H203+I203+J203+K203+L203)>=3,\"3\",SUM(H203+I203+J203+K203+L203))))","v":0},{"$f":"IF(AND(U185=1,L195=\"\"),0,IF(OR(NOT(D186=\"\"),NOT(C187=\"\")),0,IF(ISERROR(N196),\"0\",N196)))","v":0},null,{"$f":"IF(SUM(H187:L187)>G187,\"1\",\"0\")","v":"0"},1,0,"=HVIS(asstype=2;0;1)"]
[null,null,null,null,"Mat. 2",null,null,null,null,null,null,null,null,{"$f":"IF(OR(G195=\"\",G195=0,G195>100),\"\",IF(N196=0,\"\",IF(N196<80,\"Ingen poeng oppnådd,\nmindre enn 80 % oppfyller kravet\",C187)))","v":""},null,{"$f":"IF(SUM(H188:L188)>G188,\"1\",\"0\")","v":"0"},1,0,"=HVIS(asstype=2;0;1)"]
[null,null,null,null,"Mat. 3",null,null,null,null,null,null,null,null,null,null,{"$f":"IF(SUM(H189:L189)>G189,\"1\",\"0\")","v":"0"},1,0,"=HVIS(asstype=2;0;1)"]
[null,null,null,null,"Mat. 4",null,null,null,null,null,null,null,null,null,null,"0",1,0,"=HVIS(asstype=2;0;1)"]
[null,null,null,null,"Mat. 5",null,null,null,null,null,null,null,null,null,null,"0",1,0,"=HVIS(asstype=2;0;1)"]
[null,null,null,null,"Mat. 6",null,null,null,null,null,null,null,null,null,null,"0",1,0,"=HVIS(asstype=2;0;1)"]
[null,null,null,null,"Mat. 7",null,null,null,null,null,null,null,null,null,null,"0",1,0,"=HVIS(asstype=2;0;1)"]
[null,null,null,null,"Mat. 8",null,null,null,null,null,null,null,null,null,null,"0",1,0,"=HVIS(asstype=2;0;1)"]
[null,null,null,"Totalt % av bygningselementet (relevante materialer) vurdert:",null,null,{"$f":"IF(U185=\"\",\"\",IF(U185+L195=1,\"\",IF(SUM(G187:G194)=0,\"\",IF(U185=1,IF(OR(G187>L195,G188>L195,G189>L195,G190>L195,G191>L195,G192>L195,G193>L195,G194>L195,SUM(G187:G194)>L195),ROUND(SUM(G187:G194)/L195,2)*100,((SUM(G187:G194)/L195)*100)),IF(U185=2,IF(OR(G187>100,G188>100,G189>100,G190>100,G191>100,G192>100,G193>100,G194>100,SUM(G187:G194)>100),SUM(G187:G194),SUM(G187:G194)))))))","v":""},"Totalt volum:",null,null,null,100,null,null,null,{"$f":"IF(OR(H196>G196,K196>G196,L196>G196),TRUE,FALSE)","v":false},1,0,"=HVIS(asstype=2;0;1)"]
[null,null,{"$f":"IF(G195=0,\"0\",IF(U185=2,\"0\",IF(U185=1,(G195/100)*100,IF(U185=2,(G195/100)*100))))","v":false},{"$f":"G195","v":""},null,"Total",{"$f":"IF(SUM(G187:G194)=0,\"1\",SUM(G187:G194))","v":"1"},{"$f":"SUM(H187:H194)","v":0},{"$f":"SUM(I187:I194)","v":0},{"$f":"SUM(J187:J194)","v":0},{"$f":"SUM(K187:K194)","v":0},{"$f":"SUM(L187:L194)","v":0},null,{"$f":"SUM(H197:L197)","v":0},{"$f":"IF(G195<80,\"0,00\",IF(P196>0,\"0\",IF(G195>100,\"0,00\",IF(N187>=80,M187,IF(N187<80,0)))))","v":"0,00"},{"$f":"P187+P188+P189+P190+P191+P192+P193+P194","v":0},{"$f":"1","v":1},{"$f":"1","v":1},"=1"]
[null,null,null,null,null,null,"Percentage",{"$f":"IF(H196+G196=0,\"0\",(H196/G196)*100)","v":0},{"$f":"IF(I196+G196=0,\"0\",(I196/G196)*100)","v":0},{"$f":"IF(J196+G196=0,\"0\",(J196/G196)*100)","v":0},{"$f":"IF(K196+G196=0,\"0\",(K196/G196)*100)","v":0},{"$f":"IF(L196+G196=0,\"0\",(L196/G196)*100)","v":0},null,100,null,null,{"$f":"1","v":1},{"$f":"1","v":1},"=1"]
[null,null,null,null,null,{"$f":"IF(U185=1,((G196/100)*80))","v":false},"% of 80",{"$f":"(H197/80)*100","v":0},{"$f":"(I197/80)*100","v":0},{"$f":"(J197/80)*100","v":0},{"$f":"(K197/80)*100","v":0},{"$f":"(L197/80)*100","v":0},null,null,null,null,{"$f":"1","v":1},{"$f":"1","v":1},"=1"]
[null,null,null,null,null,null,"Limiter",{"$f":"IF(H198>100,\"100\",H198)","v":0},{"$f":"IF(I198>100,\"100\",I198)","v":0},{"$f":"IF(J198>100,\"100\",J198)","v":0},{"$f":"IF(K198>100,\"100\",K198)","v":0},{"$f":"IF(L198>100,\"100\",L198)","v":0},null,null,null,null,{"$f":"1","v":1},{"$f":"1","v":1},"=1"]
[null,null,null,null,null,null,null,null,{"$f":"IF(H199+I199+J199+K199+L199=0,0,100-(H199))","v":0},{"$f":"IF(H199+I199+J199+K199+L199=0,0,100-(H199+I199))","v":0},{"$f":"IF(J199+I199+H199+K199+L199=0,0,100-(J199+I199+H199))","v":0},{"$f":"IF(K199+J199+I199+H199+L199=0,0,100-(H199+I199+K199+J199))","v":0},null,null,null,null,{"$f":"1","v":1},{"$f":"1","v":1},"=1"]
[null,null,null,null,null,null,null,null,{"$f":"IF(I199>I200,I200,I199)","v":0},{"$f":"IF(J199>J200,J200,J199)","v":0},{"$f":"IF(K199>K200,K200,K199)","v":0},{"$f":"IF(L199>L200,L200,L199)","v":0},null,null,null,null,{"$f":"1","v":1},{"$f":"1","v":1},"=1"]
[null,null,null,null,null,null,null,null,null,null,null,{"$f":"IF(K201+J199+H199+I199>=100,0,L201)","v":0},null,null,null,null,{"$f":"1","v":1},{"$f":"1","v":1},"=1"]
[null,null,null,null,null,null,"Scores",{"$f":"IF(H196=0,0,0.01*(H199*H204))","v":0},{"$f":"IF(I196=0,0,0.01*(I201*I204))","v":0},{"$f":"IF(J196=0,0,0.01*(J201*J204))","v":0},{"$f":"IF(K196=0,0,0.01*(K201*K204))","v":0},{"$f":"IF(L196=0,0,0.01*(L202*L204))","v":0},null,null,null,null,{"$f":"1","v":1},{"$f":"1","v":1},"=1"]
[null,null,null,null,null,null,null,3,2.5,2,1.5,1,"Total",null,null,null,{"$f":"1","v":1},{"$f":"1","v":1},"=1"]
[null,null,"ETASJESKILLERE (2)",null,null,"Velg elementtype:",null,null,null,null,null,null,null,null,null,null,{"$f":"IF(freq3>=4,0,1)","v":1},{"$f":"IF($R$15=0,0,IF($G$184>=2,0,1))","v":0},"=1",null,{"$f":"IF(ISERROR(VLOOKUP(G205,$T$1249:$U$1250,2,FALSE)),\"\",VLOOKUP(G205,$T$1249:$U$1250,2,FALSE))","v":""}]
[null,null,null,{"$f":"IF(G215=\"\",\"\",IF(P216>=1,\"NB! Volum av nivåene kan ikke være større enn det totale volumet for hvert enkelt materiale!\",IF(AND(P215=TRUE,type1=2,G215>100),\"NB! Prosentandel for hvert nivå må registreres i prosent av det vurderte bygningselementet, og den totale prosentandelen kan ikke være større enn den totale prosent av hvert enkelt materiale!\",\"\")))","v":""},null,null,null,null,null,null,null,null,null,null,null,null,1,0,"=1"]
[null,null,{"$f":"IF(AND(G205=\"\",Volum=\"\"),\"\",IF(AND(U205=1,L215=\"\"),\"REGISTRER FØRST DET TOTALE VOLUMET  AV MATERIALER I CELLEN NEDERST TIL HØYRE\",IF(G207:G214=\"\",\"\",IF(G215>100,\"Mengden materialer kan ikke overstige det  totale volumet!\",IF(G215<80,\"Minst 80 % av de relevante materialer må vurderes\",\"\")))))","v":""},null,"Mat. 1",null,null,null,null,null,null,null,{"$f":"IF(N207=0,0,IF(P215=TRUE,\"0\",IF(SUM(H223+I223+J223+K223+L223)>=3,\"3\",SUM(H223+I223+J223+K223+L223))))","v":0},{"$f":"IF(AND(U205=1,L215=\"\"),0,IF(OR(NOT(D206=\"\"),NOT(C207=\"\")),0,IF(ISERROR(N216),\"0\",N216)))","v":0},null,{"$f":"IF(SUM(H207:L207)>G207,\"1\",\"0\")","v":"0"},1,0,"=1"]
[null,null,null,null,"Mat. 2",null,null,null,null,null,null,null,null,{"$f":"IF(OR(G215=\"\",G215=0,G215>100),\"\",IF(N216=0,\"\",IF(N216<80,\"Ingen poeng oppnådd,\nmindre enn 80 % oppfyller kravet\",C207)))","v":""},null,{"$f":"IF(SUM(H208:L208)>G208,\"1\",\"0\")","v":"0"},1,0,"=1"]
[null,null,null,null,"Mat. 3",null,null,null,null,null,null,null,null,null,null,"0",1,0,"=1"]
[null,null,null,null,"Mat. 4",null,null,null,null,null,null,null,null,null,null,"0",1,0,"=1"]
[null,null,null,null,"Mat. 5",null,null,null,null,null,null,null,null,null,null,"0",1,0,"=1"]
[null,null,null,null,"Mat. 6",null,null,null,null,null,null,null,null,null,null,"0",1,0,"=1"]
[null,null,null,null,"Mat. 7",null,null,null,null,null,null,null,null,null,null,"0",1,0,"=1"]
[null,null,null,null,"Mat. 8",null,null,null,null,null,null,null,null,null,null,"0",1,0,"=1"]
[null,null,null,"Totalt % av bygningselementet (relevante materialer) vurdert:",null,null,{"$f":"IF(U205=\"\",\"\",IF(U205+L215=1,\"\",IF(SUM(G207:G214)=0,\"\",IF(U205=1,IF(OR(G207>L215,G208>L215,G209>L215,G210>L215,G211>L215,G212>L215,G213>L215,G214>L215,SUM(G207:G214)>L215),ROUND(SUM(G207:G214)/L215,2)*100,((SUM(G207:G214)/L215)*100)),IF(U205=2,IF(OR(G207>100,G208>100,G209>100,G210>100,G211>100,G212>100,G213>100,G214>100,SUM(G207:G214)>100),SUM(G207:G214),SUM(G207:G214)))))))","v":""},"Totalt volum:",null,null,null,120,null,null,null,{"$f":"IF(OR(H216>G216,K216>G216,L216>G216),TRUE,FALSE)","v":false},1,0,"=1"]
[null,null,{"$f":"IF(G215=0,\"0\",IF(U205=2,\"0\",IF(U205=1,(G215/100)*100,IF(U205=2,(G215/100)*100))))","v":false},{"$f":"G215","v":""},null,"Total",{"$f":"IF(SUM(G207:G214)=0,\"1\",SUM(G207:G214))","v":"1"},{"$f":"SUM(H207:H214)","v":0},{"$f":"SUM(I207:I214)","v":0},{"$f":"SUM(J207:J214)","v":0},{"$f":"SUM(K207:K214)","v":0},{"$f":"SUM(L207:L214)","v":0},null,{"$f":"SUM(H217:L217)","v":0},{"$f":"IF(G215<80,\"0,00\",IF(P216>0,\"0\",IF(G215>100,\"0,00\",IF(N207>=80,M207,IF(N207<80,0)))))","v":"0,00"},{"$f":"P207+P208+P209+P210+P211+P212+P213+P214","v":0},{"$f":"1","v":1},{"$f":"1","v":1},"=1"]
[null,null,null,null,null,null,"Percentage",{"$f":"IF(H216+G216=0,\"0\",(H216/G216)*100)","v":0},{"$f":"IF(I216+G216=0,\"0\",(I216/G216)*100)","v":0},{"$f":"IF(J216+G216=0,\"0\",(J216/G216)*100)","v":0},{"$f":"IF(K216+G216=0,\"0\",(K216/G216)*100)","v":0},{"$f":"IF(L216+G216=0,\"0\",(L216/G216)*100)","v":0},null,100,null,null,{"$f":"1","v":1},{"$f":"1","v":1},"=1"]
[null,null,null,null,null,{"$f":"IF(U205=1,((G216/100)*80))","v":false},"% of 80",{"$f":"(H217/80)*100","v":0},{"$f":"(I217/80)*100","v":0},{"$f":"(J217/80)*100","v":0},{"$f":"(K217/80)*100","v":0},{"$f":"(L217/80)*100","v":0},null,null,null,null,{"$f":"1","v":1},{"$f":"1","v":1},"=1"]
[null,null,null,null,null,null,"Limiter",{"$f":"IF(H218>100,\"100\",H218)","v":0},{"$f":"IF(I218>100,\"100\",I218)","v":0},{"$f":"IF(J218>100,\"100\",J218)","v":0},{"$f":"IF(K218>100,\"100\",K218)","v":0},{"$f":"IF(L218>100,\"100\",L218)","v":0},null,null,null,null,{"$f":"1","v":1},{"$f":"1","v":1},"=1"]
[null,null,null,null,null,null,null,null,{"$f":"IF(H219+I219+J219+K219+L219=0,0,100-(H219))","v":0},{"$f":"IF(H219+I219+J219+K219+L219=0,0,100-(H219+I219))","v":0},{"$f":"IF(J219+I219+H219+K219+L219=0,0,100-(J219+I219+H219))","v":0},{"$f":"IF(K219+J219+I219+H219+L219=0,0,100-(H219+I219+K219+J219))","v":0},null,null,null,null,{"$f":"1","v":1},{"$f":"1","v":1},"=1"]
[null,null,null,null,null,null,null,null,{"$f":"IF(I219>I220,I220,I219)","v":0},{"$f":"IF(J219>J220,J220,J219)","v":0},{"$f":"IF(K219>K220,K220,K219)","v":0},{"$f":"IF(L219>L220,L220,L219)","v":0},null,null,null,null,{"$f":"1","v":1},{"$f":"1","v":1},"=1"]
[null,null,null,null,null,null,null,null,null,null,null,{"$f":"IF(K221+J219+H219+I219>=100,0,L221)","v":0},null,null,null,null,{"$f":"1","v":1},{"$f":"1","v":1},"=1"]
[null,null,null,null,null,null,"Scores",{"$f":"IF(H216=0,0,0.01*(H219*H224))","v":0},{"$f":"IF(I216=0,0,0.01*(I221*I224))","v":0},{"$f":"IF(J216=0,0,0.01*(J221*J224))","v":0},{"$f":"IF(K216=0,0,0.01*(K221*K224))","v":0},{"$f":"IF(L216=0,0,0.01*(L222*L224))","v":0},null,null,null,null,{"$f":"1","v":1},{"$f":"1","v":1},"=1"]
[null,null,null,null,null,null,null,3,2.5,2,1.5,1,null,null,null,null,{"$f":"1","v":1},{"$f":"1","v":1},"=1"]
[null,null,"ETASJESKILLERE (3)",null,null,"Velg elementtype:",null,null,null,null,null,null,null,null,null,null,{"$f":"IF(freq3>=5,0,1)","v":1},{"$f":"IF($R$15=0,0,IF($G$184>=3,0,1))","v":0},"=1",null,{"$f":"IF(ISERROR(VLOOKUP(G225,$T$1249:$U$1250,2,FALSE)),\"\",VLOOKUP(G225,$T$1249:$U$1250,2,FALSE))","v":""}]
[null,null,null,{"$f":"IF(G235=\"\",\"\",IF(P236>=1,\"NB! Volum av nivåene kan ikke være større enn det totale volumet for hvert enkelt materiale!\",IF(AND(P235=TRUE,type1=2,G235>100),\"NB! Prosentandel for hvert nivå må registreres i prosent av det vurderte bygningselementet, og den totale prosentandelen kan ikke være større enn den totale prosent av hvert enkelt materiale!\",\"\")))","v":""},null,null,null,null,null,null,null,null,null,null,null,null,1,0,"=1"]
[null,null,{"$f":"IF(AND(G225=\"\",Volum=\"\"),\"\",IF(AND(U225=1,L235=\"\"),\"REGISTRER FØRST DET TOTALE VOLUMET  AV MATERIALER I CELLEN NEDERST TIL HØYRE\",IF(G227:G234=\"\",\"\",IF(G235>100,\"Mengden materialer kan ikke overstige det  totale volumet!\",IF(G235<80,\"Minst 80 % av de relevante materialer må vurderes\",\"\")))))","v":""},null,"Mat. 1",null,null,null,null,null,null,null,{"$f":"IF(N227=0,0,IF(P235=TRUE,\"0\",IF(SUM(H243+I243+J243+K243+L243)>=3,\"3\",SUM(H243+I243+J243+K243+L243))))","v":0},{"$f":"IF(AND(U225=1,L235=\"\"),0,IF(OR(NOT(D226=\"\"),NOT(C227=\"\")),0,IF(ISERROR(N236),\"0\",N236)))","v":0},null,{"$f":"IF(SUM(H227:L227)>G227,\"1\",\"0\")","v":"0"},1,0,"=1"]
[null,null,null,null,"Mat. 2",null,null,null,null,null,null,null,null,{"$f":"IF(OR(G235=\"\",G235=0,G235>100),\"\",IF(N236=0,\"\",IF(N236<80,\"Ingen poeng oppnådd,\nmindre enn 80 % oppfyller kravet\",C227)))","v":""},null,{"$f":"IF(SUM(H228:L228)>G228,\"1\",\"0\")","v":"0"},1,0,"=1"]
[null,null,null,null,"Mat. 3",null,null,null,null,null,null,null,null,null,null,"0",1,0,"=1"]
[null,null,null,null,"Mat. 4",null,null,null,null,null,null,null,null,null,null,"0",1,0,"=1"]
[null,null,null,null,"Mat. 5",null,null,null,null,null,null,null,null,null,null,"0",1,0,"=1"]
[null,null,null,null,"Mat. 6",null,null,null,null,null,null,null,null,null,null,"0",1,0,"=1"]
[null,null,null,null,"Mat. 7",null,null,null,null,null,null,null,null,null,null,"0",1,0,"=1"]
[null,null,null,null,"Mat. 8",null,null,null,null,null,null,null,null,null,null,"0",1,0,"=1"]
[null,null,null,"Totalt % av bygningselementet (relevante materialer) vurdert:",null,null,{"$f":"IF(U225=\"\",\"\",IF(U225+L235=1,\"\",IF(SUM(G227:G234)=0,\"\",IF(U225=1,IF(OR(G227>L235,G228>L235,G229>L235,G230>L235,G231>L235,G232>L235,G233>L235,G234>L235,SUM(G227:G234)>L235),ROUND(SUM(G227:G234)/L235,2)*100,((SUM(G227:G234)/L235)*100)),IF(U225=2,IF(OR(G227>100,G228>100,G229>100,G230>100,G231>100,G232>100,G233>100,G234>100,SUM(G227:G234)>100),SUM(G227:G234),SUM(G227:G234)))))))","v":""},"Totalt volum:",null,null,null,240,null,null,null,{"$f":"IF(OR(H236>G236,K236>G236,L236>G236),TRUE,FALSE)","v":false},1,0,"=1"]
[null,null,{"$f":"IF(G235=0,\"0\",IF(U225=2,\"0\",IF(U225=1,(G235/100)*100,IF(U225=2,(G235/100)*100))))","v":false},{"$f":"G235","v":""},null,"Total",{"$f":"IF(SUM(G227:G234)=0,\"1\",SUM(G227:G234))","v":"1"},{"$f":"SUM(H227:H234)","v":0},{"$f":"SUM(I227:I234)","v":0},{"$f":"SUM(J227:J234)","v":0},{"$f":"SUM(K227:K234)","v":0},{"$f":"SUM(L227:L234)","v":0},null,{"$f":"SUM(H237:L237)","v":0},{"$f":"IF(G235<80,\"0,00\",IF(P236>0,\"0\",IF(G235>100,\"0,00\",IF(N227>=80,M227,IF(N227<80,0)))))","v":"0,00"},{"$f":"P227+P228+P229+P230+P231+P232+P233+P234","v":0},{"$f":"1","v":1},{"$f":"1","v":1},"=1"]
[null,null,null,null,null,null,"Percentage",{"$f":"IF(H236+G236=0,\"0\",(H236/G236)*100)","v":0},{"$f":"IF(I236+G236=0,\"0\",(I236/G236)*100)","v":0},{"$f":"IF(J236+G236=0,\"0\",(J236/G236)*100)","v":0},{"$f":"IF(K236+G236=0,\"0\",(K236/G236)*100)","v":0},{"$f":"IF(L236+G236=0,\"0\",(L236/G236)*100)","v":0},null,100,null,null,{"$f":"1","v":1},{"$f":"1","v":1},"=1"]
[null,null,null,null,null,{"$f":"IF(U225=1,((G236/100)*80))","v":false},"% of 80",{"$f":"(H237/80)*100","v":0},{"$f":"(I237/80)*100","v":0},{"$f":"(J237/80)*100","v":0},{"$f":"(K237/80)*100","v":0},{"$f":"(L237/80)*100","v":0},null,null,null,null,{"$f":"1","v":1},{"$f":"1","v":1},"=1"]
[null,null,null,null,null,null,"Limiter",{"$f":"IF(H238>100,\"100\",H238)","v":0},{"$f":"IF(I238>100,\"100\",I238)","v":0},{"$f":"IF(J238>100,\"100\",J238)","v":0},{"$f":"IF(K238>100,\"100\",K238)","v":0},{"$f":"IF(L238>100,\"100\",L238)","v":0},null,null,null,null,{"$f":"1","v":1},{"$f":"1","v":1},"=1"]
[null,null,null,null,null,null,null,null,{"$f":"IF(H239+I239+J239+K239+L239=0,0,100-(H239))","v":0},{"$f":"IF(H239+I239+J239+K239+L239=0,0,100-(H239+I239))","v":0},{"$f":"IF(J239+I239+H239+K239+L239=0,0,100-(J239+I239+H239))","v":0},{"$f":"IF(K239+J239+I239+H239+L239=0,0,100-(H239+I239+K239+J239))","v":0},null,null,null,null,{"$f":"1","v":1},{"$f":"1","v":1},"=1"]
[null,null,null,null,null,null,null,null,{"$f":"IF(I239>I240,I240,I239)","v":0},{"$f":"IF(J239>J240,J240,J239)","v":0},{"$f":"IF(K239>K240,K240,K239)","v":0},{"$f":"IF(L239>L240,L240,L239)","v":0},null,null,null,null,{"$f":"1","v":1},{"$f":"1","v":1},"=1"]
[null,null,null,null,null,null,null,null,null,null,null,{"$f":"IF(K241+J239+H239+I239>=100,0,L241)","v":0},null,null,null,null,{"$f":"1","v":1},{"$f":"1","v":1},"=1"]
[null,null,null,null,null,null,"Scores",{"$f":"IF(H236=0,0,0.01*(H239*H244))","v":0},{"$f":"IF(I236=0,0,0.01*(I241*I244))","v":0},{"$f":"IF(J236=0,0,0.01*(J241*J244))","v":0},{"$f":"IF(K236=0,0,0.01*(K241*K244))","v":0},{"$f":"IF(L236=0,0,0.01*(L242*L244))","v":0},null,null,null,null,{"$f":"1","v":1},{"$f":"1","v":1},"=1"]
[null,null,null,null,null,null,null,3,2.5,2,1.5,1,null,null,null,null,{"$f":"1","v":1},{"$f":"1","v":1},"=1"]
[null,null,"ETASJESKILLERE (4)",null,null,"Velg elementtype:",null,null,null,null,null,null,null,null,null,null,{"$f":"IF(freq3>=6,0,1)","v":1},{"$f":"IF($R$15=0,0,IF($G$184>=4,0,1))","v":0},"=1",null,{"$f":"IF(ISERROR(VLOOKUP(G245,$T$1249:$U$1250,2,FALSE)),\"\",VLOOKUP(G245,$T$1249:$U$1250,2,FALSE))","v":""}]
[null,null,null,{"$f":"IF(G255=\"\",\"\",IF(P256>=1,\"NB! Volum av nivåene kan ikke være større enn det totale volumet for hvert enkelt materiale!\",IF(AND(P255=TRUE,type1=2,G255>100),\"NB! Prosentandel for hvert nivå må registreres i prosent av det vurderte bygningselementet, og den totale prosentandelen kan ikke være større enn den totale prosent av hvert enkelt materiale!\",\"\")))","v":""},null,null,null,null,null,null,null,null,null,null,null,null,1,0,"=1"]
[null,null,{"$f":"IF(AND(G245=\"\",Volum=\"\"),\"\",IF(AND(U245=1,L255=\"\"),\"REGISTRER FØRST DET TOTALE VOLUMET  AV MATERIALER I CELLEN NEDERST TIL HØYRE\",IF(G247:G254=\"\",\"\",IF(G255>100,\"Mengden materialer kan ikke overstige det  totale volumet!\",IF(G255<80,\"Minst 80 % av de relevante materialer må vurderes\",\"\")))))","v":""},null,"Mat. 1",null,null,null,null,null,null,null,{"$f":"IF(N247=0,0,IF(P255=TRUE,\"0\",IF(SUM(H263+I263+J263+K263+L263)>=3,\"3\",SUM(H263+I263+J263+K263+L263))))","v":0},{"$f":"IF(AND(U245=1,L255=\"\"),0,IF(OR(NOT(D246=\"\"),NOT(C247=\"\")),0,IF(ISERROR(N256),\"0\",N256)))","v":0},null,{"$f":"IF(SUM(H247:L247)>G247,\"1\",\"0\")","v":"0"},1,0,"=1"]
[null,null,null,null,"Mat. 2",null,null,null,null,null,null,null,null,{"$f":"IF(OR(G255=\"\",G255=0,G255>100),\"\",IF(N256=0,\"\",IF(N256<80,\"Ingen poeng oppnådd,\nmindre enn 80 % oppfyller kravet\",C247)))","v":""},null,{"$f":"IF(SUM(H248:L248)>G248,\"1\",\"0\")","v":"0"},1,0,"=1"]
[null,null,null,null,"Mat. 3",null,null,null,null,null,null,null,null,null,null,"0",1,0,"=1"]
[null,null,null,null,"Mat. 4",null,null,null,null,null,null,null,null,null,null,"0",1,0,"=1"]
[null,null,null,null,"Mat. 5",null,null,null,null,null,null,null,null,null,null,"0",1,0,"=1"]
[null,null,null,null,"Mat. 6",null,null,null,null,null,null,null,null,null,null,"0",1,0,"=1"]
[null,null,null,null,"Mat. 7",null,null,null,null,null,null,null,null,null,null,"0",1,0,"=1"]
[null,null,null,null,"Mat. 8",null,null,null,null,null,null,null,null,null,null,"0",1,0,"=1"]
[null,null,null,"Totalt % av bygningselementet (relevante materialer) vurdert:",null,null,{"$f":"IF(U245=\"\",\"\",IF(U245+L255=1,\"\",IF(SUM(G247:G254)=0,\"\",IF(U245=1,IF(OR(G247>L255,G248>L255,G249>L255,G250>L255,G251>L255,G252>L255,G253>L255,G254>L255,SUM(G247:G254)>L255),ROUND(SUM(G247:G254)/L255,2)*100,((SUM(G247:G254)/L255)*100)),IF(U245=2,IF(OR(G247>100,G248>100,G249>100,G250>100,G251>100,G252>100,G253>100,G254>100,SUM(G247:G254)>100),SUM(G247:G254),SUM(G247:G254)))))))","v":""},"Totalt volum:",null,null,null,110,null,null,null,{"$f":"IF(OR(H256>G256,K256>G256,L256>G256),TRUE,FALSE)","v":false},1,0,"=1"]
[null,null,{"$f":"IF(G255=0,\"0\",IF(U245=2,\"0\",IF(U245=1,(G255/100)*100,IF(U245=2,(G255/100)*100))))","v":false},{"$f":"G255","v":""},null,"Total",{"$f":"IF(SUM(G247:G254)=0,\"1\",SUM(G247:G254))","v":"1"},{"$f":"SUM(H247:H254)","v":0},{"$f":"SUM(I247:I254)","v":0},{"$f":"SUM(J247:J254)","v":0},{"$f":"SUM(K247:K254)","v":0},{"$f":"SUM(L247:L254)","v":0},null,{"$f":"SUM(H257:L257)","v":0},{"$f":"IF(G255<80,\"0,00\",IF(P256>0,\"0\",IF(G255>100,\"0,00\",IF(N247>=80,M247,IF(N247<80,0)))))","v":"0,00"},{"$f":"P247+P248+P249+P250+P251+P252+P253+P254","v":0},{"$f":"1","v":1},{"$f":"1","v":1},"=1"]
[null,null,null,null,null,null,"Percentage",{"$f":"IF(H256+G256=0,\"0\",(H256/G256)*100)","v":0},{"$f":"IF(I256+G256=0,\"0\",(I256/G256)*100)","v":0},{"$f":"IF(J256+G256=0,\"0\",(J256/G256)*100)","v":0},{"$f":"IF(K256+G256=0,\"0\",(K256/G256)*100)","v":0},{"$f":"IF(L256+G256=0,\"0\",(L256/G256)*100)","v":0},null,100,null,null,{"$f":"1","v":1},{"$f":"1","v":1},"=1"]
[null,null,null,null,null,{"$f":"IF(U245=1,((G256/100)*80))","v":false},"% of 80",{"$f":"(H257/80)*100","v":0},{"$f":"(I257/80)*100","v":0},{"$f":"(J257/80)*100","v":0},{"$f":"(K257/80)*100","v":0},{"$f":"(L257/80)*100","v":0},null,null,null,null,{"$f":"1","v":1},{"$f":"1","v":1},"=1"]
[null,null,null,null,null,null,"Limiter",{"$f":"IF(H258>100,\"100\",H258)","v":0},{"$f":"IF(I258>100,\"100\",I258)","v":0},{"$f":"IF(J258>100,\"100\",J258)","v":0},{"$f":"IF(K258>100,\"100\",K258)","v":0},{"$f":"IF(L258>100,\"100\",L258)","v":0},null,null,null,null,{"$f":"1","v":1},{"$f":"1","v":1},"=1"]
[null,null,null,null,null,null,null,null,{"$f":"IF(H259+I259+J259+K259+L259=0,0,100-(H259))","v":0},{"$f":"IF(H259+I259+J259+K259+L259=0,0,100-(H259+I259))","v":0},{"$f":"IF(J259+I259+H259+K259+L259=0,0,100-(J259+I259+H259))","v":0},{"$f":"IF(K259+J259+I259+H259+L259=0,0,100-(H259+I259+K259+J259))","v":0},null,null,null,null,{"$f":"1","v":1},{"$f":"1","v":1},"=1"]
[null,null,null,null,null,null,null,null,{"$f":"IF(I259>I260,I260,I259)","v":0},{"$f":"IF(J259>J260,J260,J259)","v":0},{"$f":"IF(K259>K260,K260,K259)","v":0},{"$f":"IF(L259>L260,L260,L259)","v":0},null,null,null,null,{"$f":"1","v":1},{"$f":"1","v":1},"=1"]
[null,null,null,null,null,null,null,null,null,null,null,{"$f":"IF(K261+J259+H259+I259>=100,0,L261)","v":0},null,null,null,null,{"$f":"1","v":1},{"$f":"1","v":1},"=1"]
[null,null,null,null,null,null,"Scores",{"$f":"IF(H256=0,0,0.01*(H259*H264))","v":0},{"$f":"IF(I256=0,0,0.01*(I261*I264))","v":0},{"$f":"IF(J256=0,0,0.01*(J261*J264))","v":0},{"$f":"IF(K256=0,0,0.01*(K261*K264))","v":0},{"$f":"IF(L256=0,0,0.01*(L262*L264))","v":0},null,null,null,null,{"$f":"1","v":1},{"$f":"1","v":1},"=1"]
[null,null,null,null,null,null,null,3,2.5,2,1.5,1,null,null,null,null,{"$f":"1","v":1},{"$f":"1","v":1},"=1"]
[null,null,"YTTERTAK",null,null,"Velg antall yttertak du ønsker å vurdere (deretter trykk «velg»):",null,null,null,null,null,null,null,null,{"$f":"IF(ISERROR(O277+O297+O317+O337)/V266,\"\",(O277+O297+O317+O337)/V266)","v":0},null,{"$f":"0","v":0},{"$f":"IF($R$15=0,0,IF($G$265>=1,0,1))","v":0},"=HVIS(asstype=2;0;1)",{"$f":"VLOOKUP(G265,$T$1242:$U$1246,2,FALSE)","v":2}]
[null,null,"YTTERTAK (1)",null,null,"Velg elementtype:",null,null,null,null,null,null,null,null,null,null,{"$f":"IF(freq4>=3,0,1)","v":1},0,"=HVIS(asstype=2;0;1)",null,{"$f":"IF(ISERROR(VLOOKUP(G266,$T$1249:$U$1250,2,FALSE)),\"\",VLOOKUP(G266,$T$1249:$U$1250,2,FALSE))","v":""},{"$f":"IF(freq4=3,1,IF(freq4=4,2,IF(freq4=5,3,IF(freq4=6,4,1))))","v":1}]
[null,null,null,{"$f":"IF(G276=\"\",\"\",IF(P277>=1,\"NB! Volum av nivåene kan ikke være større enn det totale volumet for hvert enkelt materiale!\",IF(AND(P276=TRUE,type1=2,G276>100),\"NB! Prosentandel for hvert nivå må registreres i prosent av det vurderte bygningselementet, og den totale prosentandelen kan ikke være større enn den totale prosent av hvert enkelt materiale!\",\"\")))","v":""},null,null,null,null,null,null,null,null,null,null,null,null,1,0,"=HVIS(asstype=2;0;1)"]
[null,null,{"$f":"IF(AND(G265=\"\",Volum=\"\"),\"\",IF(AND(U266=1,L276=\"\"),\"REGISTRER FØRST DET TOTALE VOLUMET  AV MATERIALER I CELLEN NEDERST TIL HØYRE\",IF(G268:G275=\"\",\"\",IF(G276>100,\"Mengden materialer kan ikke overstige det  totale volumet!\",IF(G276<80,\"Minst 80 % av de relevante materialer må vurderes\",\"\")))))","v":""},null,"Mat. 1",null,null,null,null,null,null,null,{"$f":"IF(N268=0,0,IF(P276=TRUE,\"0\",IF(SUM(H284+I284+J284+K284+L284)>=3,\"3\",SUM(H284+I284+J284+K284+L284))))","v":0},{"$f":"IF(AND(U266=1,L276=\"\"),0,IF(OR(NOT(D267=\"\"),NOT(C268=\"\")),0,IF(ISERROR(N277),\"0\",N277)))","v":0},null,{"$f":"IF(SUM(H268:L268)>G268,\"1\",\"0\")","v":"0"},{"$f":"IF(freq4>=3,0,1)","v":1},0,"=HVIS(asstype=2;0;1)"]
[null,null,null,null,"Mat. 2",null,null,null,null,null,null,null,null,{"$f":"IF(OR(G276=\"\",G276=0,G276>100),\"\",IF(N277=0,\"\",IF(N277<80,\"Ingen poeng oppnådd,\nmindre enn 80 % oppfyller kravet\",C268)))","v":""},null,{"$f":"IF(SUM(H269:L269)>G269,\"1\",\"0\")","v":"0"},1,0,"=HVIS(asstype=2;0;1)"]
[null,null,null,null,"Mat. 3",null,null,null,null,null,null,null,null,null,null,"0",1,0,"=HVIS(asstype=2;0;1)"]
[null,null,null,null,"Mat. 4",null,null,null,null,null,null,null,null,null,null,"0",1,0,"=HVIS(asstype=2;0;1)"]
[null,null,null,null,"Mat. 5",null,null,null,null,null,null,null,null,null,null,"0",1,0,"=HVIS(asstype=2;0;1)"]
[null,null,null,null,"Mat. 6",null,null,null,null,null,null,null,null,null,null,"0",1,0,"=HVIS(asstype=2;0;1)"]
[null,null,null,null,"Mat. 7",null,null,null,null,null,null,null,null,null,null,"0",1,0,"=HVIS(asstype=2;0;1)"]
[null,null,null,null,"Mat. 8",null,null,null,null,null,null,null,null,null,null,"0",1,0,"=HVIS(asstype=2;0;1)"]
[null,null,null,"Totalt % av bygningselementet (relevante materialer) vurdert:",null,null,{"$f":"IF(U266=\"\",\"\",IF(U266+L276=1,\"\",IF(SUM(G268:G275)=0,\"\",IF(U266=1,IF(OR(G268>L276,G269>L276,G270>L276,G271>L276,G272>L276,G273>L276,G274>L276,G275>L276,SUM(G268:G275)>L276),ROUND(SUM(G268:G275)/L276,2)*100,((SUM(G268:G275)/L276)*100)),IF(U266=2,IF(OR(G268>100,G269>100,G270>100,G271>100,G272>100,G273>100,G274>100,G275>100,SUM(G268:G275)>100),SUM(G268:G275),SUM(G268:G275)))))))","v":""},"Totalt volum:",null,null,null,120,null,null,null,{"$f":"IF(OR(H277>G277,K277>G277,L277>G277),TRUE,FALSE)","v":false},1,0,"=HVIS(asstype=2;0;1)"]
[null,null,{"$f":"IF(G276=0,\"0\",IF(U266=2,\"0\",IF(U266=1,(G276/100)*100,IF(U266=2,(G276/100)*100))))","v":false},{"$f":"G276","v":""},null,"Total",{"$f":"IF(SUM(G268:G275)=0,\"1\",SUM(G268:G275))","v":"1"},{"$f":"SUM(H268:H275)","v":0},{"$f":"SUM(I268:I275)","v":0},{"$f":"SUM(J268:J275)","v":0},{"$f":"SUM(K268:K275)","v":0},{"$f":"SUM(L268:L275)","v":0},null,{"$f":"SUM(H278:L278)","v":0},{"$f":"IF(G276<80,\"0,00\",IF(P277>0,\"0\",IF(G276>100,\"0,00\",IF(N268>=80,M268,IF(N268<80,0)))))","v":"0,00"},{"$f":"P268+P269+P270+P271+P272+P273+P274+P275","v":0},{"$f":"1","v":1},{"$f":"1","v":1},"=1"]
[null,null,null,null,null,null,"Percentage",{"$f":"IF(H277+G277=0,\"0\",(H277/G277)*100)","v":0},{"$f":"IF(I277+G277=0,\"0\",(I277/G277)*100)","v":0},{"$f":"IF(J277+G277=0,\"0\",(J277/G277)*100)","v":0},{"$f":"IF(K277+G277=0,\"0\",(K277/G277)*100)","v":0},{"$f":"IF(L277+G277=0,\"0\",(L277/G277)*100)","v":0},null,100,null,null,{"$f":"1","v":1},{"$f":"1","v":1},"=1"]
[null,null,null,null,null,{"$f":"IF(U266=1,((G277/100)*80))","v":false},"% of 80",{"$f":"(H278/80)*100","v":0},{"$f":"(I278/80)*100","v":0},{"$f":"(J278/80)*100","v":0},{"$f":"(K278/80)*100","v":0},{"$f":"(L278/80)*100","v":0},null,null,null,null,{"$f":"1","v":1},{"$f":"1","v":1},"=1"]
[null,null,null,null,null,null,"Limiter",{"$f":"IF(H279>100,\"100\",H279)","v":0},{"$f":"IF(I279>100,\"100\",I279)","v":0},{"$f":"IF(J279>100,\"100\",J279)","v":0},{"$f":"IF(K279>100,\"100\",K279)","v":0},{"$f":"IF(L279>100,\"100\",L279)","v":0},null,null,null,null,{"$f":"1","v":1},{"$f":"1","v":1},"=1"]
[null,null,null,null,null,null,null,null,{"$f":"IF(H280+I280+J280+K280+L280=0,0,100-(H280))","v":0},{"$f":"IF(H280+I280+J280+K280+L280=0,0,100-(H280+I280))","v":0},{"$f":"IF(J280+I280+H280+K280+L280=0,0,100-(J280+I280+H280))","v":0},{"$f":"IF(K280+J280+I280+H280+L280=0,0,100-(H280+I280+K280+J280))","v":0},null,null,null,null,{"$f":"1","v":1},{"$f":"1","v":1},"=1"]
[null,null,null,null,null,null,null,null,{"$f":"IF(I280>I281,I281,I280)","v":0},{"$f":"IF(J280>J281,J281,J280)","v":0},{"$f":"IF(K280>K281,K281,K280)","v":0},{"$f":"IF(L280>L281,L281,L280)","v":0},null,null,null,null,{"$f":"1","v":1},{"$f":"1","v":1},"=1"]
[null,null,null,null,null,null,null,null,null,null,null,{"$f":"IF(K282+J280+H280+I280>=100,0,L282)","v":0},null,null,null,null,{"$f":"1","v":1},{"$f":"1","v":1},"=1"]
[null,null,null,null,null,null,"Scores",{"$f":"IF(H277=0,0,0.01*(H280*H285))","v":0},{"$f":"IF(I277=0,0,0.01*(I282*I285))","v":0},{"$f":"IF(J277=0,0,0.01*(J282*J285))","v":0},{"$f":"IF(K277=0,0,0.01*(K282*K285))","v":0},{"$f":"IF(L277=0,0,0.01*(L283*L285))","v":0},null,null,null,null,{"$f":"1","v":1},{"$f":"1","v":1},"=1"]
[null,null,null,null,null,null,null,3,2.5,2,1.5,1,null,null,null,null,{"$f":"1","v":1},{"$f":"1","v":1},"=1"]
[null,null,"YTTERTAK (2)",null,null,"Velg elementtype:",null,null,null,null,null,null,null,null,null,null,{"$f":"IF(freq4>=4,0,1)","v":1},{"$f":"IF($R$15=0,0,IF($G$265>=2,0,1))","v":0},"=1",null,{"$f":"IF(ISERROR(VLOOKUP(G286,$T$1249:$U$1250,2,FALSE)),\"\",VLOOKUP(G286,$T$1249:$U$1250,2,FALSE))","v":""}]
[null,null,null,{"$f":"IF(G296=\"\",\"\",IF(P297>=1,\"NB! Volum av nivåene kan ikke være større enn det totale volumet for hvert enkelt materiale!\",IF(AND(P296=TRUE,type1=2,G296>100),\"NB! Prosentandel for hvert nivå må registreres i prosent av det vurderte bygningselementet, og den totale prosentandelen kan ikke være større enn den totale prosent av hvert enkelt materiale!\",\"\")))","v":""},null,null,null,null,null,null,null,null,null,null,null,null,1,0,"=1"]
[null,null,{"$f":"IF(AND(G286=\"\",Volum=\"\"),\"\",IF(AND(U286=1,L296=\"\"),\"REGISTRER FØRST DET TOTALE VOLUMET  AV MATERIALER I CELLEN NEDERST TIL HØYRE\",IF(G288:G295=\"\",\"\",IF(G296>100,\"Mengden materialer kan ikke overstige det  totale volumet!\",IF(G296<80,\"Minst 80 % av de relevante materialer må vurderes\",\"\")))))","v":""},null,"Mat. 1",null,null,null,null,null,null,null,{"$f":"IF(N288=0,0,IF(P296=TRUE,\"0\",IF(SUM(H304+I304+J304+K304+L304)>=3,\"3\",SUM(H304+I304+J304+K304+L304))))","v":0},{"$f":"IF(AND(U286=1,L296=\"\"),0,IF(OR(NOT(D287=\"\"),NOT(C288=\"\")),0,IF(ISERROR(N297),\"0\",N297)))","v":0},null,{"$f":"IF(SUM(H288:L288)>G288,\"1\",\"0\")","v":"0"},1,0,"=1"]
[null,null,null,null,"Mat. 2",null,null,null,null,null,null,null,null,{"$f":"IF(OR(G296=\"\",G296=0,G296>100),\"\",IF(N297=0,\"\",IF(N297<80,\"Ingen poeng oppnådd,\nmindre enn 80 % oppfyller kravet\",C288)))","v":""},null,{"$f":"IF(SUM(H289:L289)>G289,\"1\",\"0\")","v":"0"},1,0,"=1"]
[null,null,null,null,"Mat. 3",null,null,null,null,null,null,null,null,null,null,"0",1,0,"=1"]
[null,null,null,null,"Mat. 4",null,null,null,null,null,null,null,null,null,null,"0",1,0,"=1"]
[null,null,null,null,"Mat. 5",null,null,null,null,null,null,null,null,null,null,"0",1,0,"=1"]
[null,null,null,null,"Mat. 6",null,null,null,null,null,null,null,null,null,null,"0",1,0,"=1"]
[null,null,null,null,"Mat. 7",null,null,null,null,null,null,null,null,null,null,"0",1,0,"=1"]
[null,null,null,null,"Mat. 8",null,null,null,null,null,null,null,null,null,null,"0",1,0,"=1"]
[null,null,null,"Totalt % av bygningselementet (relevante materialer) vurdert:",null,null,{"$f":"IF(U286=\"\",\"\",IF(U286+L296=1,\"\",IF(SUM(G288:G295)=0,\"\",IF(U286=1,IF(OR(G288>L296,G289>L296,G290>L296,G291>L296,G292>L296,G293>L296,G294>L296,G295>L296,SUM(G288:G295)>L296),ROUND(SUM(G288:G295)/L296,2)*100,((SUM(G288:G295)/L296)*100)),IF(U286=2,IF(OR(G288>100,G289>100,G290>100,G291>100,G292>100,G293>100,G294>100,G295>100,SUM(G288:G295)>100),SUM(G288:G295),SUM(G288:G295)))))))","v":""},"Totalt volum:",null,null,null,180,null,null,null,{"$f":"IF(OR(H297>G297,K297>G297,L297>G297),TRUE,FALSE)","v":false},1,0,"=1"]
[null,null,{"$f":"IF(G296=0,\"0\",IF(U286=2,\"0\",IF(U286=1,(G296/100)*100,IF(U286=2,(G296/100)*100))))","v":false},{"$f":"G296","v":""},null,"Total",{"$f":"IF(SUM(G288:G295)=0,\"1\",SUM(G288:G295))","v":"1"},{"$f":"SUM(H288:H295)","v":0},{"$f":"SUM(I288:I295)","v":0},{"$f":"SUM(J288:J295)","v":0},{"$f":"SUM(K288:K295)","v":0},{"$f":"SUM(L288:L295)","v":0},null,{"$f":"SUM(H298:L298)","v":0},{"$f":"IF(G296<80,\"0,00\",IF(P297>0,\"0\",IF(G296>100,\"0,00\",IF(N288>=80,M288,IF(N288<80,0)))))","v":"0,00"},{"$f":"P288+P289+P290+P291+P292+P293+P294+P295","v":0},{"$f":"1","v":1},{"$f":"1","v":1},"=1"]
[null,null,null,null,null,null,"Percentage",{"$f":"IF(H297+G297=0,\"0\",(H297/G297)*100)","v":0},{"$f":"IF(I297+G297=0,\"0\",(I297/G297)*100)","v":0},{"$f":"IF(J297+G297=0,\"0\",(J297/G297)*100)","v":0},{"$f":"IF(K297+G297=0,\"0\",(K297/G297)*100)","v":0},{"$f":"IF(L297+G297=0,\"0\",(L297/G297)*100)","v":0},null,100,null,null,{"$f":"1","v":1},{"$f":"1","v":1},"=1"]
[null,null,null,null,null,{"$f":"IF(U286=1,((G297/100)*80))","v":false},"% of 80",{"$f":"(H298/80)*100","v":0},{"$f":"(I298/80)*100","v":0},{"$f":"(J298/80)*100","v":0},{"$f":"(K298/80)*100","v":0},{"$f":"(L298/80)*100","v":0},null,null,null,null,{"$f":"1","v":1},{"$f":"1","v":1},"=1"]
[null,null,null,null,null,null,"Limiter",{"$f":"IF(H299>100,\"100\",H299)","v":0},{"$f":"IF(I299>100,\"100\",I299)","v":0},{"$f":"IF(J299>100,\"100\",J299)","v":0},{"$f":"IF(K299>100,\"100\",K299)","v":0},{"$f":"IF(L299>100,\"100\",L299)","v":0},null,null,null,null,{"$f":"1","v":1},{"$f":"1","v":1},"=1"]
[null,null,null,null,null,null,null,null,{"$f":"IF(H300+I300+J300+K300+L300=0,0,100-(H300))","v":0},{"$f":"IF(H300+I300+J300+K300+L300=0,0,100-(H300+I300))","v":0},{"$f":"IF(J300+I300+H300+K300+L300=0,0,100-(J300+I300+H300))","v":0},{"$f":"IF(K300+J300+I300+H300+L300=0,0,100-(H300+I300+K300+J300))","v":0},null,null,null,null,{"$f":"1","v":1},{"$f":"1","v":1},"=1"]
[null,null,null,null,null,null,null,null,{"$f":"IF(I300>I301,I301,I300)","v":0},{"$f":"IF(J300>J301,J301,J300)","v":0},{"$f":"IF(K300>K301,K301,K300)","v":0},{"$f":"IF(L300>L301,L301,L300)","v":0},null,null,null,null,{"$f":"1","v":1},{"$f":"1","v":1},"=1"]
[null,null,null,null,null,null,null,null,null,null,null,{"$f":"IF(K302+J300+H300+I300>=100,0,L302)","v":0},null,null,null,null,{"$f":"1","v":1},{"$f":"1","v":1},"=1"]
[null,null,null,null,null,null,"Scores",{"$f":"IF(H297=0,0,0.01*(H300*H305))","v":0},{"$f":"IF(I297=0,0,0.01*(I302*I305))","v":0},{"$f":"IF(J297=0,0,0.01*(J302*J305))","v":0},{"$f":"IF(K297=0,0,0.01*(K302*K305))","v":0},{"$f":"IF(L297=0,0,0.01*(L303*L305))","v":0},null,null,null,null,{"$f":"1","v":1},{"$f":"1","v":1},"=1"]
[null,null,null,null,null,null,null,3,2.5,2,1.5,1,null,null,null,null,{"$f":"1","v":1},{"$f":"1","v":1},"=1"]
[null,null,"YTTERTAK (3)",null,null,"Velg elementtype:",null,null,null,null,null,null,null,null,null,null,{"$f":"IF(freq4>=5,0,1)","v":1},{"$f":"IF($R$15=0,0,IF($G$265>=3,0,1))","v":0},"=1",null,{"$f":"IF(ISERROR(VLOOKUP(G306,$T$1249:$U$1250,2,FALSE)),\"\",VLOOKUP(G306,$T$1249:$U$1250,2,FALSE))","v":""}]
[null,null,null,{"$f":"IF(G316=\"\",\"\",IF(P317>=1,\"NB! Volum av nivåene kan ikke være større enn det totale volumet for hvert enkelt materiale!\",IF(AND(P316=TRUE,type1=2,G316>100),\"NB! Prosentandel for hvert nivå må registreres i prosent av det vurderte bygningselementet, og den totale prosentandelen kan ikke være større enn den totale prosent av hvert enkelt materiale!\",\"\")))","v":""},null,null,null,null,null,null,null,null,null,null,null,null,1,0,"=1"]
[null,null,{"$f":"IF(AND(G306=\"\",Volum=\"\"),\"\",IF(AND(U306=1,L316=\"\"),\"REGISTRER FØRST DET TOTALE VOLUMET  AV MATERIALER I CELLEN NEDERST TIL HØYRE\",IF(G308:G315=\"\",\"\",IF(G316>100,\"Mengden materialer kan ikke overstige det  totale volumet!\",IF(G316<80,\"Minst 80 % av de relevante materialer må vurderes\",\"\")))))","v":""},null,"Mat. 1",null,null,null,null,null,null,null,{"$f":"IF(N308=0,0,IF(P316=TRUE,\"0\",IF(SUM(H324+I324+J324+K324+L324)>=3,\"3\",SUM(H324+I324+J324+K324+L324))))","v":0},{"$f":"IF(AND(U306=1,L316=\"\"),0,IF(OR(NOT(D307=\"\"),NOT(C308=\"\")),0,IF(ISERROR(N317),\"0\",N317)))","v":0},null,{"$f":"IF(SUM(H308:L308)>G308,\"1\",\"0\")","v":"0"},1,0,"=1"]
[null,null,null,null,"Mat. 2",null,null,null,null,null,null,null,null,{"$f":"IF(OR(G316=\"\",G316=0,G316>100),\"\",IF(N317=0,\"\",IF(N317<80,\"Ingen poeng oppnådd,\nmindre enn 80 % oppfyller kravet\",C308)))","v":""},null,{"$f":"IF(SUM(H309:L309)>G309,\"1\",\"0\")","v":"0"},1,0,"=1"]
[null,null,null,null,"Mat. 3",null,null,null,null,null,null,null,null,null,null,"0",1,0,"=1"]
[null,null,null,null,"Mat. 4",null,null,null,null,null,null,null,null,null,null,"0",1,0,"=1"]
[null,null,null,null,"Mat. 5",null,null,null,null,null,null,null,null,null,null,"0",1,0,"=1"]
[null,null,null,null,"Mat. 6",null,null,null,null,null,null,null,null,null,null,"0",1,0,"=1"]
[null,null,null,null,"Mat. 7",null,null,null,null,null,null,null,null,null,null,"0",1,0,"=1"]
[null,null,null,null,"Mat. 8",null,null,null,null,null,null,null,null,null,null,"0",1,0,"=1"]
[null,null,null,"Totalt % av bygningselementet (relevante materialer) vurdert:",null,null,{"$f":"IF(U306=\"\",\"\",IF(U306+L316=1,\"\",IF(SUM(G308:G315)=0,\"\",IF(U306=1,IF(OR(G308>L316,G309>L316,G310>L316,G311>L316,G312>L316,G313>L316,G314>L316,G315>L316,SUM(G308:G315)>L316),ROUND(SUM(G308:G315)/L316,2)*100,((SUM(G308:G315)/L316)*100)),IF(U306=2,IF(OR(G308>100,G309>100,G310>100,G311>100,G312>100,G313>100,G314>100,G315>100,SUM(G308:G315)>100),SUM(G308:G315),SUM(G308:G315)))))))","v":""},"Totalt volum:",null,null,null,null,null,null,null,{"$f":"IF(OR(H317>G317,K317>G317,L317>G317),TRUE,FALSE)","v":false},1,0,"=1"]
[null,null,{"$f":"IF(G316=0,\"0\",IF(U306=2,\"0\",IF(U306=1,(G316/100)*100,IF(U306=2,(G316/100)*100))))","v":false},{"$f":"G316","v":""},null,"Total",{"$f":"IF(SUM(G308:G315)=0,\"1\",SUM(G308:G315))","v":"1"},{"$f":"SUM(H308:H315)","v":0},{"$f":"SUM(I308:I315)","v":0},{"$f":"SUM(J308:J315)","v":0},{"$f":"SUM(K308:K315)","v":0},{"$f":"SUM(L308:L315)","v":0},null,{"$f":"SUM(H318:L318)","v":0},{"$f":"IF(G316<80,\"0,00\",IF(P317>0,\"0\",IF(G316>100,\"0,00\",IF(N308>=80,M308,IF(N308<80,0)))))","v":"0,00"},{"$f":"P308+P309+P310+P311+P312+P313+P314+P315","v":0},{"$f":"1","v":1},{"$f":"1","v":1},"=1"]
[null,null,null,null,null,null,"Percentage",{"$f":"IF(H317+G317=0,\"0\",(H317/G317)*100)","v":0},{"$f":"IF(I317+G317=0,\"0\",(I317/G317)*100)","v":0},{"$f":"IF(J317+G317=0,\"0\",(J317/G317)*100)","v":0},{"$f":"IF(K317+G317=0,\"0\",(K317/G317)*100)","v":0},{"$f":"IF(L317+G317=0,\"0\",(L317/G317)*100)","v":0},null,100,null,null,{"$f":"1","v":1},{"$f":"1","v":1},"=1"]
[null,null,null,null,null,{"$f":"IF(U306=1,((G317/100)*80))","v":false},"% of 80",{"$f":"(H318/80)*100","v":0},{"$f":"(I318/80)*100","v":0},{"$f":"(J318/80)*100","v":0},{"$f":"(K318/80)*100","v":0},{"$f":"(L318/80)*100","v":0},null,null,null,null,{"$f":"1","v":1},{"$f":"1","v":1},"=1"]
[null,null,null,null,null,null,"Limiter",{"$f":"IF(H319>100,\"100\",H319)","v":0},{"$f":"IF(I319>100,\"100\",I319)","v":0},{"$f":"IF(J319>100,\"100\",J319)","v":0},{"$f":"IF(K319>100,\"100\",K319)","v":0},{"$f":"IF(L319>100,\"100\",L319)","v":0},null,null,null,null,{"$f":"1","v":1},{"$f":"1","v":1},"=1"]
[null,null,null,null,null,null,null,null,{"$f":"IF(H320+I320+J320+K320+L320=0,0,100-(H320))","v":0},{"$f":"IF(H320+I320+J320+K320+L320=0,0,100-(H320+I320))","v":0},{"$f":"IF(J320+I320+H320+K320+L320=0,0,100-(J320+I320+H320))","v":0},{"$f":"IF(K320+J320+I320+H320+L320=0,0,100-(H320+I320+K320+J320))","v":0},null,null,null,null,{"$f":"1","v":1},{"$f":"1","v":1},"=1"]
[null,null,null,null,null,null,null,null,{"$f":"IF(I320>I321,I321,I320)","v":0},{"$f":"IF(J320>J321,J321,J320)","v":0},{"$f":"IF(K320>K321,K321,K320)","v":0},{"$f":"IF(L320>L321,L321,L320)","v":0},null,null,null,null,{"$f":"1","v":1},{"$f":"1","v":1},"=1"]
[null,null,null,null,null,null,null,null,null,null,null,{"$f":"IF(K322+J320+H320+I320>=100,0,L322)","v":0},null,null,null,null,{"$f":"1","v":1},{"$f":"1","v":1},"=1"]
[null,null,null,null,null,null,"Scores",{"$f":"IF(H317=0,0,0.01*(H320*H325))","v":0},{"$f":"IF(I317=0,0,0.01*(I322*I325))","v":0},{"$f":"IF(J317=0,0,0.01*(J322*J325))","v":0},{"$f":"IF(K317=0,0,0.01*(K322*K325))","v":0},{"$f":"IF(L317=0,0,0.01*(L323*L325))","v":0},null,null,null,null,{"$f":"1","v":1},{"$f":"1","v":1},"=1"]
[null,null,null,null,null,null,null,3,2.5,2,1.5,1,null,null,null,null,{"$f":"1","v":1},{"$f":"1","v":1},"=1"]
[null,null,"YTTERTAK (4)",null,null,"Velg elementtype:",null,null,null,null,null,null,null,null,null,null,{"$f":"IF(freq4>=6,0,1)","v":1},{"$f":"IF($R$15=0,0,IF($G$265>=4,0,1))","v":0},"=1",null,{"$f":"IF(ISERROR(VLOOKUP(G326,$T$1249:$U$1250,2,FALSE)),\"\",VLOOKUP(G326,$T$1249:$U$1250,2,FALSE))","v":""}]
[null,null,null,{"$f":"IF(G336=\"\",\"\",IF(P337>=1,\"NB! Volum av nivåene kan ikke være større enn det totale volumet for hvert enkelt materiale!\",IF(AND(P336=TRUE,type1=2,G336>100),\"NB! Prosentandel for hvert nivå må registreres i prosent av det vurderte bygningselementet, og den totale prosentandelen kan ikke være større enn den totale prosent av hvert enkelt materiale!\",\"\")))","v":""},null,null,null,null,null,null,null,null,null,null,null,null,1,0,"=1"]
[null,null,{"$f":"IF(AND(G326=\"\",Volum=\"\"),\"\",IF(AND(U326=1,L336=\"\"),\"REGISTRER FØRST DET TOTALE VOLUMET  AV MATERIALER I CELLEN NEDERST TIL HØYRE\",IF(G328:G335=\"\",\"\",IF(G336>100,\"Mengden materialer kan ikke overstige det  totale volumet!\",IF(G336<80,\"Minst 80 % av de relevante materialer må vurderes\",\"\")))))","v":""},null,"Mat. 1",null,null,null,null,null,null,null,{"$f":"IF(N328=0,0,IF(P336=TRUE,\"0\",IF(SUM(H344+I344+J344+K344+L344)>=3,\"3\",SUM(H344+I344+J344+K344+L344))))","v":0},{"$f":"IF(AND(U326=1,L336=\"\"),0,IF(OR(NOT(D327=\"\"),NOT(C328=\"\")),0,IF(ISERROR(N337),\"0\",N337)))","v":0},null,{"$f":"IF(SUM(H328:L328)>G328,\"1\",\"0\")","v":"0"},1,0,"=1"]
[null,null,null,null,"Mat. 2",null,null,null,null,null,null,null,null,{"$f":"IF(OR(G336=\"\",G336=0,G336>100),\"\",IF(N337=0,\"\",IF(N337<80,\"Ingen poeng oppnådd,\nmindre enn 80 % oppfyller kravet\",C328)))","v":""},null,{"$f":"IF(SUM(H329:L329)>G329,\"1\",\"0\")","v":"0"},1,0,"=1"]
[null,null,null,null,"Mat. 3",null,null,null,null,null,null,null,null,null,null,"0",1,0,"=1"]
[null,null,null,null,"Mat. 4",null,null,null,null,null,null,null,null,null,null,"0",1,0,"=1"]
[null,null,null,null,"Mat. 5",null,null,null,null,null,null,null,null,null,null,"0",1,0,"=1"]
[null,null,null,null,"Mat. 6",null,null,null,null,null,null,null,null,null,null,"0",1,0,"=1"]
[null,null,null,null,"Mat. 7",null,null,null,null,null,null,null,null,null,null,"0",1,0,"=1"]
[null,null,null,null,"Mat. 8",null,null,null,null,null,null,null,null,null,null,"0",1,0,"=1"]
[null,null,null,"Totalt % av bygningselementet (relevante materialer) vurdert:",null,null,{"$f":"IF(U326=\"\",\"\",IF(U326+L336=1,\"\",IF(SUM(G328:G335)=0,\"\",IF(U326=1,IF(OR(G328>L336,G329>L336,G330>L336,G331>L336,G332>L336,G333>L336,G334>L336,G335>L336,SUM(G328:G335)>L336),ROUND(SUM(G328:G335)/L336,2)*100,((SUM(G328:G335)/L336)*100)),IF(U326=2,IF(OR(G328>100,G329>100,G330>100,G331>100,G332>100,G333>100,G334>100,G335>100,SUM(G328:G335)>100),SUM(G328:G335),SUM(G328:G335)))))))","v":""},"Totalt volum:",null,null,null,null,null,null,null,{"$f":"IF(OR(H337>G337,K337>G337,L337>G337),TRUE,FALSE)","v":false},1,0,"=1"]
[null,null,{"$f":"IF(G336=0,\"0\",IF(U326=2,\"0\",IF(U326=1,(G336/100)*100,IF(U326=2,(G336/100)*100))))","v":false},{"$f":"G336","v":""},null,"Total",{"$f":"IF(SUM(G328:G335)=0,\"1\",SUM(G328:G335))","v":"1"},{"$f":"SUM(H328:H335)","v":0},{"$f":"SUM(I328:I335)","v":0},{"$f":"SUM(J328:J335)","v":0},{"$f":"SUM(K328:K335)","v":0},{"$f":"SUM(L328:L335)","v":0},null,{"$f":"SUM(H338:L338)","v":0},{"$f":"IF(G336<80,\"0,00\",IF(P337>0,\"0\",IF(G336>100,\"0,00\",IF(N328>=80,M328,IF(N328<80,0)))))","v":"0,00"},{"$f":"P328+P329+P330+P331+P332+P333+P334+P335","v":0},{"$f":"1","v":1},{"$f":"1","v":1},"=1"]
[null,null,null,null,null,null,"Percentage",{"$f":"IF(H337+G337=0,\"0\",(H337/G337)*100)","v":0},{"$f":"IF(I337+G337=0,\"0\",(I337/G337)*100)","v":0},{"$f":"IF(J337+G337=0,\"0\",(J337/G337)*100)","v":0},{"$f":"IF(K337+G337=0,\"0\",(K337/G337)*100)","v":0},{"$f":"IF(L337+G337=0,\"0\",(L337/G337)*100)","v":0},null,100,null,null,{"$f":"1","v":1},{"$f":"1","v":1},"=1"]
[null,null,null,null,null,{"$f":"IF(U326=1,((G337/100)*80))","v":false},"% of 80",{"$f":"(H338/80)*100","v":0},{"$f":"(I338/80)*100","v":0},{"$f":"(J338/80)*100","v":0},{"$f":"(K338/80)*100","v":0},{"$f":"(L338/80)*100","v":0},null,null,null,null,{"$f":"1","v":1},{"$f":"1","v":1},"=1"]
[null,null,null,null,null,null,"Limiter",{"$f":"IF(H339>100,\"100\",H339)","v":0},{"$f":"IF(I339>100,\"100\",I339)","v":0},{"$f":"IF(J339>100,\"100\",J339)","v":0},{"$f":"IF(K339>100,\"100\",K339)","v":0},{"$f":"IF(L339>100,\"100\",L339)","v":0},null,null,null,null,{"$f":"1","v":1},{"$f":"1","v":1},"=1"]
[null,null,null,null,null,null,null,null,{"$f":"IF(H340+I340+J340+K340+L340=0,0,100-(H340))","v":0},{"$f":"IF(H340+I340+J340+K340+L340=0,0,100-(H340+I340))","v":0},{"$f":"IF(J340+I340+H340+K340+L340=0,0,100-(J340+I340+H340))","v":0},{"$f":"IF(K340+J340+I340+H340+L340=0,0,100-(H340+I340+K340+J340))","v":0},null,null,null,null,{"$f":"1","v":1},{"$f":"1","v":1},"=1"]
[null,null,null,null,null,null,null,null,{"$f":"IF(I340>I341,I341,I340)","v":0},{"$f":"IF(J340>J341,J341,J340)","v":0},{"$f":"IF(K340>K341,K341,K340)","v":0},{"$f":"IF(L340>L341,L341,L340)","v":0},null,null,null,null,{"$f":"1","v":1},{"$f":"1","v":1},"=1"]
[null,null,null,null,null,null,null,null,null,null,null,{"$f":"IF(K342+J340+H340+I340>=100,0,L342)","v":0},null,null,null,null,{"$f":"1","v":1},{"$f":"1","v":1},"=1"]
[null,null,null,null,null,null,"Scores",{"$f":"IF(H337=0,0,0.01*(H340*H345))","v":0},{"$f":"IF(I337=0,0,0.01*(I342*I345))","v":0},{"$f":"IF(J337=0,0,0.01*(J342*J345))","v":0},{"$f":"IF(K337=0,0,0.01*(K342*K345))","v":0},{"$f":"IF(L337=0,0,0.01*(L343*L345))","v":0},null,null,null,null,{"$f":"1","v":1},{"$f":"1","v":1},"=1"]
[null,null,null,null,null,null,null,3,2.5,2,1.5,1,null,null,null,null,{"$f":"1","v":1},{"$f":"1","v":1},"=1"]
[null,null,"YTTERVEGGER",null,null,"Velg antall yttervegger du ønsker å vurdere (deretter trykk «velg»):",null,null,null,null,null,null,null,null,{"$f":"IF(ISERROR(O358+O378+O398+O418)/V347,\"\",(O358+O378+O398+O418)/V347)","v":0},null,{"$f":"0","v":0},{"$f":"IF($R$15=0,0,IF($G$346>=1,0,1))","v":0},"=HVIS(asstype=2;0;1)",{"$f":"VLOOKUP(G346,$T$1242:$U$1246,2,FALSE)","v":2}]
[null,null,"YTTERVEGGER (1)",null,null,"Velg elementtype:",null,null,null,null,null,null,null,null,null,null,{"$f":"IF(freq5>=3,0,1)","v":1},0,"=HVIS(asstype=2;0;1)",null,{"$f":"IF(ISERROR(VLOOKUP(G347,$T$1249:$U$1250,2,FALSE)),\"\",VLOOKUP(G347,$T$1249:$U$1250,2,FALSE))","v":""},{"$f":"IF(freq5=3,1,IF(freq5=4,2,IF(freq5=5,3,IF(freq5=6,4,1))))","v":1}]
[null,null,null,{"$f":"IF(G357=\"\",\"\",IF(P358>=1,\"NB! Volum av nivåene kan ikke være større enn det totale volumet for hvert enkelt materiale!\",IF(AND(P357=TRUE,type1=2,G357>100),\"NB! Prosentandel for hvert nivå må registreres i prosent av det vurderte bygningselementet, og den totale prosentandelen kan ikke være større enn den totale prosent av hvert enkelt materiale!\",\"\")))","v":""},null,null,null,null,null,null,null,null,null,null,null,null,1,0,"=HVIS(asstype=2;0;1)"]
[null,null,{"$f":"IF(AND(G346=\"\",Volum=\"\"),\"\",IF(AND(U347=1,L357=\"\"),\"REGISTRER FØRST DET TOTALE VOLUMET  AV MATERIALER I CELLEN NEDERST TIL HØYRE\",IF(G349:G356=\"\",\"\",IF(G357>100,\"Mengden materialer kan ikke overstige det  totale volumet!\",IF(G357<80,\"Minst 80 % av de relevante materialer må vurderes\",\"\")))))","v":""},null,"Mat. 1",null,null,null,null,null,null,null,{"$f":"IF(N349=0,0,IF(P357=TRUE,\"0\",IF(SUM(H365+I365+J365+K365+L365)>=3,\"3\",SUM(H365+I365+J365+K365+L365))))","v":0},{"$f":"IF(AND(U347=1,L357=\"\"),0,IF(OR(NOT(D348=\"\"),NOT(C349=\"\")),0,IF(ISERROR(N358),\"0\",N358)))","v":0},null,{"$f":"IF(SUM(H349:L349)>G349,\"1\",\"0\")","v":"0"},1,0,"=HVIS(asstype=2;0;1)"]
[null,null,null,null,"Mat. 2",null,null,null,null,null,null,null,null,{"$f":"IF(OR(G357=\"\",G357=0,G357>100),\"\",IF(N358=0,\"\",IF(N358<80,\"Ingen poeng oppnådd,\nmindre enn 80 % oppfyller kravet\",C349)))","v":""},null,{"$f":"IF(SUM(H350:L350)>G350,\"1\",\"0\")","v":"0"},1,0,"=HVIS(asstype=2;0;1)"]
[null,null,null,null,"Mat. 3",null,null,null,null,null,null,null,null,null,null,"0",1,0,"=HVIS(asstype=2;0;1)"]
[null,null,null,null,"Mat. 4",null,null,null,null,null,null,null,null,null,null,"0",1,0,"=HVIS(asstype=2;0;1)"]
[null,null,null,null,"Mat. 5",null,null,null,null,null,null,null,null,null,null,"0",1,0,"=HVIS(asstype=2;0;1)"]
[null,null,null,null,"Mat. 6",null,null,null,null,null,null,null,null,null,null,"0",1,0,"=HVIS(asstype=2;0;1)"]
[null,null,null,null,"Mat. 7",null,null,null,null,null,null,null,null,null,null,"0",1,0,"=HVIS(asstype=2;0;1)"]
[null,null,null,null,"Mat. 8",null,null,null,null,null,null,null,null,null,null,"0",1,0,"=HVIS(asstype=2;0;1)"]
[null,null,null,"Totalt % av bygningselementet (relevante materialer) vurdert:",null,null,{"$f":"IF(U347=\"\",\"\",IF(U347+L357=1,\"\",IF(SUM(G349:G356)=0,\"\",IF(U347=1,IF(OR(G349>L357,G350>L357,G351>L357,G352>L357,G353>L357,G354>L357,G355>L357,G356>L357,SUM(G349:G356)>L357),ROUND(SUM(G349:G356)/L357,2)*100,((SUM(G349:G356)/L357)*100)),IF(U347=2,IF(OR(G349>100,G350>100,G351>100,G352>100,G353>100,G354>100,G355>100,G356>100,SUM(G349:G356)>100),SUM(G349:G356),SUM(G349:G356)))))))","v":""},"Totalt volum:",null,null,null,null,null,null,null,{"$f":"IF(OR(H358>G358,K358>G358,L358>G358),TRUE,FALSE)","v":false},1,0,"=HVIS(asstype=2;0;1)"]
[null,null,{"$f":"IF(G357=0,\"0\",IF(U347=2,\"0\",IF(U347=1,(G357/100)*100,IF(U347=2,(G357/100)*100))))","v":false},{"$f":"G357","v":""},null,"Total",{"$f":"IF(SUM(G349:G356)=0,\"1\",SUM(G349:G356))","v":"1"},{"$f":"SUM(H349:H356)","v":0},{"$f":"SUM(I349:I356)","v":0},{"$f":"SUM(J349:J356)","v":0},{"$f":"SUM(K349:K356)","v":0},{"$f":"SUM(L349:L356)","v":0},null,{"$f":"SUM(H359:L359)","v":0},{"$f":"IF(G357<80,\"0,00\",IF(P358>0,\"0\",IF(G357>100,\"0,00\",IF(N349>=80,M349,IF(N349<80,0)))))","v":"0,00"},{"$f":"P349+P350+P351+P352+P353+P354+P355+P356","v":0},{"$f":"1","v":1},{"$f":"1","v":1},"=1"]
[null,null,null,null,null,null,"Percentage",{"$f":"IF(H358+G358=0,\"0\",(H358/G358)*100)","v":0},{"$f":"IF(I358+G358=0,\"0\",(I358/G358)*100)","v":0},{"$f":"IF(J358+G358=0,\"0\",(J358/G358)*100)","v":0},{"$f":"IF(K358+G358=0,\"0\",(K358/G358)*100)","v":0},{"$f":"IF(L358+G358=0,\"0\",(L358/G358)*100)","v":0},null,100,null,null,{"$f":"1","v":1},{"$f":"1","v":1},"=1"]
[null,null,null,null,null,{"$f":"IF(U347=1,((G358/100)*80))","v":false},"% of 80",{"$f":"(H359/80)*100","v":0},{"$f":"(I359/80)*100","v":0},{"$f":"(J359/80)*100","v":0},{"$f":"(K359/80)*100","v":0},{"$f":"(L359/80)*100","v":0},null,null,null,null,{"$f":"1","v":1},{"$f":"1","v":1},"=1"]
[null,null,null,null,null,null,"Limiter",{"$f":"IF(H360>100,\"100\",H360)","v":0},{"$f":"IF(I360>100,\"100\",I360)","v":0},{"$f":"IF(J360>100,\"100\",J360)","v":0},{"$f":"IF(K360>100,\"100\",K360)","v":0},{"$f":"IF(L360>100,\"100\",L360)","v":0},null,null,null,null,{"$f":"1","v":1},{"$f":"1","v":1},"=1"]
[null,null,null,null,null,null,null,null,{"$f":"IF(H361+I361+J361+K361+L361=0,0,100-(H361))","v":0},{"$f":"IF(H361+I361+J361+K361+L361=0,0,100-(H361+I361))","v":0},{"$f":"IF(J361+I361+H361+K361+L361=0,0,100-(J361+I361+H361))","v":0},{"$f":"IF(K361+J361+I361+H361+L361=0,0,100-(H361+I361+K361+J361))","v":0},null,null,null,null,{"$f":"1","v":1},{"$f":"1","v":1},"=1"]
[null,null,null,null,null,null,null,null,{"$f":"IF(I361>I362,I362,I361)","v":0},{"$f":"IF(J361>J362,J362,J361)","v":0},{"$f":"IF(K361>K362,K362,K361)","v":0},{"$f":"IF(L361>L362,L362,L361)","v":0},null,null,null,null,{"$f":"1","v":1},{"$f":"1","v":1},"=1"]
[null,null,null,null,null,null,null,null,null,null,null,{"$f":"IF(K363+J361+H361+I361>=100,0,L363)","v":0},null,null,null,null,{"$f":"1","v":1},{"$f":"1","v":1},"=1"]
[null,null,null,null,null,null,"Scores",{"$f":"IF(H358=0,0,0.01*(H361*H366))","v":0},{"$f":"IF(I358=0,0,0.01*(I363*I366))","v":0},{"$f":"IF(J358=0,0,0.01*(J363*J366))","v":0},{"$f":"IF(K358=0,0,0.01*(K363*K366))","v":0},{"$f":"IF(L358=0,0,0.01*(L364*L366))","v":0},null,null,null,null,{"$f":"1","v":1},{"$f":"1","v":1},"=1"]
[null,null,null,null,null,null,null,3,2.5,2,1.5,1,null,null,null,null,{"$f":"1","v":1},{"$f":"1","v":1},"=1"]
[null,null,"YTTERVEGGER (2)",null,null,"Velg elementtype:",null,null,null,null,null,null,null,null,null,null,{"$f":"IF(freq5>=4,0,1)","v":1},{"$f":"IF($R$15=0,0,IF($G$346>=2,0,1))","v":0},"=1",null,{"$f":"IF(ISERROR(VLOOKUP(G367,$T$1249:$U$1250,2,FALSE)),\"\",VLOOKUP(G367,$T$1249:$U$1250,2,FALSE))","v":""}]
[null,null,null,{"$f":"IF(G377=\"\",\"\",IF(P378>=1,\"NB! Volum av nivåene kan ikke være større enn det totale volumet for hvert enkelt materiale!\",IF(AND(P377=TRUE,type1=2,G377>100),\"NB! Prosentandel for hvert nivå må registreres i prosent av det vurderte bygningselementet, og den totale prosentandelen kan ikke være større enn den totale prosent av hvert enkelt materiale!\",\"\")))","v":""},null,null,null,null,null,null,null,null,null,null,null,null,1,0,"=1"]
[null,null,{"$f":"IF(AND(G367=\"\",Volum=\"\"),\"\",IF(AND(U367=1,L377=\"\"),\"REGISTRER FØRST DET TOTALE VOLUMET  AV MATERIALER I CELLEN NEDERST TIL HØYRE\",IF(G369:G376=\"\",\"\",IF(G377>100,\"Mengden materialer kan ikke overstige det  totale volumet!\",IF(G377<80,\"Minst 80 % av de relevante materialer må vurderes\",\"\")))))","v":""},null,"Mat. 1",null,null,null,null,null,null,null,{"$f":"IF(N369=0,0,IF(P377=TRUE,\"0\",IF(SUM(H385+I385+J385+K385+L385)>=3,\"3\",SUM(H385+I385+J385+K385+L385))))","v":0},{"$f":"IF(AND(U367=1,L377=\"\"),0,IF(OR(NOT(D368=\"\"),NOT(C369=\"\")),0,IF(ISERROR(N378),\"0\",N378)))","v":0},null,{"$f":"IF(SUM(H369:L369)>G369,\"1\",\"0\")","v":"0"},1,0,"=1"]
[null,null,null,null,"Mat. 2",null,null,null,null,null,null,null,null,{"$f":"IF(OR(G377=\"\",G377=0,G377>100),\"\",IF(N378=0,\"\",IF(N378<80,\"Ingen poeng oppnådd,\nmindre enn 80 % oppfyller kravet\",C369)))","v":""},null,{"$f":"IF(SUM(H370:L370)>G370,\"1\",\"0\")","v":"0"},1,0,"=1"]
[null,null,null,null,"Mat. 3",null,null,null,null,null,null,null,null,null,null,"0",1,0,"=1"]
[null,null,null,null,"Mat. 4",null,null,null,null,null,null,null,null,null,null,"0",1,0,"=1"]
[null,null,null,null,"Mat. 5",null,null,null,null,null,null,null,null,null,null,"0",1,0,"=1"]
[null,null,null,null,"Mat. 6",null,null,null,null,null,null,null,null,null,null,"0",1,0,"=1"]
[null,null,null,null,"Mat. 7",null,null,null,null,null,null,null,null,null,null,"0",1,0,"=1"]
[null,null,null,null,"Mat. 8",null,null,null,null,null,null,null,null,null,null,"0",1,0,"=1"]
[null,null,null,"Totalt % av bygningselementet (relevante materialer) vurdert:",null,null,{"$f":"IF(U367=\"\",\"\",IF(U367+L377=1,\"\",IF(SUM(G369:G376)=0,\"\",IF(U367=1,IF(OR(G369>L377,G370>L377,G371>L377,G372>L377,G373>L377,G374>L377,G375>L377,G376>L377,SUM(G369:G376)>L377),ROUND(SUM(G369:G376)/L377,2)*100,((SUM(G369:G376)/L377)*100)),IF(U367=2,IF(OR(G369>100,G370>100,G371>100,G372>100,G373>100,G374>100,G375>100,G376>100,SUM(G369:G376)>100),SUM(G369:G376),SUM(G369:G376)))))))","v":""},"Totalt volum:",null,null,null,null,null,null,null,{"$f":"IF(OR(H378>G378,K378>G378,L378>G378),TRUE,FALSE)","v":false},1,0,"=1"]
[null,null,{"$f":"IF(G377=0,\"0\",IF(U367=2,\"0\",IF(U367=1,(G377/100)*100,IF(U367=2,(G377/100)*100))))","v":false},{"$f":"G377","v":""},null,"Total",{"$f":"IF(SUM(G369:G376)=0,\"1\",SUM(G369:G376))","v":"1"},{"$f":"SUM(H369:H376)","v":0},{"$f":"SUM(I369:I376)","v":0},{"$f":"SUM(J369:J376)","v":0},{"$f":"SUM(K369:K376)","v":0},{"$f":"SUM(L369:L376)","v":0},null,{"$f":"SUM(H379:L379)","v":0},{"$f":"IF(G377<80,\"0,00\",IF(P378>0,\"0\",IF(G377>100,\"0,00\",IF(N369>=80,M369,IF(N369<80,0)))))","v":"0,00"},{"$f":"P369+P370+P371+P372+P373+P374+P375+P376","v":0},{"$f":"1","v":1},{"$f":"1","v":1},"=1"]
[null,null,null,null,null,null,"Percentage",{"$f":"IF(H378+G378=0,\"0\",(H378/G378)*100)","v":0},{"$f":"IF(I378+G378=0,\"0\",(I378/G378)*100)","v":0},{"$f":"IF(J378+G378=0,\"0\",(J378/G378)*100)","v":0},{"$f":"IF(K378+G378=0,\"0\",(K378/G378)*100)","v":0},{"$f":"IF(L378+G378=0,\"0\",(L378/G378)*100)","v":0},null,100,null,null,{"$f":"1","v":1},{"$f":"1","v":1},"=1"]
[null,null,null,null,null,{"$f":"IF(U367=1,((G378/100)*80))","v":false},"% of 80",{"$f":"(H379/80)*100","v":0},{"$f":"(I379/80)*100","v":0},{"$f":"(J379/80)*100","v":0},{"$f":"(K379/80)*100","v":0},{"$f":"(L379/80)*100","v":0},null,null,null,null,{"$f":"1","v":1},{"$f":"1","v":1},"=1"]
[null,null,null,null,null,null,"Limiter",{"$f":"IF(H380>100,\"100\",H380)","v":0},{"$f":"IF(I380>100,\"100\",I380)","v":0},{"$f":"IF(J380>100,\"100\",J380)","v":0},{"$f":"IF(K380>100,\"100\",K380)","v":0},{"$f":"IF(L380>100,\"100\",L380)","v":0},null,null,null,null,{"$f":"1","v":1},{"$f":"1","v":1},"=1"]
[null,null,null,null,null,null,null,null,{"$f":"IF(H381+I381+J381+K381+L381=0,0,100-(H381))","v":0},{"$f":"IF(H381+I381+J381+K381+L381=0,0,100-(H381+I381))","v":0},{"$f":"IF(J381+I381+H381+K381+L381=0,0,100-(J381+I381+H381))","v":0},{"$f":"IF(K381+J381+I381+H381+L381=0,0,100-(H381+I381+K381+J381))","v":0},null,null,null,null,{"$f":"1","v":1},{"$f":"1","v":1},"=1"]
[null,null,null,null,null,null,null,null,{"$f":"IF(I381>I382,I382,I381)","v":0},{"$f":"IF(J381>J382,J382,J381)","v":0},{"$f":"IF(K381>K382,K382,K381)","v":0},{"$f":"IF(L381>L382,L382,L381)","v":0},null,null,null,null,{"$f":"1","v":1},{"$f":"1","v":1},"=1"]
[null,null,null,null,null,null,null,null,null,null,null,{"$f":"IF(K383+J381+H381+I381>=100,0,L383)","v":0},null,null,null,null,{"$f":"1","v":1},{"$f":"1","v":1},"=1"]
[null,null,null,null,null,null,"Scores",{"$f":"IF(H378=0,0,0.01*(H381*H386))","v":0},{"$f":"IF(I378=0,0,0.01*(I383*I386))","v":0},{"$f":"IF(J378=0,0,0.01*(J383*J386))","v":0},{"$f":"IF(K378=0,0,0.01*(K383*K386))","v":0},{"$f":"IF(L378=0,0,0.01*(L384*L386))","v":0},null,null,null,null,{"$f":"1","v":1},{"$f":"1","v":1},"=1"]
[null,null,null,null,null,null,null,3,2.5,2,1.5,1,null,null,null,null,{"$f":"1","v":1},{"$f":"1","v":1},"=1"]
[null,null,"YTTERVEGGER (3)",null,null,"Velg elementtype:",null,null,null,null,null,null,null,null,null,null,{"$f":"IF(freq5>=5,0,1)","v":1},{"$f":"IF($R$15=0,0,IF($G$346>=3,0,1))","v":0},"=1",null,{"$f":"IF(ISERROR(VLOOKUP(G387,$T$1249:$U$1250,2,FALSE)),\"\",VLOOKUP(G387,$T$1249:$U$1250,2,FALSE))","v":""}]
[null,null,null,{"$f":"IF(G397=\"\",\"\",IF(P398>=1,\"NB! Volum av nivåene kan ikke være større enn det totale volumet for hvert enkelt materiale!\",IF(AND(P397=TRUE,type1=2,G397>100),\"NB! Prosentandel for hvert nivå må registreres i prosent av det vurderte bygningselementet, og den totale prosentandelen kan ikke være større enn den totale prosent av hvert enkelt materiale!\",\"\")))","v":""},null,null,null,null,null,null,null,null,null,null,null,null,1,0,"=1"]
[null,null,{"$f":"IF(AND(G387=\"\",Volum=\"\"),\"\",IF(AND(U387=1,L397=\"\"),\"REGISTRER FØRST DET TOTALE VOLUMET  AV MATERIALER I CELLEN NEDERST TIL HØYRE\",IF(G389:G396=\"\",\"\",IF(G397>100,\"Mengden materialer kan ikke overstige det  totale volumet!\",IF(G397<80,\"Minst 80 % av de relevante materialer må vurderes\",\"\")))))","v":""},null,"Mat. 1",null,null,null,null,null,null,null,{"$f":"IF(N389=0,0,IF(P397=TRUE,\"0\",IF(SUM(H405+I405+J405+K405+L405)>=3,\"3\",SUM(H405+I405+J405+K405+L405))))","v":0},{"$f":"IF(AND(U387=1,L397=\"\"),0,IF(OR(NOT(D388=\"\"),NOT(C389=\"\")),0,IF(ISERROR(N398),\"0\",N398)))","v":0},null,{"$f":"IF(SUM(H389:L389)>G389,\"1\",\"0\")","v":"0"},1,0,"=1"]
[null,null,null,null,"Mat. 2",null,null,null,null,null,null,null,null,{"$f":"IF(OR(G397=\"\",G397=0,G397>100),\"\",IF(N398=0,\"\",IF(N398<80,\"Ingen poeng oppnådd,\nmindre enn 80 % oppfyller kravet\",C389)))","v":""},null,{"$f":"IF(SUM(H390:L390)>G390,\"1\",\"0\")","v":"0"},1,0,"=1"]
[null,null,null,null,"Mat. 3",null,null,null,null,null,null,null,null,null,null,"0",1,0,"=1"]
[null,null,null,null,"Mat. 4",null,null,null,null,null,null,null,null,null,null,"0",1,0,"=1"]
[null,null,null,null,"Mat. 5",null,null,null,null,null,null,null,null,null,null,"0",1,0,"=1"]
[null,null,null,null,"Mat. 6",null,null,null,null,null,null,null,null,null,null,"0",1,0,"=1"]
[null,null,null,null,"Mat. 7",null,null,null,null,null,null,null,null,null,null,"0",1,0,"=1"]
[null,null,null,null,"Mat. 8",null,null,null,null,null,null,null,null,null,null,"0",1,0,"=1"]
[null,null,null,"Totalt % av bygningselementet (relevante materialer) vurdert:",null,null,{"$f":"IF(U387=\"\",\"\",IF(U387+L397=1,\"\",IF(SUM(G389:G396)=0,\"\",IF(U387=1,IF(OR(G389>L397,G390>L397,G391>L397,G392>L397,G393>L397,G394>L397,G395>L397,G396>L397,SUM(G389:G396)>L397),ROUND(SUM(G389:G396)/L397,2)*100,((SUM(G389:G396)/L397)*100)),IF(U387=2,IF(OR(G389>100,G390>100,G391>100,G392>100,G393>100,G394>100,G395>100,G396>100,SUM(G389:G396)>100),SUM(G389:G396),SUM(G389:G396)))))))","v":""},"Totalt volum:",null,null,null,null,null,null,null,{"$f":"IF(OR(H398>G398,K398>G398,L398>G398),TRUE,FALSE)","v":false},1,0,"=1"]
[null,null,{"$f":"IF(G397=0,\"0\",IF(U387=2,\"0\",IF(U387=1,(G397/100)*100,IF(U387=2,(G397/100)*100))))","v":false},{"$f":"G397","v":""},null,"Total",{"$f":"IF(SUM(G389:G396)=0,\"1\",SUM(G389:G396))","v":"1"},{"$f":"SUM(H389:H396)","v":0},{"$f":"SUM(I389:I396)","v":0},{"$f":"SUM(J389:J396)","v":0},{"$f":"SUM(K389:K396)","v":0},{"$f":"SUM(L389:L396)","v":0},null,{"$f":"SUM(H399:L399)","v":0},{"$f":"IF(G397<80,\"0,00\",IF(P398>0,\"0\",IF(G397>100,\"0,00\",IF(N389>=80,M389,IF(N389<80,0)))))","v":"0,00"},{"$f":"P389+P390+P391+P392+P393+P394+P395+P396","v":0},{"$f":"1","v":1},{"$f":"1","v":1},"=1"]
[null,null,null,null,null,null,"Percentage",{"$f":"IF(H398+G398=0,\"0\",(H398/G398)*100)","v":0},{"$f":"IF(I398+G398=0,\"0\",(I398/G398)*100)","v":0},{"$f":"IF(J398+G398=0,\"0\",(J398/G398)*100)","v":0},{"$f":"IF(K398+G398=0,\"0\",(K398/G398)*100)","v":0},{"$f":"IF(L398+G398=0,\"0\",(L398/G398)*100)","v":0},null,100,null,null,{"$f":"1","v":1},{"$f":"1","v":1},"=1"]
[null,null,null,null,null,{"$f":"IF(U387=1,((G398/100)*80))","v":false},"% of 80",{"$f":"(H399/80)*100","v":0},{"$f":"(I399/80)*100","v":0},{"$f":"(J399/80)*100","v":0},{"$f":"(K399/80)*100","v":0},{"$f":"(L399/80)*100","v":0},null,null,null,null,{"$f":"1","v":1},{"$f":"1","v":1},"=1"]
[null,null,null,null,null,null,"Limiter",{"$f":"IF(H400>100,\"100\",H400)","v":0},{"$f":"IF(I400>100,\"100\",I400)","v":0},{"$f":"IF(J400>100,\"100\",J400)","v":0},{"$f":"IF(K400>100,\"100\",K400)","v":0},{"$f":"IF(L400>100,\"100\",L400)","v":0},null,null,null,null,{"$f":"1","v":1},{"$f":"1","v":1},"=1"]
[null,null,null,null,null,null,null,null,{"$f":"IF(H401+I401+J401+K401+L401=0,0,100-(H401))","v":0},{"$f":"IF(H401+I401+J401+K401+L401=0,0,100-(H401+I401))","v":0},{"$f":"IF(J401+I401+H401+K401+L401=0,0,100-(J401+I401+H401))","v":0},{"$f":"IF(K401+J401+I401+H401+L401=0,0,100-(H401+I401+K401+J401))","v":0},null,null,null,null,{"$f":"1","v":1},{"$f":"1","v":1},"=1"]
[null,null,null,null,null,null,null,null,{"$f":"IF(I401>I402,I402,I401)","v":0},{"$f":"IF(J401>J402,J402,J401)","v":0},{"$f":"IF(K401>K402,K402,K401)","v":0},{"$f":"IF(L401>L402,L402,L401)","v":0},null,null,null,null,{"$f":"1","v":1},{"$f":"1","v":1},"=1"]
[null,null,null,null,null,null,null,null,null,null,null,{"$f":"IF(K403+J401+H401+I401>=100,0,L403)","v":0},null,null,null,null,{"$f":"1","v":1},{"$f":"1","v":1},"=1"]
[null,null,null,null,null,null,"Scores",{"$f":"IF(H398=0,0,0.01*(H401*H406))","v":0},{"$f":"IF(I398=0,0,0.01*(I403*I406))","v":0},{"$f":"IF(J398=0,0,0.01*(J403*J406))","v":0},{"$f":"IF(K398=0,0,0.01*(K403*K406))","v":0},{"$f":"IF(L398=0,0,0.01*(L404*L406))","v":0},null,null,null,null,{"$f":"1","v":1},{"$f":"1","v":1},"=1"]
[null,null,null,null,null,null,null,3,2.5,2,1.5,1,null,null,null,null,{"$f":"1","v":1},{"$f":"1","v":1},"=1"]
[null,null,"YTTERVEGGER (4)",null,null,"Velg elementtype:",null,null,null,null,null,null,null,null,null,null,{"$f":"IF(freq5>=6,0,1)","v":1},{"$f":"IF($R$15=0,0,IF($G$346>=4,0,1))","v":0},"=1",null,{"$f":"IF(ISERROR(VLOOKUP(G407,$T$1249:$U$1250,2,FALSE)),\"\",VLOOKUP(G407,$T$1249:$U$1250,2,FALSE))","v":""}]
[null,null,null,{"$f":"IF(G417=\"\",\"\",IF(P418>=1,\"NB! Volum av nivåene kan ikke være større enn det totale volumet for hvert enkelt materiale!\",IF(AND(P417=TRUE,type1=2,G417>100),\"NB! Prosentandel for hvert nivå må registreres i prosent av det vurderte bygningselementet, og den totale prosentandelen kan ikke være større enn den totale prosent av hvert enkelt materiale!\",\"\")))","v":""},null,null,null,null,null,null,null,null,null,null,null,null,1,0,"=1"]
[null,null,{"$f":"IF(AND(G407=\"\",Volum=\"\"),\"\",IF(AND(U407=1,L417=\"\"),\"REGISTRER FØRST DET TOTALE VOLUMET  AV MATERIALER I CELLEN NEDERST TIL HØYRE\",IF(G409:G416=\"\",\"\",IF(G417>100,\"Mengden materialer kan ikke overstige det  totale volumet!\",IF(G417<80,\"Minst 80 % av de relevante materialer må vurderes\",\"\")))))","v":""},null,"Mat. 1",null,null,null,null,null,null,null,{"$f":"IF(N409=0,0,IF(P417=TRUE,\"0\",IF(SUM(H425+I425+J425+K425+L425)>=3,\"3\",SUM(H425+I425+J425+K425+L425))))","v":0},{"$f":"IF(AND(U407=1,L417=\"\"),0,IF(OR(NOT(D408=\"\"),NOT(C409=\"\")),0,IF(ISERROR(N418),\"0\",N418)))","v":0},null,{"$f":"IF(SUM(H409:L409)>G409,\"1\",\"0\")","v":"0"},1,0,"=1"]
[null,null,null,null,"Mat. 2",null,null,null,null,null,null,null,null,{"$f":"IF(OR(G417=\"\",G417=0,G417>100),\"\",IF(N418=0,\"\",IF(N418<80,\"Ingen poeng oppnådd,\nmindre enn 80 % oppfyller kravet\",C409)))","v":""},null,{"$f":"IF(SUM(H410:L410)>G410,\"1\",\"0\")","v":"0"},1,0,"=1"]
[null,null,null,null,"Mat. 3",null,null,null,null,null,null,null,null,null,null,"0",1,0,"=1"]
[null,null,null,null,"Mat. 4",null,null,null,null,null,null,null,null,null,null,"0",1,0,"=1"]
[null,null,null,null,"Mat. 5",null,null,null,null,null,null,null,null,null,null,"0",1,0,"=1"]
[null,null,null,null,"Mat. 6",null,null,null,null,null,null,null,null,null,null,"0",1,0,"=1"]
[null,null,null,null,"Mat. 7",null,null,null,null,null,null,null,null,null,null,"0",1,0,"=1"]
[null,null,null,null,"Mat. 8",null,null,null,null,null,null,null,null,null,null,"0",1,0,"=1"]
[null,null,null,"Totalt % av bygningselementet (relevante materialer) vurdert:",null,null,{"$f":"IF(U407=\"\",\"\",IF(U407+L417=1,\"\",IF(SUM(G409:G416)=0,\"\",IF(U407=1,IF(OR(G409>L417,G410>L417,G411>L417,G412>L417,G413>L417,G414>L417,G415>L417,G416>L417,SUM(G409:G416)>L417),ROUND(SUM(G409:G416)/L417,2)*100,((SUM(G409:G416)/L417)*100)),IF(U407=2,IF(OR(G409>100,G410>100,G411>100,G412>100,G413>100,G414>100,G415>100,G416>100,SUM(G409:G416)>100),SUM(G409:G416),SUM(G409:G416)))))))","v":""},"Totalt volum:",null,null,null,null,null,null,null,{"$f":"IF(OR(H418>G418,K418>G418,L418>G418),TRUE,FALSE)","v":false},1,0,"=1"]
[null,null,{"$f":"IF(G417=0,\"0\",IF(U407=2,\"0\",IF(U407=1,(G417/100)*100,IF(U407=2,(G417/100)*100))))","v":false},{"$f":"G417","v":""},null,"Total",{"$f":"IF(SUM(G409:G416)=0,\"1\",SUM(G409:G416))","v":"1"},{"$f":"SUM(H409:H416)","v":0},{"$f":"SUM(I409:I416)","v":0},{"$f":"SUM(J409:J416)","v":0},{"$f":"SUM(K409:K416)","v":0},{"$f":"SUM(L409:L416)","v":0},null,{"$f":"SUM(H419:L419)","v":0},{"$f":"IF(G417<80,\"0,00\",IF(P418>0,\"0\",IF(G417>100,\"0,00\",IF(N409>=80,M409,IF(N409<80,0)))))","v":"0,00"},{"$f":"P409+P410+P411+P412+P413+P414+P415+P416","v":0},{"$f":"1","v":1},{"$f":"1","v":1},"=1"]
[null,null,null,null,null,null,"Percentage",{"$f":"IF(H418+G418=0,\"0\",(H418/G418)*100)","v":0},{"$f":"IF(I418+G418=0,\"0\",(I418/G418)*100)","v":0},{"$f":"IF(J418+G418=0,\"0\",(J418/G418)*100)","v":0},{"$f":"IF(K418+G418=0,\"0\",(K418/G418)*100)","v":0},{"$f":"IF(L418+G418=0,\"0\",(L418/G418)*100)","v":0},null,100,null,null,{"$f":"1","v":1},{"$f":"1","v":1},"=1"]
[null,null,null,null,null,{"$f":"IF(U407=1,((G418/100)*80))","v":false},"% of 80",{"$f":"(H419/80)*100","v":0},{"$f":"(I419/80)*100","v":0},{"$f":"(J419/80)*100","v":0},{"$f":"(K419/80)*100","v":0},{"$f":"(L419/80)*100","v":0},null,null,null,null,{"$f":"1","v":1},{"$f":"1","v":1},"=1"]
[null,null,null,null,null,null,"Limiter",{"$f":"IF(H420>100,\"100\",H420)","v":0},{"$f":"IF(I420>100,\"100\",I420)","v":0},{"$f":"IF(J420>100,\"100\",J420)","v":0},{"$f":"IF(K420>100,\"100\",K420)","v":0},{"$f":"IF(L420>100,\"100\",L420)","v":0},null,null,null,null,{"$f":"1","v":1},{"$f":"1","v":1},"=1"]
[null,null,null,null,null,null,null,null,{"$f":"IF(H421+I421+J421+K421+L421=0,0,100-(H421))","v":0},{"$f":"IF(H421+I421+J421+K421+L421=0,0,100-(H421+I421))","v":0},{"$f":"IF(J421+I421+H421+K421+L421=0,0,100-(J421+I421+H421))","v":0},{"$f":"IF(K421+J421+I421+H421+L421=0,0,100-(H421+I421+K421+J421))","v":0},null,null,null,null,{"$f":"1","v":1},{"$f":"1","v":1},"=1"]
[null,null,null,null,null,null,null,null,{"$f":"IF(I421>I422,I422,I421)","v":0},{"$f":"IF(J421>J422,J422,J421)","v":0},{"$f":"IF(K421>K422,K422,K421)","v":0},{"$f":"IF(L421>L422,L422,L421)","v":0},null,null,null,null,{"$f":"1","v":1},{"$f":"1","v":1},"=1"]
[null,null,null,null,null,null,null,null,null,null,null,{"$f":"IF(K423+J421+H421+I421>=100,0,L423)","v":0},null,null,null,null,{"$f":"1","v":1},{"$f":"1","v":1},"=1"]
[null,null,null,null,null,null,"Scores",{"$f":"IF(H418=0,0,0.01*(H421*H426))","v":0},{"$f":"IF(I418=0,0,0.01*(I423*I426))","v":0},{"$f":"IF(J418=0,0,0.01*(J423*J426))","v":0},{"$f":"IF(K418=0,0,0.01*(K423*K426))","v":0},{"$f":"IF(L418=0,0,0.01*(L424*L426))","v":0},null,null,null,null,{"$f":"1","v":1},{"$f":"1","v":1},"=1"]
[null,null,null,null,null,null,null,3,2.5,2,1.5,1,null,null,null,null,{"$f":"1","v":1},{"$f":"1","v":1},"=1"]
[null,null,"INNERVEGGER",null,null,"Velg antall innervegger du ønsker å vurdere (deretter trykk «velg»):",null,null,null,null,null,null,null,null,{"$f":"IF(ISERROR(O439+O459+O479+O499)/V428,\"\",(O439+O459+O479+O499)/V428)","v":0},null,{"$f":"0","v":0},{"$f":"IF($R$15=0,0,IF($G$427>=1,0,1))","v":0},"=HVIS(asstype=2;0;1)",{"$f":"VLOOKUP(G427,$T$1242:$U$1246,2,FALSE)","v":2}]
[null,null,"INNERVEGGER (1)",null,null,"Velg elementtype:",null,null,null,null,null,null,null,null,null,null,{"$f":"IF(freq6>=3,0,1)","v":1},0,"=HVIS(asstype=2;0;1)",null,{"$f":"IF(ISERROR(VLOOKUP(G428,$T$1249:$U$1250,2,FALSE)),\"\",VLOOKUP(G428,$T$1249:$U$1250,2,FALSE))","v":""},{"$f":"IF(freq6=3,1,IF(freq6=4,2,IF(freq6=5,3,IF(freq6=6,4,1))))","v":1}]
[null,null,null,{"$f":"IF(G438=\"\",\"\",IF(P439>=1,\"NB! Volum av nivåene kan ikke være større enn det totale volumet for hvert enkelt materiale!\",IF(AND(P438=TRUE,type1=2,G438>100),\"NB! Prosentandel for hvert nivå må registreres i prosent av det vurderte bygningselementet, og den totale prosentandelen kan ikke være større enn den totale prosent av hvert enkelt materiale!\",\"\")))","v":""},null,null,null,null,null,null,null,null,null,null,null,null,1,0,"=HVIS(asstype=2;0;1)"]
[null,null,{"$f":"IF(AND(G427=\"\",Volum=\"\"),\"\",IF(AND(U428=1,L438=\"\"),\"REGISTRER FØRST DET TOTALE VOLUMET  AV MATERIALER I CELLEN NEDERST TIL HØYRE\",IF(G430:G437=\"\",\"\",IF(G438>100,\"Mengden materialer kan ikke overstige det  totale volumet!\",IF(G438<80,\"Minst 80 % av de relevante materialer må vurderes\",\"\")))))","v":""},null,"Mat. 1",null,null,null,null,null,null,null,{"$f":"IF(N430=0,0,IF(P438=TRUE,\"0\",IF(SUM(H446+I446+J446+K446+L446)>=3,\"3\",SUM(H446+I446+J446+K446+L446))))","v":0},{"$f":"IF(AND(U428=1,L438=\"\"),0,IF(OR(NOT(D429=\"\"),NOT(C430=\"\")),0,IF(ISERROR(N439),\"0\",N439)))","v":0},null,{"$f":"IF(SUM(H430:L430)>G430,\"1\",\"0\")","v":"0"},{"$f":"IF(freq6>=3,0,1)","v":1},0,"=HVIS(asstype=2;0;1)"]
[null,null,null,null,"Mat. 2",null,null,null,null,null,null,null,null,{"$f":"IF(OR(G438=\"\",G438=0,G438>100),\"\",IF(N439=0,\"\",IF(N439<80,\"Ingen poeng oppnådd,\nmindre enn 80 % oppfyller kravet\",C430)))","v":""},null,{"$f":"IF(SUM(H431:L431)>G431,\"1\",\"0\")","v":"0"},1,0,"=HVIS(asstype=2;0;1)"]
[null,null,null,null,"Mat. 3",null,null,null,null,null,null,null,null,null,null,"0",1,0,"=HVIS(asstype=2;0;1)"]
[null,null,null,null,"Mat. 4",null,null,null,null,null,null,null,null,null,null,"0",1,0,"=HVIS(asstype=2;0;1)"]
[null,null,null,null,"Mat. 5",null,null,null,null,null,null,null,null,null,null,"0",1,0,"=HVIS(asstype=2;0;1)"]
[null,null,null,null,"Mat. 6",null,null,null,null,null,null,null,null,null,null,"0",1,0,"=HVIS(asstype=2;0;1)"]
[null,null,null,null,"Mat. 7",null,null,null,null,null,null,null,null,null,null,"0",1,0,"=HVIS(asstype=2;0;1)"]
[null,null,null,null,"Mat. 8",null,null,null,null,null,null,null,null,null,null,"0",1,0,"=HVIS(asstype=2;0;1)"]
[null,null,null,"Totalt % av bygningselementet (relevante materialer) vurdert:",null,null,{"$f":"IF(U428=\"\",\"\",IF(U428+L438=1,\"\",IF(SUM(G430:G437)=0,\"\",IF(U428=1,IF(OR(G430>L438,G431>L438,G432>L438,G433>L438,G434>L438,G435>L438,G436>L438,G437>L438,SUM(G430:G437)>L438),ROUND(SUM(G430:G437)/L438,2)*100,((SUM(G430:G437)/L438)*100)),IF(U428=2,IF(OR(G430>100,G431>100,G432>100,G433>100,G434>100,G435>100,G436>100,G437>100,SUM(G430:G437)>100),SUM(G430:G437),SUM(G430:G437)))))))","v":""},"Totalt volum:",null,null,null,null,null,null,null,{"$f":"IF(OR(H439>G439,K439>G439,L439>G439),TRUE,FALSE)","v":false},1,0,"=HVIS(asstype=2;0;1)"]
[null,null,{"$f":"IF(G438=0,\"0\",IF(U428=2,\"0\",IF(U428=1,(G438/100)*100,IF(U428=2,(G438/100)*100))))","v":false},{"$f":"G438","v":""},null,"Total",{"$f":"IF(SUM(G430:G437)=0,\"1\",SUM(G430:G437))","v":"1"},{"$f":"SUM(H430:H437)","v":0},{"$f":"SUM(I430:I437)","v":0},{"$f":"SUM(J430:J437)","v":0},{"$f":"SUM(K430:K437)","v":0},{"$f":"SUM(L430:L437)","v":0},null,{"$f":"SUM(H440:L440)","v":0},{"$f":"IF(G438<80,\"0,00\",IF(P439>0,\"0\",IF(G438>100,\"0,00\",IF(N430>=80,M430,IF(N430<80,0)))))","v":"0,00"},{"$f":"P430+P431+P432+P433+P434+P435+P436+P437","v":0},{"$f":"1","v":1},{"$f":"1","v":1},"=1"]
[null,null,null,null,null,null,"Percentage",{"$f":"IF(H439+G439=0,\"0\",(H439/G439)*100)","v":0},{"$f":"IF(I439+G439=0,\"0\",(I439/G439)*100)","v":0},{"$f":"IF(J439+G439=0,\"0\",(J439/G439)*100)","v":0},{"$f":"IF(K439+G439=0,\"0\",(K439/G439)*100)","v":0},{"$f":"IF(L439+G439=0,\"0\",(L439/G439)*100)","v":0},null,100,null,null,{"$f":"1","v":1},{"$f":"1","v":1},"=1"]
[null,null,null,null,null,{"$f":"IF(U428=1,((G439/100)*80))","v":false},"% of 80",{"$f":"(H440/80)*100","v":0},{"$f":"(I440/80)*100","v":0},{"$f":"(J440/80)*100","v":0},{"$f":"(K440/80)*100","v":0},{"$f":"(L440/80)*100","v":0},null,null,null,null,{"$f":"1","v":1},{"$f":"1","v":1},"=1"]
[null,null,null,null,null,null,"Limiter",{"$f":"IF(H441>100,\"100\",H441)","v":0},{"$f":"IF(I441>100,\"100\",I441)","v":0},{"$f":"IF(J441>100,\"100\",J441)","v":0},{"$f":"IF(K441>100,\"100\",K441)","v":0},{"$f":"IF(L441>100,\"100\",L441)","v":0},null,null,null,null,{"$f":"1","v":1},{"$f":"1","v":1},"=1"]
[null,null,null,null,null,null,null,null,{"$f":"IF(H442+I442+J442+K442+L442=0,0,100-(H442))","v":0},{"$f":"IF(H442+I442+J442+K442+L442=0,0,100-(H442+I442))","v":0},{"$f":"IF(J442+I442+H442+K442+L442=0,0,100-(J442+I442+H442))","v":0},{"$f":"IF(K442+J442+I442+H442+L442=0,0,100-(H442+I442+K442+J442))","v":0},null,null,null,null,{"$f":"1","v":1},{"$f":"1","v":1},"=1"]
[null,null,null,null,null,null,null,null,{"$f":"IF(I442>I443,I443,I442)","v":0},{"$f":"IF(J442>J443,J443,J442)","v":0},{"$f":"IF(K442>K443,K443,K442)","v":0},{"$f":"IF(L442>L443,L443,L442)","v":0},null,null,null,null,{"$f":"1","v":1},{"$f":"1","v":1},"=1"]
[null,null,null,null,null,null,null,null,null,null,null,{"$f":"IF(K444+J442+H442+I442>=100,0,L444)","v":0},null,null,null,null,{"$f":"1","v":1},{"$f":"1","v":1},"=1"]
[null,null,null,null,null,null,"Scores",{"$f":"IF(H439=0,0,0.01*(H442*H447))","v":0},{"$f":"IF(I439=0,0,0.01*(I444*I447))","v":0},{"$f":"IF(J439=0,0,0.01*(J444*J447))","v":0},{"$f":"IF(K439=0,0,0.01*(K444*K447))","v":0},{"$f":"IF(L439=0,0,0.01*(L445*L447))","v":0},null,null,null,null,{"$f":"1","v":1},{"$f":"1","v":1},"=1"]
[null,null,null,null,null,null,null,3,2.5,2,1.5,1,null,null,null,null,{"$f":"1","v":1},{"$f":"1","v":1},"=1"]
[null,null,"INNERVEGGER (2)",null,null,"Velg elementtype:",null,null,null,null,null,null,null,null,null,null,{"$f":"IF(freq6>=4,0,1)","v":1},{"$f":"IF($R$15=0,0,IF($G$427>=2,0,1))","v":0},"=1",null,{"$f":"IF(ISERROR(VLOOKUP(G448,$T$1249:$U$1250,2,FALSE)),\"\",VLOOKUP(G448,$T$1249:$U$1250,2,FALSE))","v":""}]
[null,null,null,{"$f":"IF(G458=\"\",\"\",IF(P459>=1,\"NB! Volum av nivåene kan ikke være større enn det totale volumet for hvert enkelt materiale!\",IF(AND(P458=TRUE,type1=2,G458>100),\"NB! Prosentandel for hvert nivå må registreres i prosent av det vurderte bygningselementet, og den totale prosentandelen kan ikke være større enn den totale prosent av hvert enkelt materiale!\",\"\")))","v":""},null,null,null,null,null,null,null,null,null,null,null,null,1,0,"=1"]
[null,null,{"$f":"IF(AND(G448=\"\",Volum=\"\"),\"\",IF(AND(U448=1,L458=\"\"),\"REGISTRER FØRST DET TOTALE VOLUMET  AV MATERIALER I CELLEN NEDERST TIL HØYRE\",IF(G450:G457=\"\",\"\",IF(G458>100,\"Mengden materialer kan ikke overstige det  totale volumet!\",IF(G458<80,\"Minst 80 % av de relevante materialer må vurderes\",\"\")))))","v":""},null,"Mat. 1",null,null,null,null,null,null,null,{"$f":"IF(N450=0,0,IF(P458=TRUE,\"0\",IF(SUM(H466+I466+J466+K466+L466)>=3,\"3\",SUM(H466+I466+J466+K466+L466))))","v":0},{"$f":"IF(AND(U448=1,L458=\"\"),0,IF(OR(NOT(D449=\"\"),NOT(C450=\"\")),0,IF(ISERROR(N459),\"0\",N459)))","v":0},null,{"$f":"IF(SUM(H450:L450)>G450,\"1\",\"0\")","v":"0"},1,0,"=1"]
[null,null,null,null,"Mat. 2",null,null,null,null,null,null,null,null,{"$f":"IF(OR(G458=\"\",G458=0,G458>100),\"\",IF(N459=0,\"\",IF(N459<80,\"Ingen poeng oppnådd,\nmindre enn 80 % oppfyller kravet\",C450)))","v":""},null,{"$f":"IF(SUM(H451:L451)>G451,\"1\",\"0\")","v":"0"},1,0,"=1"]
[null,null,null,null,"Mat. 3",null,null,null,null,null,null,null,null,null,null,"0",1,0,"=1"]
[null,null,null,null,"Mat. 4",null,null,null,null,null,null,null,null,null,null,"0",1,0,"=1"]
[null,null,null,null,"Mat. 5",null,null,null,null,null,null,null,null,null,null,"0",1,0,"=1"]
[null,null,null,null,"Mat. 6",null,null,null,null,null,null,null,null,null,null,"0",1,0,"=1"]
[null,null,null,null,"Mat. 7",null,null,null,null,null,null,null,null,null,null,"0",1,0,"=1"]
[null,null,null,null,"Mat. 8",null,null,null,null,null,null,null,null,null,null,"0",1,0,"=1"]
[null,null,null,"Totalt % av bygningselementet (relevante materialer) vurdert:",null,null,{"$f":"IF(U448=\"\",\"\",IF(U448+L458=1,\"\",IF(SUM(G450:G457)=0,\"\",IF(U448=1,IF(OR(G450>L458,G451>L458,G452>L458,G453>L458,G454>L458,G455>L458,G456>L458,G457>L458,SUM(G450:G457)>L458),ROUND(SUM(G450:G457)/L458,2)*100,((SUM(G450:G457)/L458)*100)),IF(U448=2,IF(OR(G450>100,G451>100,G452>100,G453>100,G454>100,G455>100,G456>100,G457>100,SUM(G450:G457)>100),SUM(G450:G457),SUM(G450:G457)))))))","v":""},"Totalt volum:",null,null,null,null,null,null,null,{"$f":"IF(OR(H459>G459,K459>G459,L459>G459),TRUE,FALSE)","v":false},1,0,"=1"]
[null,null,{"$f":"IF(G458=0,\"0\",IF(U448=2,\"0\",IF(U448=1,(G458/100)*100,IF(U448=2,(G458/100)*100))))","v":false},{"$f":"G458","v":""},null,"Total",{"$f":"IF(SUM(G450:G457)=0,\"1\",SUM(G450:G457))","v":"1"},{"$f":"SUM(H450:H457)","v":0},{"$f":"SUM(I450:I457)","v":0},{"$f":"SUM(J450:J457)","v":0},{"$f":"SUM(K450:K457)","v":0},{"$f":"SUM(L450:L457)","v":0},null,{"$f":"SUM(H460:L460)","v":0},{"$f":"IF(G458<80,\"0,00\",IF(P459>0,\"0\",IF(G458>100,\"0,00\",IF(N450>=80,M450,IF(N450<80,0)))))","v":"0,00"},{"$f":"P450+P451+P452+P453+P454+P455+P456+P457","v":0},{"$f":"1","v":1},{"$f":"1","v":1},"=1"]
[null,null,null,null,null,null,"Percentage",{"$f":"IF(H459+G459=0,\"0\",(H459/G459)*100)","v":0},{"$f":"IF(I459+G459=0,\"0\",(I459/G459)*100)","v":0},{"$f":"IF(J459+G459=0,\"0\",(J459/G459)*100)","v":0},{"$f":"IF(K459+G459=0,\"0\",(K459/G459)*100)","v":0},{"$f":"IF(L459+G459=0,\"0\",(L459/G459)*100)","v":0},null,100,null,null,{"$f":"1","v":1},{"$f":"1","v":1},"=1"]
[null,null,null,null,null,{"$f":"IF(U448=1,((G459/100)*80))","v":false},"% of 80",{"$f":"(H460/80)*100","v":0},{"$f":"(I460/80)*100","v":0},{"$f":"(J460/80)*100","v":0},{"$f":"(K460/80)*100","v":0},{"$f":"(L460/80)*100","v":0},null,null,null,null,{"$f":"1","v":1},{"$f":"1","v":1},"=1"]
[null,null,null,null,null,null,"Limiter",{"$f":"IF(H461>100,\"100\",H461)","v":0},{"$f":"IF(I461>100,\"100\",I461)","v":0},{"$f":"IF(J461>100,\"100\",J461)","v":0},{"$f":"IF(K461>100,\"100\",K461)","v":0},{"$f":"IF(L461>100,\"100\",L461)","v":0},null,null,null,null,{"$f":"1","v":1},{"$f":"1","v":1},"=1"]
[null,null,null,null,null,null,null,null,{"$f":"IF(H462+I462+J462+K462+L462=0,0,100-(H462))","v":0},{"$f":"IF(H462+I462+J462+K462+L462=0,0,100-(H462+I462))","v":0},{"$f":"IF(J462+I462+H462+K462+L462=0,0,100-(J462+I462+H462))","v":0},{"$f":"IF(K462+J462+I462+H462+L462=0,0,100-(H462+I462+K462+J462))","v":0},null,null,null,null,{"$f":"1","v":1},{"$f":"1","v":1},"=1"]
[null,null,null,null,null,null,null,null,{"$f":"IF(I462>I463,I463,I462)","v":0},{"$f":"IF(J462>J463,J463,J462)","v":0},{"$f":"IF(K462>K463,K463,K462)","v":0},{"$f":"IF(L462>L463,L463,L462)","v":0},null,null,null,null,{"$f":"1","v":1},{"$f":"1","v":1},"=1"]
[null,null,null,null,null,null,null,null,null,null,null,{"$f":"IF(K464+J462+H462+I462>=100,0,L464)","v":0},null,null,null,null,{"$f":"1","v":1},{"$f":"1","v":1},"=1"]
[null,null,null,null,null,null,"Scores",{"$f":"IF(H459=0,0,0.01*(H462*H467))","v":0},{"$f":"IF(I459=0,0,0.01*(I464*I467))","v":0},{"$f":"IF(J459=0,0,0.01*(J464*J467))","v":0},{"$f":"IF(K459=0,0,0.01*(K464*K467))","v":0},{"$f":"IF(L459=0,0,0.01*(L465*L467))","v":0},null,null,null,null,{"$f":"1","v":1},{"$f":"1","v":1},"=1"]
[null,null,null,null,null,null,null,3,2.5,2,1.5,1,null,null,null,null,{"$f":"1","v":1},{"$f":"1","v":1},"=1"]
[null,null,"INNERVEGGER (3)",null,null,"Velg elementtype:",null,null,null,null,null,null,null,null,null,null,{"$f":"IF(freq6>=5,0,1)","v":1},{"$f":"IF($R$15=0,0,IF($G$427>=3,0,1))","v":0},"=1",null,{"$f":"IF(ISERROR(VLOOKUP(G468,$T$1249:$U$1250,2,FALSE)),\"\",VLOOKUP(G468,$T$1249:$U$1250,2,FALSE))","v":""}]
[null,null,null,{"$f":"IF(G478=\"\",\"\",IF(P479>=1,\"NB! Volum av nivåene kan ikke være større enn det totale volumet for hvert enkelt materiale!\",IF(AND(P478=TRUE,type1=2,G478>100),\"NB! Prosentandel for hvert nivå må registreres i prosent av det vurderte bygningselementet, og den totale prosentandelen kan ikke være større enn den totale prosent av hvert enkelt materiale!\",\"\")))","v":""},null,null,null,null,null,null,null,null,null,null,null,null,1,0,"=1"]
[null,null,{"$f":"IF(AND(G468=\"\",Volum=\"\"),\"\",IF(AND(U468=1,L478=\"\"),\"REGISTRER FØRST DET TOTALE VOLUMET  AV MATERIALER I CELLEN NEDERST TIL HØYRE\",IF(G470:G477=\"\",\"\",IF(G478>100,\"Mengden materialer kan ikke overstige det  totale volumet!\",IF(G478<80,\"Minst 80 % av de relevante materialer må vurderes\",\"\")))))","v":""},null,"Mat. 1",null,null,null,null,null,null,null,{"$f":"IF(N470=0,0,IF(P478=TRUE,\"0\",IF(SUM(H486+I486+J486+K486+L486)>=3,\"3\",SUM(H486+I486+J486+K486+L486))))","v":0},{"$f":"IF(AND(U468=1,L478=\"\"),0,IF(OR(NOT(D469=\"\"),NOT(C470=\"\")),0,IF(ISERROR(N479),\"0\",N479)))","v":0},null,{"$f":"IF(SUM(H470:L470)>G470,\"1\",\"0\")","v":"0"},1,0,"=1"]
[null,null,null,null,"Mat. 2",null,null,null,null,null,null,null,null,{"$f":"IF(OR(G478=\"\",G478=0,G478>100),\"\",IF(N479=0,\"\",IF(N479<80,\"Ingen poeng oppnådd,\nmindre enn 80 % oppfyller kravet\",C470)))","v":""},null,{"$f":"IF(SUM(H471:L471)>G471,\"1\",\"0\")","v":"0"},1,0,"=1"]
[null,null,null,null,"Mat. 3",null,null,null,null,null,null,null,null,null,null,"0",1,0,"=1"]
[null,null,null,null,"Mat. 4",null,null,null,null,null,null,null,null,null,null,"0",1,0,"=1"]
[null,null,null,null,"Mat. 5",null,null,null,null,null,null,null,null,null,null,"0",1,0,"=1"]
[null,null,null,null,"Mat. 6",null,null,null,null,null,null,null,null,null,null,"0",1,0,"=1"]
[null,null,null,null,"Mat. 7",null,null,null,null,null,null,null,null,null,null,"0",1,0,"=1"]
[null,null,null,null,"Mat. 8",null,null,null,null,null,null,null,null,null,null,"0",1,0,"=1"]
[null,null,null,"Totalt % av bygningselementet (relevante materialer) vurdert:",null,null,{"$f":"IF(U468=\"\",\"\",IF(U468+L478=1,\"\",IF(SUM(G470:G477)=0,\"\",IF(U468=1,IF(OR(G470>L478,G471>L478,G472>L478,G473>L478,G474>L478,G475>L478,G476>L478,G477>L478,SUM(G470:G477)>L478),ROUND(SUM(G470:G477)/L478,2)*100,((SUM(G470:G477)/L478)*100)),IF(U468=2,IF(OR(G470>100,G471>100,G472>100,G473>100,G474>100,G475>100,G476>100,G477>100,SUM(G470:G477)>100),SUM(G470:G477),SUM(G470:G477)))))))","v":""},"Totalt volum:",null,null,null,null,null,null,null,{"$f":"IF(OR(H479>G479,K479>G479,L479>G479),TRUE,FALSE)","v":false},1,0,"=1"]
[null,null,{"$f":"IF(G478=0,\"0\",IF(U468=2,\"0\",IF(U468=1,(G478/100)*100,IF(U468=2,(G478/100)*100))))","v":false},{"$f":"G478","v":""},null,"Total",{"$f":"IF(SUM(G470:G477)=0,\"1\",SUM(G470:G477))","v":"1"},{"$f":"SUM(H470:H477)","v":0},{"$f":"SUM(I470:I477)","v":0},{"$f":"SUM(J470:J477)","v":0},{"$f":"SUM(K470:K477)","v":0},{"$f":"SUM(L470:L477)","v":0},null,{"$f":"SUM(H480:L480)","v":0},{"$f":"IF(G478<80,\"0,00\",IF(P479>0,\"0\",IF(G478>100,\"0,00\",IF(N470>=80,M470,IF(N470<80,0)))))","v":"0,00"},{"$f":"P470+P471+P472+P473+P474+P475+P476+P477","v":0},{"$f":"1","v":1},{"$f":"1","v":1},"=1"]
[null,null,null,null,null,null,"Percentage",{"$f":"IF(H479+G479=0,\"0\",(H479/G479)*100)","v":0},{"$f":"IF(I479+G479=0,\"0\",(I479/G479)*100)","v":0},{"$f":"IF(J479+G479=0,\"0\",(J479/G479)*100)","v":0},{"$f":"IF(K479+G479=0,\"0\",(K479/G479)*100)","v":0},{"$f":"IF(L479+G479=0,\"0\",(L479/G479)*100)","v":0},null,100,null,null,{"$f":"1","v":1},{"$f":"1","v":1},"=1"]
[null,null,null,null,null,{"$f":"IF(U468=1,((G479/100)*80))","v":false},"% of 80",{"$f":"(H480/80)*100","v":0},{"$f":"(I480/80)*100","v":0},{"$f":"(J480/80)*100","v":0},{"$f":"(K480/80)*100","v":0},{"$f":"(L480/80)*100","v":0},null,null,null,null,{"$f":"1","v":1},{"$f":"1","v":1},"=1"]
[null,null,null,null,null,null,"Limiter",{"$f":"IF(H481>100,\"100\",H481)","v":0},{"$f":"IF(I481>100,\"100\",I481)","v":0},{"$f":"IF(J481>100,\"100\",J481)","v":0},{"$f":"IF(K481>100,\"100\",K481)","v":0},{"$f":"IF(L481>100,\"100\",L481)","v":0},null,null,null,null,{"$f":"1","v":1},{"$f":"1","v":1},"=1"]
[null,null,null,null,null,null,null,null,{"$f":"IF(H482+I482+J482+K482+L482=0,0,100-(H482))","v":0},{"$f":"IF(H482+I482+J482+K482+L482=0,0,100-(H482+I482))","v":0},{"$f":"IF(J482+I482+H482+K482+L482=0,0,100-(J482+I482+H482))","v":0},{"$f":"IF(K482+J482+I482+H482+L482=0,0,100-(H482+I482+K482+J482))","v":0},null,null,null,null,{"$f":"1","v":1},{"$f":"1","v":1},"=1"]
[null,null,null,null,null,null,null,null,{"$f":"IF(I482>I483,I483,I482)","v":0},{"$f":"IF(J482>J483,J483,J482)","v":0},{"$f":"IF(K482>K483,K483,K482)","v":0},{"$f":"IF(L482>L483,L483,L482)","v":0},null,null,null,null,{"$f":"1","v":1},{"$f":"1","v":1},"=1"]
[null,null,null,null,null,null,null,null,null,null,null,{"$f":"IF(K484+J482+H482+I482>=100,0,L484)","v":0},null,null,null,null,{"$f":"1","v":1},{"$f":"1","v":1},"=1"]
[null,null,null,null,null,null,"Scores",{"$f":"IF(H479=0,0,0.01*(H482*H487))","v":0},{"$f":"IF(I479=0,0,0.01*(I484*I487))","v":0},{"$f":"IF(J479=0,0,0.01*(J484*J487))","v":0},{"$f":"IF(K479=0,0,0.01*(K484*K487))","v":0},{"$f":"IF(L479=0,0,0.01*(L485*L487))","v":0},null,null,null,null,{"$f":"1","v":1},{"$f":"1","v":1},"=1"]
[null,null,null,null,null,null,null,3,2.5,2,1.5,1,null,null,null,null,{"$f":"1","v":1},{"$f":"1","v":1},"=1"]
[null,null,"INNERVEGGER (4)",null,null,"Velg elementtype:",null,null,null,null,null,null,null,null,null,null,{"$f":"IF(freq6>=6,0,1)","v":1},{"$f":"IF($R$15=0,0,IF($G$427>=4,0,1))","v":0},"=1",null,{"$f":"IF(ISERROR(VLOOKUP(G488,$T$1249:$U$1250,2,FALSE)),\"\",VLOOKUP(G488,$T$1249:$U$1250,2,FALSE))","v":""}]
[null,null,null,{"$f":"IF(G498=\"\",\"\",IF(P499>=1,\"NB! Volum av nivåene kan ikke være større enn det totale volumet for hvert enkelt materiale!\",IF(AND(P498=TRUE,type1=2,G498>100),\"NB! Prosentandel for hvert nivå må registreres i prosent av det vurderte bygningselementet, og den totale prosentandelen kan ikke være større enn den totale prosent av hvert enkelt materiale!\",\"\")))","v":""},null,null,null,null,null,null,null,null,null,null,null,null,1,0,"=1"]
[null,null,{"$f":"IF(AND(G488=\"\",Volum=\"\"),\"\",IF(AND(U488=1,L498=\"\"),\"REGISTRER FØRST DET TOTALE VOLUMET  AV MATERIALER I CELLEN NEDERST TIL HØYRE\",IF(G490:G497=\"\",\"\",IF(G498>100,\"Mengden materialer kan ikke overstige det  totale volumet!\",IF(G498<80,\"Minst 80 % av de relevante materialer må vurderes\",\"\")))))","v":""},null,"Mat. 1",null,null,null,null,null,null,null,{"$f":"IF(N490=0,0,IF(P498=TRUE,\"0\",IF(SUM(H506+I506+J506+K506+L506)>=3,\"3\",SUM(H506+I506+J506+K506+L506))))","v":0},{"$f":"IF(AND(U488=1,L498=\"\"),0,IF(OR(NOT(D489=\"\"),NOT(C490=\"\")),0,IF(ISERROR(N499),\"0\",N499)))","v":0},null,{"$f":"IF(SUM(H490:L490)>G490,\"1\",\"0\")","v":"0"},1,0,"=1"]
[null,null,null,null,"Mat. 2",null,null,null,null,null,null,null,null,{"$f":"IF(OR(G498=\"\",G498=0,G498>100),\"\",IF(N499=0,\"\",IF(N499<80,\"Ingen poeng oppnådd,\nmindre enn 80 % oppfyller kravet\",C490)))","v":""},null,{"$f":"IF(SUM(H491:L491)>G491,\"1\",\"0\")","v":"0"},1,0,"=1"]
[null,null,null,null,"Mat. 3",null,null,null,null,null,null,null,null,null,null,"0",1,0,"=1"]
[null,null,null,null,"Mat. 4",null,null,null,null,null,null,null,null,null,null,"0",1,0,"=1"]
[null,null,null,null,"Mat. 5",null,null,null,null,null,null,null,null,null,null,"0",1,0,"=1"]
[null,null,null,null,"Mat. 6",null,null,null,null,null,null,null,null,null,null,"0",1,0,"=1"]
[null,null,null,null,"Mat. 7",null,null,null,null,null,null,null,null,null,null,"0",1,0,"=1"]
[null,null,null,null,"Mat. 8",null,null,null,null,null,null,null,null,null,null,"0",1,0,"=1"]
[null,null,null,"Totalt % av bygningselementet (relevante materialer) vurdert:",null,null,{"$f":"IF(U488=\"\",\"\",IF(U488+L498=1,\"\",IF(SUM(G490:G497)=0,\"\",IF(U488=1,IF(OR(G490>L498,G491>L498,G492>L498,G493>L498,G494>L498,G495>L498,G496>L498,G497>L498,SUM(G490:G497)>L498),ROUND(SUM(G490:G497)/L498,2)*100,((SUM(G490:G497)/L498)*100)),IF(U488=2,IF(OR(G490>100,G491>100,G492>100,G493>100,G494>100,G495>100,G496>100,G497>100,SUM(G490:G497)>100),SUM(G490:G497),SUM(G490:G497)))))))","v":""},"Totalt volum:",null,null,null,null,null,null,null,{"$f":"IF(OR(H499>G499,K499>G499,L499>G499),TRUE,FALSE)","v":false},1,0,"=1"]
[null,null,{"$f":"IF(G498=0,\"0\",IF(U488=2,\"0\",IF(U488=1,(G498/100)*100,IF(U488=2,(G498/100)*100))))","v":false},{"$f":"G498","v":""},null,"Total",{"$f":"IF(SUM(G490:G497)=0,\"1\",SUM(G490:G497))","v":"1"},{"$f":"SUM(H490:H497)","v":0},{"$f":"SUM(I490:I497)","v":0},{"$f":"SUM(J490:J497)","v":0},{"$f":"SUM(K490:K497)","v":0},{"$f":"SUM(L490:L497)","v":0},null,{"$f":"SUM(H500:L500)","v":0},{"$f":"IF(G498<80,\"0,00\",IF(P499>0,\"0\",IF(G498>100,\"0,00\",IF(N490>=80,M490,IF(N490<80,0)))))","v":"0,00"},{"$f":"P490+P491+P492+P493+P494+P495+P496+P497","v":0},{"$f":"1","v":1},{"$f":"1","v":1},"=1"]
[null,null,null,null,null,null,"Percentage",{"$f":"IF(H499+G499=0,\"0\",(H499/G499)*100)","v":0},{"$f":"IF(I499+G499=0,\"0\",(I499/G499)*100)","v":0},{"$f":"IF(J499+G499=0,\"0\",(J499/G499)*100)","v":0},{"$f":"IF(K499+G499=0,\"0\",(K499/G499)*100)","v":0},{"$f":"IF(L499+G499=0,\"0\",(L499/G499)*100)","v":0},null,100,null,null,{"$f":"1","v":1},{"$f":"1","v":1},"=1"]
[null,null,null,null,null,{"$f":"IF(U488=1,((G499/100)*80))","v":false},"% of 80",{"$f":"(H500/80)*100","v":0},{"$f":"(I500/80)*100","v":0},{"$f":"(J500/80)*100","v":0},{"$f":"(K500/80)*100","v":0},{"$f":"(L500/80)*100","v":0},null,null,null,null,{"$f":"1","v":1},{"$f":"1","v":1},"=1"]
[null,null,null,null,null,null,"Limiter",{"$f":"IF(H501>100,\"100\",H501)","v":0},{"$f":"IF(I501>100,\"100\",I501)","v":0},{"$f":"IF(J501>100,\"100\",J501)","v":0},{"$f":"IF(K501>100,\"100\",K501)","v":0},{"$f":"IF(L501>100,\"100\",L501)","v":0},null,null,null,null,{"$f":"1","v":1},{"$f":"1","v":1},"=1"]
[null,null,null,null,null,null,null,null,{"$f":"IF(H502+I502+J502+K502+L502=0,0,100-(H502))","v":0},{"$f":"IF(H502+I502+J502+K502+L502=0,0,100-(H502+I502))","v":0},{"$f":"IF(J502+I502+H502+K502+L502=0,0,100-(J502+I502+H502))","v":0},{"$f":"IF(K502+J502+I502+H502+L502=0,0,100-(H502+I502+K502+J502))","v":0},null,null,null,null,{"$f":"1","v":1},{"$f":"1","v":1},"=1"]
[null,null,null,null,null,null,null,null,{"$f":"IF(I502>I503,I503,I502)","v":0},{"$f":"IF(J502>J503,J503,J502)","v":0},{"$f":"IF(K502>K503,K503,K502)","v":0},{"$f":"IF(L502>L503,L503,L502)","v":0},null,null,null,null,{"$f":"1","v":1},{"$f":"1","v":1},"=1"]
[null,null,null,null,null,null,null,null,null,null,null,{"$f":"IF(K504+J502+H502+I502>=100,0,L504)","v":0},null,null,null,null,{"$f":"1","v":1},{"$f":"1","v":1},"=1"]
[null,null,null,null,null,null,"Scores",{"$f":"IF(H499=0,0,0.01*(H502*H507))","v":0},{"$f":"IF(I499=0,0,0.01*(I504*I507))","v":0},{"$f":"IF(J499=0,0,0.01*(J504*J507))","v":0},{"$f":"IF(K499=0,0,0.01*(K504*K507))","v":0},{"$f":"IF(L499=0,0,0.01*(L505*L507))","v":0},null,null,null,null,{"$f":"1","v":1},{"$f":"1","v":1},"=1"]
[null,null,null,null,null,null,null,3,2.5,2,1.5,1,null,null,null,null,{"$f":"1","v":1},{"$f":"1","v":1},"=1"]
[null,null,"FUNDAMENT/GRUNNMUR",null,null,"Velg antall fundament/grunnmur du ønsker å vurdere (deretter trykk «velg»):",null,null,null,null,null,null,null,null,{"$f":"IF(ISERROR(O520+O540+O560+O580)/V509,\"\",(O520+O540+O560+O580)/V509)","v":0},null,{"$f":"0","v":0},{"$f":"IF($R$15=0,0,IF($G$508>=1,0,1))","v":0},"=HVIS(asstype=2;0;1)",{"$f":"VLOOKUP(G508,$T$1242:$U$1246,2,FALSE)","v":2}]
[null,null,"FUNDAMENT/GRUNNMUR (1)",null,null,"Velg elementtype:",null,null,null,null,null,null,null,null,null,null,{"$f":"IF(freq7>=3,0,1)","v":1},0,"=HVIS(asstype=2;0;1)",null,{"$f":"IF(ISERROR(VLOOKUP(G509,$T$1249:$U$1250,2,FALSE)),\"\",VLOOKUP(G509,$T$1249:$U$1250,2,FALSE))","v":""},{"$f":"IF(freq7=3,1,IF(freq7=4,2,IF(freq7=5,3,IF(freq7=6,4,1))))","v":1}]
[null,null,null,{"$f":"IF(G519=\"\",\"\",IF(P520>=1,\"NB! Volum av nivåene kan ikke være større enn det totale volumet for hvert enkelt materiale!\",IF(AND(P519=TRUE,type1=2,G519>100),\"NB! Prosentandel for hvert nivå må registreres i prosent av det vurderte bygningselementet, og den totale prosentandelen kan ikke være større enn den totale prosent av hvert enkelt materiale!\",\"\")))","v":""},null,null,null,null,null,null,null,null,null,null,null,null,{"$f":"IF(freq7>=3,0,1)","v":1},0,"=HVIS(asstype=2;0;1)"]
[null,null,{"$f":"IF(AND(G508=\"\",Volum=\"\"),\"\",IF(AND(U509=1,L519=\"\"),\"REGISTRER FØRST DET TOTALE VOLUMET  AV MATERIALER I CELLEN NEDERST TIL HØYRE\",IF(G511:G518=\"\",\"\",IF(G519>100,\"Mengden materialer kan ikke overstige det  totale volumet!\",IF(G519<80,\"Minst 80 % av de relevante materialer må vurderes\",\"\")))))","v":""},null,"Mat. 1",null,null,null,null,null,null,null,{"$f":"IF(N511=0,0,IF(P519=TRUE,\"0\",IF(SUM(H527+I527+J527+K527+L527)>=3,\"3\",SUM(H527+I527+J527+K527+L527))))","v":0},{"$f":"IF(AND(U509=1,L519=\"\"),0,IF(OR(NOT(D510=\"\"),NOT(C511=\"\")),0,IF(ISERROR(N520),\"0\",N520)))","v":0},null,{"$f":"IF(SUM(H511:L511)>G511,\"1\",\"0\")","v":"0"},{"$f":"IF(freq7>=3,0,1)","v":1},0,"=HVIS(asstype=2;0;1)"]
[null,null,null,null,"Mat. 2",null,null,null,null,null,null,null,null,{"$f":"IF(OR(G519=\"\",G519=0,G519>100),\"\",IF(N520=0,\"\",IF(N520<80,\"Ingen poeng oppnådd,\nmindre enn 80 % oppfyller kravet\",C511)))","v":""},null,{"$f":"IF(SUM(H512:L512)>G512,\"1\",\"0\")","v":"0"},1,0,"=HVIS(asstype=2;0;1)"]
[null,null,null,null,"Mat. 3",null,null,null,null,null,null,null,null,null,null,"0",1,0,"=HVIS(asstype=2;0;1)"]
[null,null,null,null,"Mat. 4",null,null,null,null,null,null,null,null,null,null,"0",1,0,"=HVIS(asstype=2;0;1)"]
[null,null,null,null,"Mat. 5",null,null,null,null,null,null,null,null,null,null,"0",1,0,"=HVIS(asstype=2;0;1)"]
[null,null,null,null,"Mat. 6",null,null,null,null,null,null,null,null,null,null,"0",1,0,"=HVIS(asstype=2;0;1)"]
[null,null,null,null,"Mat. 7",null,null,null,null,null,null,null,null,null,null,"0",1,0,"=HVIS(asstype=2;0;1)"]
[null,null,null,null,"Mat. 8",null,null,null,null,null,null,null,null,null,null,"0",1,0,"=HVIS(asstype=2;0;1)"]
[null,null,null,"Totalt % av bygningselementet (relevante materialer) vurdert:",null,null,{"$f":"IF(U509=\"\",\"\",IF(U509+L519=1,\"\",IF(SUM(G511:G518)=0,\"\",IF(U509=1,IF(OR(G511>L519,G512>L519,G513>L519,G514>L519,G515>L519,G516>L519,G517>L519,G518>L519,SUM(G511:G518)>L519),ROUND(SUM(G511:G518)/L519,2)*100,((SUM(G511:G518)/L519)*100)),IF(U509=2,IF(OR(G511>100,G512>100,G513>100,G514>100,G515>100,G516>100,G517>100,G518>100,SUM(G511:G518)>100),SUM(G511:G518),SUM(G511:G518)))))))","v":""},"Totalt volum:",null,null,null,null,null,null,null,{"$f":"IF(OR(H520>G520,K520>G520,L520>G520),TRUE,FALSE)","v":false},1,0,"=HVIS(asstype=2;0;1)"]
[null,null,{"$f":"IF(G519=0,\"0\",IF(U509=2,\"0\",IF(U509=1,(G519/100)*100,IF(U509=2,(G519/100)*100))))","v":false},{"$f":"G519","v":""},null,"Total",{"$f":"IF(SUM(G511:G518)=0,\"1\",SUM(G511:G518))","v":"1"},{"$f":"SUM(H511:H518)","v":0},{"$f":"SUM(I511:I518)","v":0},{"$f":"SUM(J511:J518)","v":0},{"$f":"SUM(K511:K518)","v":0},{"$f":"SUM(L511:L518)","v":0},null,{"$f":"SUM(H521:L521)","v":0},{"$f":"IF(G519<80,\"0,00\",IF(P520>0,\"0\",IF(G519>100,\"0,00\",IF(N511>=80,M511,IF(N511<80,0)))))","v":"0,00"},{"$f":"P511+P512+P513+P514+P515+P516+P517+P518","v":0},{"$f":"1","v":1},{"$f":"1","v":1},"=1"]
[null,null,null,null,null,null,"Percentage",{"$f":"IF(H520+G520=0,\"0\",(H520/G520)*100)","v":0},{"$f":"IF(I520+G520=0,\"0\",(I520/G520)*100)","v":0},{"$f":"IF(J520+G520=0,\"0\",(J520/G520)*100)","v":0},{"$f":"IF(K520+G520=0,\"0\",(K520/G520)*100)","v":0},{"$f":"IF(L520+G520=0,\"0\",(L520/G520)*100)","v":0},null,100,null,null,{"$f":"1","v":1},{"$f":"1","v":1},"=1"]
[null,null,null,null,null,{"$f":"IF(U509=1,((G520/100)*80))","v":false},"% of 80",{"$f":"(H521/80)*100","v":0},{"$f":"(I521/80)*100","v":0},{"$f":"(J521/80)*100","v":0},{"$f":"(K521/80)*100","v":0},{"$f":"(L521/80)*100","v":0},null,null,null,null,{"$f":"1","v":1},{"$f":"1","v":1},"=1"]
[null,null,null,null,null,null,"Limiter",{"$f":"IF(H522>100,\"100\",H522)","v":0},{"$f":"IF(I522>100,\"100\",I522)","v":0},{"$f":"IF(J522>100,\"100\",J522)","v":0},{"$f":"IF(K522>100,\"100\",K522)","v":0},{"$f":"IF(L522>100,\"100\",L522)","v":0},null,null,null,null,{"$f":"1","v":1},{"$f":"1","v":1},"=1"]
[null,null,null,null,null,null,null,null,{"$f":"IF(H523+I523+J523+K523+L523=0,0,100-(H523))","v":0},{"$f":"IF(H523+I523+J523+K523+L523=0,0,100-(H523+I523))","v":0},{"$f":"IF(J523+I523+H523+K523+L523=0,0,100-(J523+I523+H523))","v":0},{"$f":"IF(K523+J523+I523+H523+L523=0,0,100-(H523+I523+K523+J523))","v":0},null,null,null,null,{"$f":"1","v":1},{"$f":"1","v":1},"=1"]
[null,null,null,null,null,null,null,null,{"$f":"IF(I523>I524,I524,I523)","v":0},{"$f":"IF(J523>J524,J524,J523)","v":0},{"$f":"IF(K523>K524,K524,K523)","v":0},{"$f":"IF(L523>L524,L524,L523)","v":0},null,null,null,null,{"$f":"1","v":1},{"$f":"1","v":1},"=1"]
[null,null,null,null,null,null,null,null,null,null,null,{"$f":"IF(K525+J523+H523+I523>=100,0,L525)","v":0},null,null,null,null,{"$f":"1","v":1},{"$f":"1","v":1},"=1"]
[null,null,null,null,null,null,"Scores",{"$f":"IF(H520=0,0,0.01*(H523*H528))","v":0},{"$f":"IF(I520=0,0,0.01*(I525*I528))","v":0},{"$f":"IF(J520=0,0,0.01*(J525*J528))","v":0},{"$f":"IF(K520=0,0,0.01*(K525*K528))","v":0},{"$f":"IF(L520=0,0,0.01*(L526*L528))","v":0},null,null,null,null,{"$f":"1","v":1},{"$f":"1","v":1},"=1"]
[null,null,null,null,null,null,null,3,2.5,2,1.5,1,"Total",null,null,null,{"$f":"1","v":1},{"$f":"1","v":1},"=1"]
[null,null,"FUNDAMENT/GRUNNMUR (2)",null,null,"Velg elementtype:",null,null,null,null,null,null,null,null,null,null,{"$f":"IF(freq7>=4,0,1)","v":1},{"$f":"IF($R$15=0,0,IF($G$508>=2,0,1))","v":0},"=1",null,{"$f":"IF(ISERROR(VLOOKUP(G529,$T$1249:$U$1250,2,FALSE)),\"\",VLOOKUP(G529,$T$1249:$U$1250,2,FALSE))","v":""}]
[null,null,null,{"$f":"IF(G539=\"\",\"\",IF(P540>=1,\"NB! Volum av nivåene kan ikke være større enn det totale volumet for hvert enkelt materiale!\",IF(AND(P539=TRUE,type1=2,G539>100),\"NB! Prosentandel for hvert nivå må registreres i prosent av det vurderte bygningselementet, og den totale prosentandelen kan ikke være større enn den totale prosent av hvert enkelt materiale!\",\"\")))","v":""},null,null,null,null,null,null,null,null,null,null,null,null,1,0,"=1"]
[null,null,{"$f":"IF(AND(G529=\"\",Volum=\"\"),\"\",IF(AND(U529=1,L539=\"\"),\"REGISTRER FØRST DET TOTALE VOLUMET  AV MATERIALER I CELLEN NEDERST TIL HØYRE\",IF(G531:G538=\"\",\"\",IF(G539>100,\"Mengden materialer kan ikke overstige det  totale volumet!\",IF(G539<80,\"Minst 80 % av de relevante materialer må vurderes\",\"\")))))","v":""},null,"Mat. 1",null,null,null,null,null,null,null,{"$f":"IF(N531=0,0,IF(P539=TRUE,\"0\",IF(SUM(H547+I547+J547+K547+L547)>=3,\"3\",SUM(H547+I547+J547+K547+L547))))","v":0},{"$f":"IF(AND(U529=1,L539=\"\"),0,IF(OR(NOT(D530=\"\"),NOT(C531=\"\")),0,IF(ISERROR(N540),\"0\",N540)))","v":0},null,{"$f":"IF(SUM(H531:L531)>G531,\"1\",\"0\")","v":"0"},1,0,"=1"]
[null,null,null,null,"Mat. 2",null,null,null,null,null,null,null,null,{"$f":"IF(OR(G539=\"\",G539=0,G539>100),\"\",IF(N540=0,\"\",IF(N540<80,\"Ingen poeng oppnådd,\nmindre enn 80 % oppfyller kravet\",C531)))","v":""},null,{"$f":"IF(SUM(H532:L532)>G532,\"1\",\"0\")","v":"0"},1,0,"=1"]
[null,null,null,null,"Mat. 3",null,null,null,null,null,null,null,null,null,null,"0",1,0,"=1"]
[null,null,null,null,"Mat. 4",null,null,null,null,null,null,null,null,null,null,"0",1,0,"=1"]
[null,null,null,null,"Mat. 5",null,null,null,null,null,null,null,null,null,null,"0",1,0,"=1"]
[null,null,null,null,"Mat. 6",null,null,null,null,null,null,null,null,null,null,"0",1,0,"=1"]
[null,null,null,null,"Mat. 7",null,null,null,null,null,null,null,null,null,null,"0",1,0,"=1"]
[null,null,null,null,"Mat. 8",null,null,null,null,null,null,null,null,null,null,"0",1,0,"=1"]
[null,null,null,"Totalt % av bygningselementet (relevante materialer) vurdert:",null,null,{"$f":"IF(U529=\"\",\"\",IF(U529+L539=1,\"\",IF(SUM(G531:G538)=0,\"\",IF(U529=1,IF(OR(G531>L539,G532>L539,G533>L539,G534>L539,G535>L539,G536>L539,G537>L539,G538>L539,SUM(G531:G538)>L539),ROUND(SUM(G531:G538)/L539,2)*100,((SUM(G531:G538)/L539)*100)),IF(U529=2,IF(OR(G531>100,G532>100,G533>100,G534>100,G535>100,G536>100,G537>100,G538>100,SUM(G531:G538)>100),SUM(G531:G538),SUM(G531:G538)))))))","v":""},"Totalt volum:",null,null,null,null,null,null,null,{"$f":"IF(OR(H540>G540,K540>G540,L540>G540),TRUE,FALSE)","v":false},1,0,"=1"]
[null,null,{"$f":"IF(G539=0,\"0\",IF(U529=2,\"0\",IF(U529=1,(G539/100)*100,IF(U529=2,(G539/100)*100))))","v":false},{"$f":"G539","v":""},null,"Total",{"$f":"IF(SUM(G531:G538)=0,\"1\",SUM(G531:G538))","v":"1"},{"$f":"SUM(H531:H538)","v":0},{"$f":"SUM(I531:I538)","v":0},{"$f":"SUM(J531:J538)","v":0},{"$f":"SUM(K531:K538)","v":0},{"$f":"SUM(L531:L538)","v":0},null,{"$f":"SUM(H541:L541)","v":0},{"$f":"IF(G539<80,\"0,00\",IF(P540>0,\"0\",IF(G539>100,\"0,00\",IF(N531>=80,M531,IF(N531<80,0)))))","v":"0,00"},{"$f":"P531+P532+P533+P534+P535+P536+P537+P538","v":0},{"$f":"1","v":1},{"$f":"1","v":1},"=1"]
[null,null,null,null,null,null,"Percentage",{"$f":"IF(H540+G540=0,\"0\",(H540/G540)*100)","v":0},{"$f":"IF(I540+G540=0,\"0\",(I540/G540)*100)","v":0},{"$f":"IF(J540+G540=0,\"0\",(J540/G540)*100)","v":0},{"$f":"IF(K540+G540=0,\"0\",(K540/G540)*100)","v":0},{"$f":"IF(L540+G540=0,\"0\",(L540/G540)*100)","v":0},null,100,null,null,{"$f":"1","v":1},{"$f":"1","v":1},"=1"]
[null,null,null,null,null,{"$f":"IF(U529=1,((G540/100)*80))","v":false},"% of 80",{"$f":"(H541/80)*100","v":0},{"$f":"(I541/80)*100","v":0},{"$f":"(J541/80)*100","v":0},{"$f":"(K541/80)*100","v":0},{"$f":"(L541/80)*100","v":0},null,null,null,null,{"$f":"1","v":1},{"$f":"1","v":1},"=1"]
[null,null,null,null,null,null,"Limiter",{"$f":"IF(H542>100,\"100\",H542)","v":0},{"$f":"IF(I542>100,\"100\",I542)","v":0},{"$f":"IF(J542>100,\"100\",J542)","v":0},{"$f":"IF(K542>100,\"100\",K542)","v":0},{"$f":"IF(L542>100,\"100\",L542)","v":0},null,null,null,null,{"$f":"1","v":1},{"$f":"1","v":1},"=1"]
[null,null,null,null,null,null,null,null,{"$f":"IF(H543+I543+J543+K543+L543=0,0,100-(H543))","v":0},{"$f":"IF(H543+I543+J543+K543+L543=0,0,100-(H543+I543))","v":0},{"$f":"IF(J543+I543+H543+K543+L543=0,0,100-(J543+I543+H543))","v":0},{"$f":"IF(K543+J543+I543+H543+L543=0,0,100-(H543+I543+K543+J543))","v":0},null,null,null,null,{"$f":"1","v":1},{"$f":"1","v":1},"=1"]
[null,null,null,null,null,null,null,null,{"$f":"IF(I543>I544,I544,I543)","v":0},{"$f":"IF(J543>J544,J544,J543)","v":0},{"$f":"IF(K543>K544,K544,K543)","v":0},{"$f":"IF(L543>L544,L544,L543)","v":0},null,null,null,null,{"$f":"1","v":1},{"$f":"1","v":1},"=1"]
[null,null,null,null,null,null,null,null,null,null,null,{"$f":"IF(K545+J543+H543+I543>=100,0,L545)","v":0},null,null,null,null,{"$f":"1","v":1},{"$f":"1","v":1},"=1"]
[null,null,null,null,null,null,"Scores",{"$f":"IF(H540=0,0,0.01*(H543*H548))","v":0},{"$f":"IF(I540=0,0,0.01*(I545*I548))","v":0},{"$f":"IF(J540=0,0,0.01*(J545*J548))","v":0},{"$f":"IF(K540=0,0,0.01*(K545*K548))","v":0},{"$f":"IF(L540=0,0,0.01*(L546*L548))","v":0},null,null,null,null,{"$f":"1","v":1},{"$f":"1","v":1},"=1"]
[null,null,null,null,null,null,null,3,2.5,2,1.5,1,"Total",null,null,null,{"$f":"1","v":1},{"$f":"1","v":1},"=1"]
[null,null,"FUNDAMENT/GRUNNMUR (3)",null,null,"Velg elementtype:",null,null,null,null,null,null,null,null,null,null,{"$f":"IF(freq7>=5,0,1)","v":1},{"$f":"IF($R$15=0,0,IF($G$508>=3,0,1))","v":0},"=1",null,{"$f":"IF(ISERROR(VLOOKUP(G549,$T$1249:$U$1250,2,FALSE)),\"\",VLOOKUP(G549,$T$1249:$U$1250,2,FALSE))","v":""}]
[null,null,null,{"$f":"IF(G559=\"\",\"\",IF(P560>=1,\"NB! Volum av nivåene kan ikke være større enn det totale volumet for hvert enkelt materiale!\",IF(AND(P559=TRUE,type1=2,G559>100),\"NB! Prosentandel for hvert nivå må registreres i prosent av det vurderte bygningselementet, og den totale prosentandelen kan ikke være større enn den totale prosent av hvert enkelt materiale!\",\"\")))","v":""},null,null,null,null,null,null,null,null,null,null,null,null,1,0,"=1"]
[null,null,{"$f":"IF(AND(G549=\"\",Volum=\"\"),\"\",IF(AND(U549=1,L559=\"\"),\"REGISTRER FØRST DET TOTALE VOLUMET  AV MATERIALER I CELLEN NEDERST TIL HØYRE\",IF(G551:G558=\"\",\"\",IF(G559>100,\"Mengden materialer kan ikke overstige det  totale volumet!\",IF(G559<80,\"Minst 80 % av de relevante materialer må vurderes\",\"\")))))","v":""},null,"Mat. 1",null,null,null,null,null,null,null,{"$f":"IF(N551=0,0,IF(P559=TRUE,\"0\",IF(SUM(H567+I567+J567+K567+L567)>=3,\"3\",SUM(H567+I567+J567+K567+L567))))","v":0},{"$f":"IF(AND(U549=1,L559=\"\"),0,IF(OR(NOT(D550=\"\"),NOT(C551=\"\")),0,IF(ISERROR(N560),\"0\",N560)))","v":0},null,{"$f":"IF(SUM(H551:L551)>G551,\"1\",\"0\")","v":"0"},1,0,"=1"]
[null,null,null,null,"Mat. 2",null,null,null,null,null,null,null,null,{"$f":"IF(OR(G559=\"\",G559=0,G559>100),\"\",IF(N560=0,\"\",IF(N560<80,\"Ingen poeng oppnådd,\nmindre enn 80 % oppfyller kravet\",C551)))","v":""},null,{"$f":"IF(SUM(H552:L552)>G552,\"1\",\"0\")","v":"0"},1,0,"=1"]
[null,null,null,null,"Mat. 3",null,null,null,null,null,null,null,null,null,null,"0",1,0,"=1"]
[null,null,null,null,"Mat. 4",null,null,null,null,null,null,null,null,null,null,"0",1,0,"=1"]
[null,null,null,null,"Mat. 5",null,null,null,null,null,null,null,null,null,null,"0",1,0,"=1"]
[null,null,null,null,"Mat. 6",null,null,null,null,null,null,null,null,null,null,"0",1,0,"=1"]
[null,null,null,null,"Mat. 7",null,null,null,null,null,null,null,null,null,null,"0",1,0,"=1"]
[null,null,null,null,"Mat. 8",null,null,null,null,null,null,null,null,null,null,"0",1,0,"=1"]
[null,null,null,"Totalt % av bygningselementet (relevante materialer) vurdert:",null,null,{"$f":"IF(U549=\"\",\"\",IF(U549+L559=1,\"\",IF(SUM(G551:G558)=0,\"\",IF(U549=1,IF(OR(G551>L559,G552>L559,G553>L559,G554>L559,G555>L559,G556>L559,G557>L559,G558>L559,SUM(G551:G558)>L559),ROUND(SUM(G551:G558)/L559,2)*100,((SUM(G551:G558)/L559)*100)),IF(U549=2,IF(OR(G551>100,G552>100,G553>100,G554>100,G555>100,G556>100,G557>100,G558>100,SUM(G551:G558)>100),SUM(G551:G558),SUM(G551:G558)))))))","v":""},"Totalt volum:",null,null,null,null,null,null,null,{"$f":"IF(OR(H560>G560,K560>G560,L560>G560),TRUE,FALSE)","v":false},1,0,"=1"]
[null,null,{"$f":"IF(G559=0,\"0\",IF(U549=2,\"0\",IF(U549=1,(G559/100)*100,IF(U549=2,(G559/100)*100))))","v":false},{"$f":"G559","v":""},null,"Total",{"$f":"IF(SUM(G551:G558)=0,\"1\",SUM(G551:G558))","v":"1"},{"$f":"SUM(H551:H558)","v":0},{"$f":"SUM(I551:I558)","v":0},{"$f":"SUM(J551:J558)","v":0},{"$f":"SUM(K551:K558)","v":0},{"$f":"SUM(L551:L558)","v":0},null,{"$f":"SUM(H561:L561)","v":0},{"$f":"IF(G559<80,\"0,00\",IF(P560>0,\"0\",IF(G559>100,\"0,00\",IF(N551>=80,M551,IF(N551<80,0)))))","v":"0,00"},{"$f":"P551+P552+P553+P554+P555+P556+P557+P558","v":0},{"$f":"1","v":1},{"$f":"1","v":1},"=1"]
[null,null,null,null,null,null,"Percentage",{"$f":"IF(H560+G560=0,\"0\",(H560/G560)*100)","v":0},{"$f":"IF(I560+G560=0,\"0\",(I560/G560)*100)","v":0},{"$f":"IF(J560+G560=0,\"0\",(J560/G560)*100)","v":0},{"$f":"IF(K560+G560=0,\"0\",(K560/G560)*100)","v":0},{"$f":"IF(L560+G560=0,\"0\",(L560/G560)*100)","v":0},null,100,null,null,{"$f":"1","v":1},{"$f":"1","v":1},"=1"]
[null,null,null,null,null,{"$f":"IF(U549=1,((G560/100)*80))","v":false},"% of 80",{"$f":"(H561/80)*100","v":0},{"$f":"(I561/80)*100","v":0},{"$f":"(J561/80)*100","v":0},{"$f":"(K561/80)*100","v":0},{"$f":"(L561/80)*100","v":0},null,null,null,null,{"$f":"1","v":1},{"$f":"1","v":1},"=1"]
[null,null,null,null,null,null,"Limiter",{"$f":"IF(H562>100,\"100\",H562)","v":0},{"$f":"IF(I562>100,\"100\",I562)","v":0},{"$f":"IF(J562>100,\"100\",J562)","v":0},{"$f":"IF(K562>100,\"100\",K562)","v":0},{"$f":"IF(L562>100,\"100\",L562)","v":0},null,null,null,null,{"$f":"1","v":1},{"$f":"1","v":1},"=1"]
[null,null,null,null,null,null,null,null,{"$f":"IF(H563+I563+J563+K563+L563=0,0,100-(H563))","v":0},{"$f":"IF(H563+I563+J563+K563+L563=0,0,100-(H563+I563))","v":0},{"$f":"IF(J563+I563+H563+K563+L563=0,0,100-(J563+I563+H563))","v":0},{"$f":"IF(K563+J563+I563+H563+L563=0,0,100-(H563+I563+K563+J563))","v":0},null,null,null,null,{"$f":"1","v":1},{"$f":"1","v":1},"=1"]
[null,null,null,null,null,null,null,null,{"$f":"IF(I563>I564,I564,I563)","v":0},{"$f":"IF(J563>J564,J564,J563)","v":0},{"$f":"IF(K563>K564,K564,K563)","v":0},{"$f":"IF(L563>L564,L564,L563)","v":0},null,null,null,null,{"$f":"1","v":1},{"$f":"1","v":1},"=1"]
[null,null,null,null,null,null,null,null,null,null,null,{"$f":"IF(K565+J563+H563+I563>=100,0,L565)","v":0},null,null,null,null,{"$f":"1","v":1},{"$f":"1","v":1},"=1"]
[null,null,null,null,null,null,"Scores",{"$f":"IF(H560=0,0,0.01*(H563*H568))","v":0},{"$f":"IF(I560=0,0,0.01*(I565*I568))","v":0},{"$f":"IF(J560=0,0,0.01*(J565*J568))","v":0},{"$f":"IF(K560=0,0,0.01*(K565*K568))","v":0},{"$f":"IF(L560=0,0,0.01*(L566*L568))","v":0},null,null,null,null,{"$f":"1","v":1},{"$f":"1","v":1},"=1"]
[null,null,null,null,null,null,null,3,2.5,2,1.5,1,"Total",null,null,null,{"$f":"1","v":1},{"$f":"1","v":1},"=1"]
[null,null,"FUNDAMENT/GRUNNMUR (4)",null,null,"Velg elementtype:",null,null,null,null,null,null,null,null,null,null,{"$f":"IF(freq7>=6,0,1)","v":1},{"$f":"IF($R$15=0,0,IF($G$508>=4,0,1))","v":0},"=1",null,{"$f":"IF(ISERROR(VLOOKUP(G569,$T$1249:$U$1250,2,FALSE)),\"\",VLOOKUP(G569,$T$1249:$U$1250,2,FALSE))","v":""}]
[null,null,null,{"$f":"IF(G579=\"\",\"\",IF(P580>=1,\"NB! Volum av nivåene kan ikke være større enn det totale volumet for hvert enkelt materiale!\",IF(AND(P579=TRUE,type1=2,G579>100),\"NB! Prosentandel for hvert nivå må registreres i prosent av det vurderte bygningselementet, og den totale prosentandelen kan ikke være større enn den totale prosent av hvert enkelt materiale!\",\"\")))","v":""},null,null,null,null,null,null,null,null,null,null,null,null,1,0,"=1"]
[null,null,{"$f":"IF(AND(G569=\"\",Volum=\"\"),\"\",IF(AND(U569=1,L579=\"\"),\"REGISTRER FØRST DET TOTALE VOLUMET  AV MATERIALER I CELLEN NEDERST TIL HØYRE\",IF(G571:G578=\"\",\"\",IF(G579>100,\"Mengden materialer kan ikke overstige det  totale volumet!\",IF(G579<80,\"Minst 80 % av de relevante materialer må vurderes\",\"\")))))","v":""},null,"Mat. 1",null,null,null,null,null,null,null,{"$f":"IF(N571=0,0,IF(P579=TRUE,\"0\",IF(SUM(H587+I587+J587+K587+L587)>=3,\"3\",SUM(H587+I587+J587+K587+L587))))","v":0},{"$f":"IF(AND(U569=1,L579=\"\"),0,IF(OR(NOT(D570=\"\"),NOT(C571=\"\")),0,IF(ISERROR(N580),\"0\",N580)))","v":0},null,{"$f":"IF(SUM(H571:L571)>G571,\"1\",\"0\")","v":"0"},1,0,"=1"]
[null,null,null,null,"Mat. 2",null,null,null,null,null,null,null,null,{"$f":"IF(OR(G579=\"\",G579=0,G579>100),\"\",IF(N580=0,\"\",IF(N580<80,\"Ingen poeng oppnådd,\nmindre enn 80 % oppfyller kravet\",C571)))","v":""},null,{"$f":"IF(SUM(H572:L572)>G572,\"1\",\"0\")","v":"0"},1,0,"=1"]
[null,null,null,null,"Mat. 3",null,null,null,null,null,null,null,null,null,null,"0",1,0,"=1"]
[null,null,null,null,"Mat. 4",null,null,null,null,null,null,null,null,null,null,"0",1,0,"=1"]
[null,null,null,null,"Mat. 5",null,null,null,null,null,null,null,null,null,null,"0",1,0,"=1"]
[null,null,null,null,"Mat. 6",null,null,null,null,null,null,null,null,null,null,"0",1,0,"=1"]
[null,null,null,null,"Mat. 7",null,null,null,null,null,null,null,null,null,null,"0",1,0,"=1"]
[null,null,null,null,"Mat. 8",null,null,null,null,null,null,null,null,null,null,"0",1,0,"=1"]
[null,null,null,"Totalt % av bygningselementet (relevante materialer) vurdert:",null,null,{"$f":"IF(U569=\"\",\"\",IF(U569+L579=1,\"\",IF(SUM(G571:G578)=0,\"\",IF(U569=1,IF(OR(G571>L579,G572>L579,G573>L579,G574>L579,G575>L579,G576>L579,G577>L579,G578>L579,SUM(G571:G578)>L579),ROUND(SUM(G571:G578)/L579,2)*100,((SUM(G571:G578)/L579)*100)),IF(U569=2,IF(OR(G571>100,G572>100,G573>100,G574>100,G575>100,G576>100,G577>100,G578>100,SUM(G571:G578)>100),SUM(G571:G578),SUM(G571:G578)))))))","v":""},"Totalt volum:",null,null,null,null,null,null,null,{"$f":"IF(OR(H580>G580,K580>G580,L580>G580),TRUE,FALSE)","v":false},1,0,"=1"]
[null,null,{"$f":"IF(G579=0,\"0\",IF(U569=2,\"0\",IF(U569=1,(G579/100)*100,IF(U569=2,(G579/100)*100))))","v":false},{"$f":"G579","v":""},null,"Total",{"$f":"IF(SUM(G571:G578)=0,\"1\",SUM(G571:G578))","v":"1"},{"$f":"SUM(H571:H578)","v":0},{"$f":"SUM(I571:I578)","v":0},{"$f":"SUM(J571:J578)","v":0},{"$f":"SUM(K571:K578)","v":0},{"$f":"SUM(L571:L578)","v":0},null,{"$f":"SUM(H581:L581)","v":0},{"$f":"IF(G579<80,\"0,00\",IF(P580>0,\"0\",IF(G579>100,\"0,00\",IF(N571>=80,M571,IF(N571<80,0)))))","v":"0,00"},{"$f":"P571+P572+P573+P574+P575+P576+P577+P578","v":0},{"$f":"1","v":1},{"$f":"1","v":1},"=1"]
[null,null,null,null,null,null,"Percentage",{"$f":"IF(H580+G580=0,\"0\",(H580/G580)*100)","v":0},{"$f":"IF(I580+G580=0,\"0\",(I580/G580)*100)","v":0},{"$f":"IF(J580+G580=0,\"0\",(J580/G580)*100)","v":0},{"$f":"IF(K580+G580=0,\"0\",(K580/G580)*100)","v":0},{"$f":"IF(L580+G580=0,\"0\",(L580/G580)*100)","v":0},null,100,null,null,{"$f":"1","v":1},{"$f":"1","v":1},"=1"]
[null,null,null,null,null,{"$f":"IF(U569=1,((G580/100)*80))","v":false},"% of 80",{"$f":"(H581/80)*100","v":0},{"$f":"(I581/80)*100","v":0},{"$f":"(J581/80)*100","v":0},{"$f":"(K581/80)*100","v":0},{"$f":"(L581/80)*100","v":0},null,null,null,null,{"$f":"1","v":1},{"$f":"1","v":1},"=1"]
[null,null,null,null,null,null,"Limiter",{"$f":"IF(H582>100,\"100\",H582)","v":0},{"$f":"IF(I582>100,\"100\",I582)","v":0},{"$f":"IF(J582>100,\"100\",J582)","v":0},{"$f":"IF(K582>100,\"100\",K582)","v":0},{"$f":"IF(L582>100,\"100\",L582)","v":0},null,null,null,null,{"$f":"1","v":1},{"$f":"1","v":1},"=1"]
[null,null,null,null,null,null,null,null,{"$f":"IF(H583+I583+J583+K583+L583=0,0,100-(H583))","v":0},{"$f":"IF(H583+I583+J583+K583+L583=0,0,100-(H583+I583))","v":0},{"$f":"IF(J583+I583+H583+K583+L583=0,0,100-(J583+I583+H583))","v":0},{"$f":"IF(K583+J583+I583+H583+L583=0,0,100-(H583+I583+K583+J583))","v":0},null,null,null,null,{"$f":"1","v":1},{"$f":"1","v":1},"=1"]
[null,null,null,null,null,null,null,null,{"$f":"IF(I583>I584,I584,I583)","v":0},{"$f":"IF(J583>J584,J584,J583)","v":0},{"$f":"IF(K583>K584,K584,K583)","v":0},{"$f":"IF(L583>L584,L584,L583)","v":0},null,null,null,null,{"$f":"1","v":1},{"$f":"1","v":1},"=1"]
[null,null,null,null,null,null,null,null,null,null,null,{"$f":"IF(K585+J583+H583+I583>=100,0,L585)","v":0},null,null,null,null,{"$f":"1","v":1},{"$f":"1","v":1},"=1"]
[null,null,null,null,null,null,"Scores",{"$f":"IF(H580=0,0,0.01*(H583*H588))","v":0},{"$f":"IF(I580=0,0,0.01*(I585*I588))","v":0},{"$f":"IF(J580=0,0,0.01*(J585*J588))","v":0},{"$f":"IF(K580=0,0,0.01*(K585*K588))","v":0},{"$f":"IF(L580=0,0,0.01*(L586*L588))","v":0},null,null,null,null,{"$f":"1","v":1},{"$f":"1","v":1},"=1"]
[null,null,null,null,null,null,null,3,2.5,2,1.5,1,"Total",null,null,null,{"$f":"1","v":1},{"$f":"1","v":1},"=1"]
[null,null,"TRAPPEHUS",null,null,"Velg antall trappehus du ønsker å vurdere (deretter trykk «velg»):",null,null,null,null,null,null,null,null,{"$f":"IF(ISERROR(O601+O621+O641+O661)/V590,\"\",(O601+O621+O641+O661)/V590)","v":0},null,{"$f":"0","v":0},{"$f":"IF($R$15=0,0,IF($G$589>=1,0,1))","v":0},"=HVIS(asstype=3;0;HVIS(asstype=2;0;HVIS(typescheme=2;0;1)))",{"$f":"VLOOKUP(G589,$T$1242:$U$1246,2,FALSE)","v":2}]
[null,null,"TRAPPEHUS (1)",null,null,"Velg elementtype:",null,null,null,null,null,null,null,null,null,null,{"$f":"IF(freq8>=3,0,1)","v":1},0,"=HVIS(asstype=3;0;HVIS(asstype=2;0;HVIS(typescheme=2;0;1)))",null,{"$f":"IF(ISERROR(VLOOKUP(G590,$T$1249:$U$1250,2,FALSE)),\"\",VLOOKUP(G590,$T$1249:$U$1250,2,FALSE))","v":""},{"$f":"IF(freq8=3,1,IF(freq8=4,2,IF(freq8=5,3,IF(freq8=6,4,1))))","v":1}]
[null,null,null,{"$f":"IF(G600=\"\",\"\",IF(P601>=1,\"NB! Volum av nivåene kan ikke være større enn det totale volumet for hvert enkelt materiale!\",IF(AND(P600=TRUE,type1=2,G600>100),\"NB! Prosentandel for hvert nivå må registreres i prosent av det vurderte bygningselementet, og den totale prosentandelen kan ikke være større enn den totale prosent av hvert enkelt materiale!\",\"\")))","v":""},null,null,null,null,null,null,null,null,null,null,null,null,1,0,"=HVIS(asstype=3;0;HVIS(asstype=2;0;HVIS(typescheme=2;0;1)))"]
[null,null,{"$f":"IF(AND(G589=\"\",Volum=\"\"),\"\",IF(AND(U590=1,L600=\"\"),\"REGISTRER FØRST DET TOTALE VOLUMET  AV MATERIALER I CELLEN NEDERST TIL HØYRE\",IF(G592:G599=\"\",\"\",IF(G600>100,\"Mengden materialer kan ikke overstige det  totale volumet!\",IF(G600<80,\"Minst 80 % av de relevante materialer må vurderes\",\"\")))))","v":""},null,"Mat. 1",null,null,null,null,null,null,null,{"$f":"IF(N592=0,0,IF(P600=TRUE,\"0\",IF(SUM(H608+I608+J608+K608+L608)>=3,\"3\",SUM(H608+I608+J608+K608+L608))))","v":0},{"$f":"IF(AND(U590=1,L600=\"\"),0,IF(OR(NOT(D591=\"\"),NOT(C592=\"\")),0,IF(ISERROR(N601),\"0\",N601)))","v":0},null,{"$f":"IF(SUM(H592:L592)>G592,\"1\",\"0\")","v":"0"},1,0,"=HVIS(asstype=3;0;HVIS(asstype=2;0;HVIS(typescheme=2;0;1)))"]
[null,null,null,null,"Mat. 2",null,null,null,null,null,null,null,null,{"$f":"IF(OR(G600=\"\",G600=0,G600>100),\"\",IF(N601=0,\"\",IF(N601<80,\"Ingen poeng oppnådd,\nmindre enn 80 % oppfyller kravet\",C592)))","v":""},null,{"$f":"IF(SUM(H593:L593)>G593,\"1\",\"0\")","v":"0"},1,0,"=HVIS(asstype=3;0;HVIS(asstype=2;0;HVIS(typescheme=2;0;1)))"]
[null,null,null,null,"Mat. 3",null,null,null,null,null,null,null,null,null,null,"0",1,0,"=HVIS(asstype=3;0;HVIS(asstype=2;0;HVIS(typescheme=2;0;1)))"]
[null,null,null,null,"Mat. 4",null,null,null,null,null,null,null,null,null,null,"0",{"$f":"IF(freq8>=3,0,1)","v":1},0,"=HVIS(asstype=3;0;HVIS(asstype=2;0;HVIS(typescheme=2;0;1)))"]
[null,null,null,null,"Mat. 5",null,null,null,null,null,null,null,null,null,null,"0",1,0,"=HVIS(asstype=3;0;HVIS(asstype=2;0;HVIS(typescheme=2;0;1)))"]
[null,null,null,null,"Mat. 6",null,null,null,null,null,null,null,null,null,null,"0",1,0,"=HVIS(asstype=3;0;HVIS(asstype=2;0;HVIS(typescheme=2;0;1)))"]
[null,null,null,null,"Mat. 7",null,null,null,null,null,null,null,null,null,null,"0",1,0,"=HVIS(asstype=3;0;HVIS(asstype=2;0;HVIS(typescheme=2;0;1)))"]
[null,null,null,null,"Mat. 8",null,null,null,null,null,null,null,null,null,null,"0",1,0,"=HVIS(asstype=3;0;HVIS(asstype=2;0;HVIS(typescheme=2;0;1)))"]
[null,null,null,"Totalt % av bygningselementet (relevante materialer) vurdert:",null,null,{"$f":"IF(U590=\"\",\"\",IF(U590+L600=1,\"\",IF(SUM(G592:G599)=0,\"\",IF(U590=1,IF(OR(G592>L600,G593>L600,G594>L600,G595>L600,G596>L600,G597>L600,G598>L600,G599>L600,SUM(G592:G599)>L600),ROUND(SUM(G592:G599)/L600,2)*100,((SUM(G592:G599)/L600)*100)),IF(U590=2,IF(OR(G592>100,G593>100,G594>100,G595>100,G596>100,G597>100,G598>100,G599>100,SUM(G592:G599)>100),SUM(G592:G599),SUM(G592:G599)))))))","v":""},"Totalt volum:",null,null,null,null,null,null,null,{"$f":"IF(OR(H601>G601,K601>G601,L601>G601),TRUE,FALSE)","v":false},1,0,"=HVIS(asstype=3;0;HVIS(asstype=2;0;HVIS(typescheme=2;0;1)))"]
[null,null,{"$f":"IF(G600=0,\"0\",IF(U593=2,\"0\",IF(U593=1,(G600/100)*100,IF(U593=2,(G600/100)*100))))","v":false},{"$f":"G600","v":""},null,"Total",{"$f":"IF(SUM(G592:G599)=0,\"1\",SUM(G592:G599))","v":"1"},{"$f":"SUM(H592:H599)","v":0},{"$f":"SUM(I592:I599)","v":0},{"$f":"SUM(J592:J599)","v":0},{"$f":"SUM(K592:K599)","v":0},{"$f":"SUM(L592:L599)","v":0},null,{"$f":"SUM(H602:L602)","v":0},{"$f":"IF(G600<80,\"0,00\",IF(P601>0,\"0\",IF(G600>100,\"0,00\",IF(N592>=80,M592,IF(N592<80,0)))))","v":"0,00"},{"$f":"P592+P593+P594+P595+P596+P597+P598+P599","v":0},{"$f":"1","v":1},{"$f":"1","v":1},"=1"]
[null,null,null,null,null,null,"Percentage",{"$f":"IF(H601+G601=0,\"0\",(H601/G601)*100)","v":0},{"$f":"IF(I601+G601=0,\"0\",(I601/G601)*100)","v":0},{"$f":"IF(J601+G601=0,\"0\",(J601/G601)*100)","v":0},{"$f":"IF(K601+G601=0,\"0\",(K601/G601)*100)","v":0},{"$f":"IF(L601+G601=0,\"0\",(L601/G601)*100)","v":0},null,100,null,null,{"$f":"1","v":1},{"$f":"1","v":1},"=1"]
[null,null,null,null,null,{"$f":"IF(U593=1,((G601/100)*80))","v":false},"% of 80",{"$f":"(H602/80)*100","v":0},{"$f":"(I602/80)*100","v":0},{"$f":"(J602/80)*100","v":0},{"$f":"(K602/80)*100","v":0},{"$f":"(L602/80)*100","v":0},null,null,null,null,{"$f":"1","v":1},{"$f":"1","v":1},"=1"]
[null,null,null,null,null,null,"Limiter",{"$f":"IF(H603>100,\"100\",H603)","v":0},{"$f":"IF(I603>100,\"100\",I603)","v":0},{"$f":"IF(J603>100,\"100\",J603)","v":0},{"$f":"IF(K603>100,\"100\",K603)","v":0},{"$f":"IF(L603>100,\"100\",L603)","v":0},null,null,null,null,{"$f":"1","v":1},{"$f":"1","v":1},"=1"]
[null,null,null,null,null,null,null,null,{"$f":"IF(H604+I604+J604+K604+L604=0,0,100-(H604))","v":0},{"$f":"IF(H604+I604+J604+K604+L604=0,0,100-(H604+I604))","v":0},{"$f":"IF(J604+I604+H604+K604+L604=0,0,100-(J604+I604+H604))","v":0},{"$f":"IF(K604+J604+I604+H604+L604=0,0,100-(H604+I604+K604+J604))","v":0},null,null,null,null,{"$f":"1","v":1},{"$f":"1","v":1},"=1"]
[null,null,null,null,null,null,null,null,{"$f":"IF(I604>I605,I605,I604)","v":0},{"$f":"IF(J604>J605,J605,J604)","v":0},{"$f":"IF(K604>K605,K605,K604)","v":0},{"$f":"IF(L604>L605,L605,L604)","v":0},null,null,null,null,{"$f":"1","v":1},{"$f":"1","v":1},"=1"]
[null,null,null,null,null,null,null,null,null,null,null,{"$f":"IF(K606+J604+H604+I604>=100,0,L606)","v":0},null,null,null,null,{"$f":"1","v":1},{"$f":"1","v":1},"=1"]
[null,null,null,null,null,null,"Scores",{"$f":"IF(H601=0,0,0.01*(H604*H609))","v":0},{"$f":"IF(I601=0,0,0.01*(I606*I609))","v":0},{"$f":"IF(J601=0,0,0.01*(J606*J609))","v":0},{"$f":"IF(K601=0,0,0.01*(K606*K609))","v":0},{"$f":"IF(L601=0,0,0.01*(L607*L609))","v":0},null,null,null,null,{"$f":"1","v":1},{"$f":"1","v":1},"=1"]
[null,null,null,null,null,null,null,3,2.5,2,1.5,1,"Total",null,null,null,{"$f":"1","v":1},{"$f":"1","v":1},"=1"]
[null,null,"TRAPPEHUS (2)",null,null,"Velg elementtype:",null,null,null,null,null,null,null,null,null,null,{"$f":"IF(freq8>=4,0,1)","v":1},{"$f":"IF($R$15=0,0,IF($G$589>=2,0,1))","v":0},"=1",null,{"$f":"IF(ISERROR(VLOOKUP(G610,$T$1249:$U$1250,2,FALSE)),\"\",VLOOKUP(G610,$T$1249:$U$1250,2,FALSE))","v":""}]
[null,null,null,{"$f":"IF(G620=\"\",\"\",IF(P621>=1,\"NB! Volum av nivåene kan ikke være større enn det totale volumet for hvert enkelt materiale!\",IF(AND(P620=TRUE,type1=2,G620>100),\"NB! Prosentandel for hvert nivå må registreres i prosent av det vurderte bygningselementet, og den totale prosentandelen kan ikke være større enn den totale prosent av hvert enkelt materiale!\",\"\")))","v":""},null,null,null,null,null,null,null,null,null,null,null,null,1,0,"=1"]
[null,null,{"$f":"IF(AND(G610=\"\",Volum=\"\"),\"\",IF(AND(U610=1,L620=\"\"),\"REGISTRER FØRST DET TOTALE VOLUMET  AV MATERIALER I CELLEN NEDERST TIL HØYRE\",IF(G612:G619=\"\",\"\",IF(G620>100,\"Mengden materialer kan ikke overstige det  totale volumet!\",IF(G620<80,\"Minst 80 % av de relevante materialer må vurderes\",\"\")))))","v":""},null,"Mat. 1",null,null,null,null,null,null,null,{"$f":"IF(N612=0,0,IF(P620=TRUE,\"0\",IF(SUM(H628+I628+J628+K628+L628)>=3,\"3\",SUM(H628+I628+J628+K628+L628))))","v":0},{"$f":"IF(AND(U610=1,L620=\"\"),0,IF(OR(NOT(D611=\"\"),NOT(C612=\"\")),0,IF(ISERROR(N621),\"0\",N621)))","v":0},null,{"$f":"IF(SUM(H612:L612)>G612,\"1\",\"0\")","v":"0"},1,0,"=1"]
[null,null,null,null,"Mat. 2",null,null,null,null,null,null,null,null,{"$f":"IF(OR(G620=\"\",G620=0,G620>100),\"\",IF(N621=0,\"\",IF(N621<80,\"Ingen poeng oppnådd,\nmindre enn 80 % oppfyller kravet\",C612)))","v":""},null,{"$f":"IF(SUM(H613:L613)>G613,\"1\",\"0\")","v":"0"},1,0,"=1"]
[null,null,null,null,"Mat. 3",null,null,null,null,null,null,null,null,null,null,"0",1,0,"=1"]
[null,null,null,null,"Mat. 4",null,null,null,null,null,null,null,null,null,null,"0",1,0,"=1"]
[null,null,null,null,"Mat. 5",null,null,null,null,null,null,null,null,null,null,"0",1,0,"=1"]
[null,null,null,null,"Mat. 6",null,null,null,null,null,null,null,null,null,null,"0",1,0,"=1"]
[null,null,null,null,"Mat. 7",null,null,null,null,null,null,null,null,null,null,"0",1,0,"=1"]
[null,null,null,null,"Mat. 8",null,null,null,null,null,null,null,null,null,null,"0",1,0,"=1"]
[null,null,null,"Totalt % av bygningselementet (relevante materialer) vurdert:",null,null,{"$f":"IF(U610=\"\",\"\",IF(U610+L620=1,\"\",IF(SUM(G612:G619)=0,\"\",IF(U610=1,IF(OR(G612>L620,G613>L620,G614>L620,G615>L620,G616>L620,G617>L620,G618>L620,G619>L620,SUM(G612:G619)>L620),ROUND(SUM(G612:G619)/L620,2)*100,((SUM(G612:G619)/L620)*100)),IF(U610=2,IF(OR(G612>100,G613>100,G614>100,G615>100,G616>100,G617>100,G618>100,G619>100,SUM(G612:G619)>100),SUM(G612:G619),SUM(G612:G619)))))))","v":""},"Totalt volum:",null,null,null,null,null,null,null,{"$f":"IF(OR(H621>G621,K621>G621,L621>G621),TRUE,FALSE)","v":false},1,0,"=1"]
[null,null,{"$f":"IF(G620=0,\"0\",IF(U610=2,\"0\",IF(U610=1,(G620/100)*100,IF(U610=2,(G620/100)*100))))","v":false},{"$f":"G620","v":""},null,"Total",{"$f":"IF(SUM(G612:G619)=0,\"1\",SUM(G612:G619))","v":"1"},{"$f":"SUM(H612:H619)","v":0},{"$f":"SUM(I612:I619)","v":0},{"$f":"SUM(J612:J619)","v":0},{"$f":"SUM(K612:K619)","v":0},{"$f":"SUM(L612:L619)","v":0},null,{"$f":"SUM(H622:L622)","v":0},{"$f":"IF(G620<80,\"0,00\",IF(P621>0,\"0\",IF(G620>100,\"0,00\",IF(N612>=80,M612,IF(N612<80,0)))))","v":"0,00"},{"$f":"P612+P613+P614+P615+P616+P617+P618+P619","v":0},{"$f":"1","v":1},{"$f":"1","v":1},"=1"]
[null,null,null,null,null,null,"Percentage",{"$f":"IF(H621+G621=0,\"0\",(H621/G621)*100)","v":0},{"$f":"IF(I621+G621=0,\"0\",(I621/G621)*100)","v":0},{"$f":"IF(J621+G621=0,\"0\",(J621/G621)*100)","v":0},{"$f":"IF(K621+G621=0,\"0\",(K621/G621)*100)","v":0},{"$f":"IF(L621+G621=0,\"0\",(L621/G621)*100)","v":0},null,100,null,null,{"$f":"1","v":1},{"$f":"1","v":1},"=1"]
[null,null,null,null,null,{"$f":"IF(U610=1,((G621/100)*80))","v":false},"% of 80",{"$f":"(H622/80)*100","v":0},{"$f":"(I622/80)*100","v":0},{"$f":"(J622/80)*100","v":0},{"$f":"(K622/80)*100","v":0},{"$f":"(L622/80)*100","v":0},null,null,null,null,{"$f":"1","v":1},{"$f":"1","v":1},"=1"]
[null,null,null,null,null,null,"Limiter",{"$f":"IF(H623>100,\"100\",H623)","v":0},{"$f":"IF(I623>100,\"100\",I623)","v":0},{"$f":"IF(J623>100,\"100\",J623)","v":0},{"$f":"IF(K623>100,\"100\",K623)","v":0},{"$f":"IF(L623>100,\"100\",L623)","v":0},null,null,null,null,{"$f":"1","v":1},{"$f":"1","v":1},"=1"]
[null,null,null,null,null,null,null,null,{"$f":"IF(H624+I624+J624+K624+L624=0,0,100-(H624))","v":0},{"$f":"IF(H624+I624+J624+K624+L624=0,0,100-(H624+I624))","v":0},{"$f":"IF(J624+I624+H624+K624+L624=0,0,100-(J624+I624+H624))","v":0},{"$f":"IF(K624+J624+I624+H624+L624=0,0,100-(H624+I624+K624+J624))","v":0},null,null,null,null,{"$f":"1","v":1},{"$f":"1","v":1},"=1"]
[null,null,null,null,null,null,null,null,{"$f":"IF(I624>I625,I625,I624)","v":0},{"$f":"IF(J624>J625,J625,J624)","v":0},{"$f":"IF(K624>K625,K625,K624)","v":0},{"$f":"IF(L624>L625,L625,L624)","v":0},null,null,null,null,{"$f":"1","v":1},{"$f":"1","v":1},"=1"]
[null,null,null,null,null,null,null,null,null,null,null,{"$f":"IF(K626+J624+H624+I624>=100,0,L626)","v":0},null,null,null,null,{"$f":"1","v":1},{"$f":"1","v":1},"=1"]
[null,null,null,null,null,null,"Scores",{"$f":"IF(H621=0,0,0.01*(H624*H629))","v":0},{"$f":"IF(I621=0,0,0.01*(I626*I629))","v":0},{"$f":"IF(J621=0,0,0.01*(J626*J629))","v":0},{"$f":"IF(K621=0,0,0.01*(K626*K629))","v":0},{"$f":"IF(L621=0,0,0.01*(L627*L629))","v":0},null,null,null,null,{"$f":"1","v":1},{"$f":"1","v":1},"=1"]
[null,null,null,null,null,null,null,3,2.5,2,1.5,1,"Total",null,null,null,{"$f":"1","v":1},{"$f":"1","v":1},"=1"]
[null,null,"TRAPPEHUS (3)",null,null,"Velg elementtype:",null,null,null,null,null,null,null,null,null,null,{"$f":"IF(freq8>=5,0,1)","v":1},{"$f":"IF($R$15=0,0,IF($G$589>=3,0,1))","v":0},"=1",null,{"$f":"IF(ISERROR(VLOOKUP(G630,$T$1249:$U$1250,2,FALSE)),\"\",VLOOKUP(G630,$T$1249:$U$1250,2,FALSE))","v":""}]
[null,null,null,{"$f":"IF(G640=\"\",\"\",IF(P641>=1,\"NB! Volum av nivåene kan ikke være større enn det totale volumet for hvert enkelt materiale!\",IF(AND(P640=TRUE,type1=2,G640>100),\"NB! Prosentandel for hvert nivå må registreres i prosent av det vurderte bygningselementet, og den totale prosentandelen kan ikke være større enn den totale prosent av hvert enkelt materiale!\",\"\")))","v":""},null,null,null,null,null,null,null,null,null,null,null,null,1,0,"=1"]
[null,null,{"$f":"IF(AND(G630=\"\",Volum=\"\"),\"\",IF(AND(U630=1,L640=\"\"),\"REGISTRER FØRST DET TOTALE VOLUMET  AV MATERIALER I CELLEN NEDERST TIL HØYRE\",IF(G632:G639=\"\",\"\",IF(G640>100,\"Mengden materialer kan ikke overstige det  totale volumet!\",IF(G640<80,\"Minst 80 % av de relevante materialer må vurderes\",\"\")))))","v":""},null,"Mat. 1",null,null,null,null,null,null,null,{"$f":"IF(N632=0,0,IF(P640=TRUE,\"0\",IF(SUM(H648+I648+J648+K648+L648)>=3,\"3\",SUM(H648+I648+J648+K648+L648))))","v":0},{"$f":"IF(AND(U630=1,L640=\"\"),0,IF(OR(NOT(D631=\"\"),NOT(C632=\"\")),0,IF(ISERROR(N641),\"0\",N641)))","v":0},null,{"$f":"IF(SUM(H632:L632)>G632,\"1\",\"0\")","v":"0"},1,0,"=1"]
[null,null,null,null,"Mat. 2",null,null,null,null,null,null,null,null,{"$f":"IF(OR(G640=\"\",G640=0,G640>100),\"\",IF(N641=0,\"\",IF(N641<80,\"Ingen poeng oppnådd,\nmindre enn 80 % oppfyller kravet\",C632)))","v":""},null,{"$f":"IF(SUM(H633:L633)>G633,\"1\",\"0\")","v":"0"},1,0,"=1"]
[null,null,null,null,"Mat. 3",null,null,null,null,null,null,null,null,null,null,"0",1,0,"=1"]
[null,null,null,null,"Mat. 4",null,null,null,null,null,null,null,null,null,null,"0",1,0,"=1"]
[null,null,null,null,"Mat. 5",null,null,null,null,null,null,null,null,null,null,"0",1,0,"=1"]
[null,null,null,null,"Mat. 6",null,null,null,null,null,null,null,null,null,null,"0",1,0,"=1"]
[null,null,null,null,"Mat. 7",null,null,null,null,null,null,null,null,null,null,"0",1,0,"=1"]
[null,null,null,null,"Mat. 8",null,null,null,null,null,null,null,null,null,null,"0",1,0,"=1"]
[null,null,null,"Totalt % av bygningselementet (relevante materialer) vurdert:",null,null,{"$f":"IF(U630=\"\",\"\",IF(U630+L640=1,\"\",IF(SUM(G632:G639)=0,\"\",IF(U630=1,IF(OR(G632>L640,G633>L640,G634>L640,G635>L640,G636>L640,G637>L640,G638>L640,G639>L640,SUM(G632:G639)>L640),ROUND(SUM(G632:G639)/L640,2)*100,((SUM(G632:G639)/L640)*100)),IF(U630=2,IF(OR(G632>100,G633>100,G634>100,G635>100,G636>100,G637>100,G638>100,G639>100,SUM(G632:G639)>100),SUM(G632:G639),SUM(G632:G639)))))))","v":""},"Totalt volum:",null,null,null,null,null,null,null,{"$f":"IF(OR(H641>G641,K641>G641,L641>G641),TRUE,FALSE)","v":false},1,0,"=1"]
[null,null,{"$f":"IF(G640=0,\"0\",IF(U630=2,\"0\",IF(U630=1,(G640/100)*100,IF(U630=2,(G640/100)*100))))","v":false},{"$f":"G640","v":""},null,"Total",{"$f":"IF(SUM(G632:G639)=0,\"1\",SUM(G632:G639))","v":"1"},{"$f":"SUM(H632:H639)","v":0},{"$f":"SUM(I632:I639)","v":0},{"$f":"SUM(J632:J639)","v":0},{"$f":"SUM(K632:K639)","v":0},{"$f":"SUM(L632:L639)","v":0},null,{"$f":"SUM(H642:L642)","v":0},{"$f":"IF(G640<80,\"0,00\",IF(P641>0,\"0\",IF(G640>100,\"0,00\",IF(N632>=80,M632,IF(N632<80,0)))))","v":"0,00"},{"$f":"P632+P633+P634+P635+P636+P637+P638+P639","v":0},{"$f":"1","v":1},{"$f":"1","v":1},"=1"]
[null,null,null,null,null,null,"Percentage",{"$f":"IF(H641+G641=0,\"0\",(H641/G641)*100)","v":0},{"$f":"IF(I641+G641=0,\"0\",(I641/G641)*100)","v":0},{"$f":"IF(J641+G641=0,\"0\",(J641/G641)*100)","v":0},{"$f":"IF(K641+G641=0,\"0\",(K641/G641)*100)","v":0},{"$f":"IF(L641+G641=0,\"0\",(L641/G641)*100)","v":0},null,100,null,null,{"$f":"1","v":1},{"$f":"1","v":1},"=1"]
[null,null,null,null,null,{"$f":"IF(U630=1,((G641/100)*80))","v":false},"% of 80",{"$f":"(H642/80)*100","v":0},{"$f":"(I642/80)*100","v":0},{"$f":"(J642/80)*100","v":0},{"$f":"(K642/80)*100","v":0},{"$f":"(L642/80)*100","v":0},null,null,null,null,{"$f":"1","v":1},{"$f":"1","v":1},"=1"]
[null,null,null,null,null,null,"Limiter",{"$f":"IF(H643>100,\"100\",H643)","v":0},{"$f":"IF(I643>100,\"100\",I643)","v":0},{"$f":"IF(J643>100,\"100\",J643)","v":0},{"$f":"IF(K643>100,\"100\",K643)","v":0},{"$f":"IF(L643>100,\"100\",L643)","v":0},null,null,null,null,{"$f":"1","v":1},{"$f":"1","v":1},"=1"]
[null,null,null,null,null,null,null,null,{"$f":"IF(H644+I644+J644+K644+L644=0,0,100-(H644))","v":0},{"$f":"IF(H644+I644+J644+K644+L644=0,0,100-(H644+I644))","v":0},{"$f":"IF(J644+I644+H644+K644+L644=0,0,100-(J644+I644+H644))","v":0},{"$f":"IF(K644+J644+I644+H644+L644=0,0,100-(H644+I644+K644+J644))","v":0},null,null,null,null,{"$f":"1","v":1},{"$f":"1","v":1},"=1"]
[null,null,null,null,null,null,null,null,{"$f":"IF(I644>I645,I645,I644)","v":0},{"$f":"IF(J644>J645,J645,J644)","v":0},{"$f":"IF(K644>K645,K645,K644)","v":0},{"$f":"IF(L644>L645,L645,L644)","v":0},null,null,null,null,{"$f":"1","v":1},{"$f":"1","v":1},"=1"]
[null,null,null,null,null,null,null,null,null,null,null,{"$f":"IF(K646+J644+H644+I644>=100,0,L646)","v":0},null,null,null,null,{"$f":"1","v":1},{"$f":"1","v":1},"=1"]
[null,null,null,null,null,null,"Scores",{"$f":"IF(H641=0,0,0.01*(H644*H649))","v":0},{"$f":"IF(I641=0,0,0.01*(I646*I649))","v":0},{"$f":"IF(J641=0,0,0.01*(J646*J649))","v":0},{"$f":"IF(K641=0,0,0.01*(K646*K649))","v":0},{"$f":"IF(L641=0,0,0.01*(L647*L649))","v":0},null,null,null,null,{"$f":"1","v":1},{"$f":"1","v":1},"=1"]
[null,null,null,null,null,null,null,3,2.5,2,1.5,1,"Total",null,null,null,{"$f":"1","v":1},{"$f":"1","v":1},"=1"]
[null,null,"TRAPPEHUS (4)",null,null,"Velg elementtype:",null,null,null,null,null,null,null,null,null,null,{"$f":"IF(freq8>=6,0,1)","v":1},{"$f":"IF($R$15=0,0,IF($G$589>=4,0,1))","v":0},"=1",null,{"$f":"IF(ISERROR(VLOOKUP(G650,$T$1249:$U$1250,2,FALSE)),\"\",VLOOKUP(G650,$T$1249:$U$1250,2,FALSE))","v":""}]
[null,null,null,{"$f":"IF(G660=\"\",\"\",IF(P661>=1,\"NB! Volum av nivåene kan ikke være større enn det totale volumet for hvert enkelt materiale!\",IF(AND(P660=TRUE,type1=2,G660>100),\"NB! Prosentandel for hvert nivå må registreres i prosent av det vurderte bygningselementet, og den totale prosentandelen kan ikke være større enn den totale prosent av hvert enkelt materiale!\",\"\")))","v":""},null,null,null,null,null,null,null,null,null,null,null,null,1,0,"=1"]
[null,null,{"$f":"IF(AND(G650=\"\",Volum=\"\"),\"\",IF(AND(U650=1,L660=\"\"),\"REGISTRER FØRST DET TOTALE VOLUMET  AV MATERIALER I CELLEN NEDERST TIL HØYRE\",IF(G652:G659=\"\",\"\",IF(G660>100,\"Mengden materialer kan ikke overstige det  totale volumet!\",IF(G660<80,\"Minst 80 % av de relevante materialer må vurderes\",\"\")))))","v":""},null,"Mat. 1",null,null,null,null,null,null,null,{"$f":"IF(N652=0,0,IF(P660=TRUE,\"0\",IF(SUM(H668+I668+J668+K668+L668)>=3,\"3\",SUM(H668+I668+J668+K668+L668))))","v":0},{"$f":"IF(AND(U650=1,L660=\"\"),0,IF(OR(NOT(D651=\"\"),NOT(C652=\"\")),0,IF(ISERROR(N661),\"0\",N661)))","v":0},null,{"$f":"IF(SUM(H652:L652)>G652,\"1\",\"0\")","v":"0"},1,0,"=1"]
[null,null,null,null,"Mat. 2",null,null,null,null,null,null,null,null,{"$f":"IF(OR(G660=\"\",G660=0,G660>100),\"\",IF(N661=0,\"\",IF(N661<80,\"Ingen poeng oppnådd,\nmindre enn 80 % oppfyller kravet\",C652)))","v":""},null,{"$f":"IF(SUM(H653:L653)>G653,\"1\",\"0\")","v":"0"},1,0,"=1"]
[null,null,null,null,"Mat. 3",null,null,null,null,null,null,null,null,null,null,"0",1,0,"=1"]
[null,null,null,null,"Mat. 4",null,null,null,null,null,null,null,null,null,null,"0",1,0,"=1"]
[null,null,null,null,"Mat. 5",null,null,null,null,null,null,null,null,null,null,"0",1,0,"=1"]
[null,null,null,null,"Mat. 6",null,null,null,null,null,null,null,null,null,null,"0",1,0,"=1"]
[null,null,null,null,"Mat. 7",null,null,null,null,null,null,null,null,null,null,"0",1,0,"=1"]
[null,null,null,null,"Mat. 8",null,null,null,null,null,null,null,null,null,null,"0",1,0,"=1"]
[null,null,null,"Totalt % av bygningselementet (relevante materialer) vurdert:",null,null,{"$f":"IF(U650=\"\",\"\",IF(U650+L660=1,\"\",IF(SUM(G652:G659)=0,\"\",IF(U650=1,IF(OR(G652>L660,G653>L660,G654>L660,G655>L660,G656>L660,G657>L660,G658>L660,G659>L660,SUM(G652:G659)>L660),ROUND(SUM(G652:G659)/L660,2)*100,((SUM(G652:G659)/L660)*100)),IF(U650=2,IF(OR(G652>100,G653>100,G654>100,G655>100,G656>100,G657>100,G658>100,G659>100,SUM(G652:G659)>100),SUM(G652:G659),SUM(G652:G659)))))))","v":""},"Totalt volum:",null,null,null,null,null,null,null,{"$f":"IF(OR(H661>G661,K661>G661,L661>G661),TRUE,FALSE)","v":false},1,0,"=1"]
[null,null,{"$f":"IF(G660=0,\"0\",IF(U650=2,\"0\",IF(U650=1,(G660/100)*100,IF(U650=2,(G660/100)*100))))","v":false},{"$f":"G660","v":""},null,"Total",{"$f":"IF(SUM(G652:G659)=0,\"1\",SUM(G652:G659))","v":"1"},{"$f":"SUM(H652:H659)","v":0},{"$f":"SUM(I652:I659)","v":0},{"$f":"SUM(J652:J659)","v":0},{"$f":"SUM(K652:K659)","v":0},{"$f":"SUM(L652:L659)","v":0},null,{"$f":"SUM(H662:L662)","v":0},{"$f":"IF(G660<80,\"0,00\",IF(P661>0,\"0\",IF(G660>100,\"0,00\",IF(N652>=80,M652,IF(N652<80,0)))))","v":"0,00"},{"$f":"P652+P653+P654+P655+P656+P657+P658+P659","v":0},{"$f":"1","v":1},{"$f":"1","v":1},"=1"]
[null,null,null,null,null,null,"Percentage",{"$f":"IF(H661+G661=0,\"0\",(H661/G661)*100)","v":0},{"$f":"IF(I661+G661=0,\"0\",(I661/G661)*100)","v":0},{"$f":"IF(J661+G661=0,\"0\",(J661/G661)*100)","v":0},{"$f":"IF(K661+G661=0,\"0\",(K661/G661)*100)","v":0},{"$f":"IF(L661+G661=0,\"0\",(L661/G661)*100)","v":0},null,100,null,null,{"$f":"1","v":1},{"$f":"1","v":1},"=1"]
[null,null,null,null,null,{"$f":"IF(U650=1,((G661/100)*80))","v":false},"% of 80",{"$f":"(H662/80)*100","v":0},{"$f":"(I662/80)*100","v":0},{"$f":"(J662/80)*100","v":0},{"$f":"(K662/80)*100","v":0},{"$f":"(L662/80)*100","v":0},null,null,null,null,{"$f":"1","v":1},{"$f":"1","v":1},"=1"]
[null,null,null,null,null,null,"Limiter",{"$f":"IF(H663>100,\"100\",H663)","v":0},{"$f":"IF(I663>100,\"100\",I663)","v":0},{"$f":"IF(J663>100,\"100\",J663)","v":0},{"$f":"IF(K663>100,\"100\",K663)","v":0},{"$f":"IF(L663>100,\"100\",L663)","v":0},null,null,null,null,{"$f":"1","v":1},{"$f":"1","v":1},"=1"]
[null,null,null,null,null,null,null,null,{"$f":"IF(H664+I664+J664+K664+L664=0,0,100-(H664))","v":0},{"$f":"IF(H664+I664+J664+K664+L664=0,0,100-(H664+I664))","v":0},{"$f":"IF(J664+I664+H664+K664+L664=0,0,100-(J664+I664+H664))","v":0},{"$f":"IF(K664+J664+I664+H664+L664=0,0,100-(H664+I664+K664+J664))","v":0},null,null,null,null,{"$f":"1","v":1},{"$f":"1","v":1},"=1"]
[null,null,null,null,null,null,null,null,{"$f":"IF(I664>I665,I665,I664)","v":0},{"$f":"IF(J664>J665,J665,J664)","v":0},{"$f":"IF(K664>K665,K665,K664)","v":0},{"$f":"IF(L664>L665,L665,L664)","v":0},null,null,null,null,{"$f":"1","v":1},{"$f":"1","v":1},"=1"]
[null,null,null,null,null,null,null,null,null,null,null,{"$f":"IF(K666+J664+H664+I664>=100,0,L666)","v":0},null,null,null,null,{"$f":"1","v":1},{"$f":"1","v":1},"=1"]
[null,null,null,null,null,null,"Scores",{"$f":"IF(H661=0,0,0.01*(H664*H669))","v":0},{"$f":"IF(I661=0,0,0.01*(I666*I669))","v":0},{"$f":"IF(J661=0,0,0.01*(J666*J669))","v":0},{"$f":"IF(K661=0,0,0.01*(K666*K669))","v":0},{"$f":"IF(L661=0,0,0.01*(L667*L669))","v":0},null,null,null,null,{"$f":"1","v":1},{"$f":"1","v":1},"=1"]
[null,null,null,null,null,null,null,3,2.5,2,1.5,1,"Total",null,null,null,{"$f":"1","v":1},{"$f":"1","v":1},"=1",null,null,null,null,"Disse skal i så fall brukes"]
[null,null,"VINDUER",null,null,"Velg antall vinduer du ønsker å vurdere (deretter trykk «velg»):",null,null,null,null,null,null,null,null,{"$f":"IF(ISERROR(O682+O702+O722+O742)/V671,\"\",(O682+O702+O722+O742)/V671)","v":0},null,{"$f":"0","v":0},{"$f":"1","v":1},"=HVIS(asstype=3;0;HVIS(typescheme=2;0;1))",{"$f":"VLOOKUP(G670,$T$1242:$U$1246,2,FALSE)","v":2},null,null,null,{"$f":"IF($R$15=0,0,IF($G$670>=1,0,1))","v":0}]
[null,null,"VINDU (1)",null,null,"Velg elementtype:",null,null,null,null,null,null,null,null,null,null,{"$f":"IF(freq9>=3,0,1)","v":1},{"$f":"1","v":1},"=HVIS(asstype=3;0;HVIS(typescheme=2;0;1))",null,{"$f":"IF(ISERROR(VLOOKUP(G671,$T$1249:$U$1250,2,FALSE)),\"\",VLOOKUP(G671,$T$1249:$U$1250,2,FALSE))","v":""},{"$f":"IF(freq9=3,1,IF(freq9=4,2,IF(freq9=5,3,IF(freq9=6,4,1))))","v":1},null,0]
[null,null,null,{"$f":"IF(G681=\"\",\"\",IF(P682>=1,\"NB! Volum av nivåene kan ikke være større enn det totale volumet for hvert enkelt materiale!\",IF(AND(P681=TRUE,type1=2,G681>100),\"NB! Prosentandel for hvert nivå må registreres i prosent av det vurderte bygningselementet, og den totale prosentandelen kan ikke være større enn den totale prosent av hvert enkelt materiale!\",\"\")))","v":""},null,null,null,null,null,null,null,null,null,null,null,null,1,{"$f":"1","v":1},"=HVIS(asstype=3;0;HVIS(typescheme=2;0;1))",null,null,null,null,0]
[null,null,{"$f":"IF(AND(G670=\"\",Volum=\"\"),\"\",IF(AND(U671=1,L681=\"\"),\"REGISTRER FØRST DET TOTALE VOLUMET  AV MATERIALER I CELLEN NEDERST TIL HØYRE\",IF(G673:G680=\"\",\"\",IF(G681>100,\"Mengden materialer kan ikke overstige det  totale volumet!\",IF(G681<80,\"Minst 80 % av de relevante materialer må vurderes\",\"\")))))","v":""},null,"Mat. 1",null,null,null,null,null,null,null,{"$f":"IF(N673=0,0,IF(P681=TRUE,\"0\",IF(SUM(H689+I689+J689+K689+L689)>=3,\"3\",SUM(H689+I689+J689+K689+L689))))","v":0},{"$f":"IF(AND(U671=1,L681=\"\"),0,IF(OR(NOT(D672=\"\"),NOT(C673=\"\")),0,IF(ISERROR(N682),\"0\",N682)))","v":0},null,{"$f":"IF(SUM(H673:L673)>G673,\"1\",\"0\")","v":"0"},1,{"$f":"1","v":1},"=HVIS(asstype=3;0;HVIS(typescheme=2;0;1))",null,null,null,null,0]
[null,null,null,null,"Mat. 2",null,null,null,null,null,null,null,null,{"$f":"IF(OR(G681=\"\",G681=0,G681>100),\"\",IF(N682=0,\"\",IF(N682<80,\"Ingen poeng oppnådd,\nmindre enn 80 % oppfyller kravet\",C673)))","v":""},null,{"$f":"IF(SUM(H674:L674)>G674,\"1\",\"0\")","v":"0"},1,{"$f":"1","v":1},"=HVIS(asstype=3;0;HVIS(typescheme=2;0;1))",null,null,null,null,0]
[null,null,null,null,"Mat. 3",null,null,null,null,null,null,null,null,null,null,"0",1,{"$f":"1","v":1},"=HVIS(asstype=3;0;HVIS(typescheme=2;0;1))",null,null,null,null,0]
[null,null,null,null,"Mat. 4",null,null,null,null,null,null,null,null,null,null,"0",1,{"$f":"1","v":1},"=HVIS(asstype=3;0;HVIS(typescheme=2;0;1))",null,null,null,null,0]
[null,null,null,null,"Mat. 5",null,null,null,null,null,null,null,null,null,null,"0",1,{"$f":"1","v":1},"=HVIS(asstype=3;0;HVIS(typescheme=2;0;1))",null,null,null,null,0]
[null,null,null,null,"Mat. 6",null,null,null,null,null,null,null,null,null,null,"0",1,{"$f":"1","v":1},"=HVIS(asstype=3;0;HVIS(typescheme=2;0;1))",null,null,null,null,0]
[null,null,null,null,"Mat. 7",null,null,null,null,null,null,null,null,null,null,"0",1,{"$f":"1","v":1},"=HVIS(asstype=3;0;HVIS(typescheme=2;0;1))",null,null,null,null,0]
[null,null,null,null,"Mat. 8",null,null,null,null,null,null,null,null,null,null,"0",1,{"$f":"1","v":1},"=HVIS(asstype=3;0;HVIS(typescheme=2;0;1))",null,null,null,null,0]
[null,null,null,"Totalt % av bygningselementet (relevante materialer) vurdert:",null,null,{"$f":"IF(U671=\"\",\"\",IF(U671+L681=1,\"\",IF(SUM(G673:G680)=0,\"\",IF(U671=1,IF(OR(G673>L681,G674>L681,G675>L681,G676>L681,G677>L681,G678>L681,G679>L681,G680>L681,SUM(G673:G680)>L681),ROUND(SUM(G673:G680)/L681,2)*100,((SUM(G673:G680)/L681)*100)),IF(U671=2,IF(OR(G673>100,G674>100,G675>100,G676>100,G677>100,G678>100,G679>100,G680>100,SUM(G673:G680)>100),SUM(G673:G680),SUM(G673:G680)))))))","v":""},"Totalt volum:",null,null,null,null,null,null,null,{"$f":"IF(OR(H682>G682,K682>G682,L682>G682),TRUE,FALSE)","v":false},1,{"$f":"1","v":1},"=HVIS(asstype=3;0;HVIS(typescheme=2;0;1))",null,null,null,null,0]
[null,null,{"$f":"IF(G681=0,\"0\",IF(U671=2,\"0\",IF(U671=1,(G681/100)*100,IF(U671=2,(G681/100)*100))))","v":false},{"$f":"G681","v":""},null,"Total",{"$f":"IF(SUM(G673:G680)=0,\"1\",SUM(G673:G680))","v":"1"},{"$f":"SUM(H673:H680)","v":0},{"$f":"SUM(I673:I680)","v":0},{"$f":"SUM(J673:J680)","v":0},{"$f":"SUM(K673:K680)","v":0},{"$f":"SUM(L673:L680)","v":0},null,{"$f":"SUM(H683:L683)","v":0},{"$f":"IF(G681<80,\"0,00\",IF(P682>0,\"0\",IF(G681>100,\"0,00\",IF(N673>=80,M673,IF(N673<80,0)))))","v":"0,00"},{"$f":"P673+P674+P675+P676+P677+P678+P679+P680","v":0},{"$f":"1","v":1},{"$f":"1","v":1},"=1"]
[null,null,null,null,null,null,"Percentage",{"$f":"IF(H682+G682=0,\"0\",(H682/G682)*100)","v":0},{"$f":"IF(I682+G682=0,\"0\",(I682/G682)*100)","v":0},{"$f":"IF(J682+G682=0,\"0\",(J682/G682)*100)","v":0},{"$f":"IF(K682+G682=0,\"0\",(K682/G682)*100)","v":0},{"$f":"IF(L682+G682=0,\"0\",(L682/G682)*100)","v":0},null,100,null,null,{"$f":"1","v":1},{"$f":"1","v":1},"=1"]
[null,null,null,null,null,{"$f":"IF(U671=1,((G682/100)*80))","v":false},"% of 80",{"$f":"(H683/80)*100","v":0},{"$f":"(I683/80)*100","v":0},{"$f":"(J683/80)*100","v":0},{"$f":"(K683/80)*100","v":0},{"$f":"(L683/80)*100","v":0},null,null,null,null,{"$f":"1","v":1},{"$f":"1","v":1},"=1"]
[null,null,null,null,null,null,"Limiter",{"$f":"IF(H684>100,\"100\",H684)","v":0},{"$f":"IF(I684>100,\"100\",I684)","v":0},{"$f":"IF(J684>100,\"100\",J684)","v":0},{"$f":"IF(K684>100,\"100\",K684)","v":0},{"$f":"IF(L684>100,\"100\",L684)","v":0},null,null,null,null,{"$f":"1","v":1},{"$f":"1","v":1},"=1"]
[null,null,null,null,null,null,null,null,{"$f":"IF(H685+I685+J685+K685+L685=0,0,100-(H685))","v":0},{"$f":"IF(H685+I685+J685+K685+L685=0,0,100-(H685+I685))","v":0},{"$f":"IF(J685+I685+H685+K685+L685=0,0,100-(J685+I685+H685))","v":0},{"$f":"IF(K685+J685+I685+H685+L685=0,0,100-(H685+I685+K685+J685))","v":0},null,null,null,null,{"$f":"1","v":1},{"$f":"1","v":1},"=1"]
[null,null,null,null,null,null,null,null,{"$f":"IF(I685>I686,I686,I685)","v":0},{"$f":"IF(J685>J686,J686,J685)","v":0},{"$f":"IF(K685>K686,K686,K685)","v":0},{"$f":"IF(L685>L686,L686,L685)","v":0},null,null,null,null,{"$f":"1","v":1},{"$f":"1","v":1},"=1"]
[null,null,null,null,null,null,null,null,null,null,null,{"$f":"IF(K687+J685+H685+I685>=100,0,L687)","v":0},null,null,null,null,{"$f":"1","v":1},{"$f":"1","v":1},"=1"]
[null,null,null,null,null,null,"Scores",{"$f":"IF(H682=0,0,0.01*(H685*H690))","v":0},{"$f":"IF(I682=0,0,0.01*(I687*I690))","v":0},{"$f":"IF(J682=0,0,0.01*(J687*J690))","v":0},{"$f":"IF(K682=0,0,0.01*(K687*K690))","v":0},{"$f":"IF(L682=0,0,0.01*(L688*L690))","v":0},null,null,null,null,{"$f":"1","v":1},{"$f":"1","v":1},"=1"]
[null,null,null,null,null,null,null,3,2.5,2,1.5,1,null,null,null,null,{"$f":"1","v":1},{"$f":"1","v":1},"=1"]
[null,null,"VINDU (2)",null,null,"Velg elementtype:",null,null,null,null,null,null,null,null,null,null,{"$f":"IF(freq9>=4,0,1)","v":1},{"$f":"1","v":1},"=1",null,{"$f":"IF(ISERROR(VLOOKUP(G691,$T$1249:$U$1250,2,FALSE)),\"\",VLOOKUP(G691,$T$1249:$U$1250,2,FALSE))","v":""},null,null,{"$f":"IF($R$15=0,0,IF($G$670>=2,0,1))","v":0}]
[null,null,null,{"$f":"IF(G701=\"\",\"\",IF(P702>=1,\"NB! Volum av nivåene kan ikke være større enn det totale volumet for hvert enkelt materiale!\",IF(AND(P701=TRUE,type1=2,G701>100),\"NB! Prosentandel for hvert nivå må registreres i prosent av det vurderte bygningselementet, og den totale prosentandelen kan ikke være større enn den totale prosent av hvert enkelt materiale!\",\"\")))","v":""},null,null,null,null,null,null,null,null,null,null,null,null,1,{"$f":"1","v":1},"=1",null,null,null,null,0]
[null,null,{"$f":"IF(AND(G691=\"\",Volum=\"\"),\"\",IF(AND(U691=1,L701=\"\"),\"REGISTRER FØRST DET TOTALE VOLUMET  AV MATERIALER I CELLEN NEDERST TIL HØYRE\",IF(G693:G700=\"\",\"\",IF(G701>100,\"Mengden materialer kan ikke overstige det  totale volumet!\",IF(G701<80,\"Minst 80 % av de relevante materialer må vurderes\",\"\")))))","v":""},null,"Mat. 1",null,null,null,null,null,null,null,{"$f":"IF(N693=0,0,IF(P701=TRUE,\"0\",IF(SUM(H709+I709+J709+K709+L709)>=3,\"3\",SUM(H709+I709+J709+K709+L709))))","v":0},{"$f":"IF(AND(U691=1,L701=\"\"),0,IF(OR(NOT(D692=\"\"),NOT(C693=\"\")),0,IF(ISERROR(N702),\"0\",N702)))","v":0},null,{"$f":"IF(SUM(H693:L693)>G693,\"1\",\"0\")","v":"0"},1,{"$f":"1","v":1},"=1",null,null,null,null,0]
[null,null,null,null,"Mat. 2",null,null,null,null,null,null,null,null,{"$f":"IF(OR(G701=\"\",G701=0,G701>100),\"\",IF(N702=0,\"\",IF(N702<80,\"Ingen poeng oppnådd,\nmindre enn 80 % oppfyller kravet\",C693)))","v":""},null,{"$f":"IF(SUM(H694:L694)>G694,\"1\",\"0\")","v":"0"},1,{"$f":"1","v":1},"=1",null,null,null,null,0]
[null,null,null,null,"Mat. 3",null,null,null,null,null,null,null,null,null,null,"0",1,{"$f":"1","v":1},"=1",null,null,null,null,0]
[null,null,null,null,"Mat. 4",null,null,null,null,null,null,null,null,null,null,"0",1,{"$f":"1","v":1},"=1",null,null,null,null,0]
[null,null,null,null,"Mat. 5",null,null,null,null,null,null,null,null,null,null,"0",1,{"$f":"1","v":1},"=1",null,null,null,null,0]
[null,null,null,null,"Mat. 6",null,null,null,null,null,null,null,null,null,null,"0",1,{"$f":"1","v":1},"=1",null,null,null,null,0]
[null,null,null,null,"Mat. 7",null,null,null,null,null,null,null,null,null,null,"0",1,{"$f":"1","v":1},"=1",null,null,null,null,0]
[null,null,null,null,"Mat. 8",null,null,null,null,null,null,null,null,null,null,"0",1,{"$f":"1","v":1},"=1",null,null,null,null,0]
[null,null,null,"Totalt % av bygningselementet (relevante materialer) vurdert:",null,null,{"$f":"IF(U691=\"\",\"\",IF(U691+L701=1,\"\",IF(SUM(G693:G700)=0,\"\",IF(U691=1,IF(OR(G693>L701,G694>L701,G695>L701,G696>L701,G697>L701,G698>L701,G699>L701,G700>L701,SUM(G693:G700)>L701),ROUND(SUM(G693:G700)/L701,2)*100,((SUM(G693:G700)/L701)*100)),IF(U691=2,IF(OR(G693>100,G694>100,G695>100,G696>100,G697>100,G698>100,G699>100,G700>100,SUM(G693:G700)>100),SUM(G693:G700),SUM(G693:G700)))))))","v":""},"Totalt volum:",null,null,null,null,null,null,null,{"$f":"IF(OR(H702>G702,K702>G702,L702>G702),TRUE,FALSE)","v":false},1,{"$f":"1","v":1},"=1",null,null,null,null,0]
[null,null,{"$f":"IF(G701=0,\"0\",IF(U691=2,\"0\",IF(U691=1,(G701/100)*100,IF(U691=2,(G701/100)*100))))","v":false},{"$f":"G701","v":""},null,"Total",{"$f":"IF(SUM(G693:G700)=0,\"1\",SUM(G693:G700))","v":"1"},{"$f":"SUM(H693:H700)","v":0},{"$f":"SUM(I693:I700)","v":0},{"$f":"SUM(J693:J700)","v":0},{"$f":"SUM(K693:K700)","v":0},{"$f":"SUM(L693:L700)","v":0},null,{"$f":"SUM(H703:L703)","v":0},{"$f":"IF(G701<80,\"0,00\",IF(P702>0,\"0\",IF(G701>100,\"0,00\",IF(N693>=80,M693,IF(N693<80,0)))))","v":"0,00"},{"$f":"P693+P694+P695+P696+P697+P698+P699+P700","v":0},{"$f":"1","v":1},{"$f":"1","v":1},"=1"]
[null,null,null,null,null,null,"Percentage",{"$f":"IF(H702+G702=0,\"0\",(H702/G702)*100)","v":0},{"$f":"IF(I702+G702=0,\"0\",(I702/G702)*100)","v":0},{"$f":"IF(J702+G702=0,\"0\",(J702/G702)*100)","v":0},{"$f":"IF(K702+G702=0,\"0\",(K702/G702)*100)","v":0},{"$f":"IF(L702+G702=0,\"0\",(L702/G702)*100)","v":0},null,100,null,null,{"$f":"1","v":1},{"$f":"1","v":1},"=1"]
[null,null,null,null,null,{"$f":"IF(U691=1,((G702/100)*80))","v":false},"% of 80",{"$f":"(H703/80)*100","v":0},{"$f":"(I703/80)*100","v":0},{"$f":"(J703/80)*100","v":0},{"$f":"(K703/80)*100","v":0},{"$f":"(L703/80)*100","v":0},null,null,null,null,{"$f":"1","v":1},{"$f":"1","v":1},"=1"]
[null,null,null,null,null,null,"Limiter",{"$f":"IF(H704>100,\"100\",H704)","v":0},{"$f":"IF(I704>100,\"100\",I704)","v":0},{"$f":"IF(J704>100,\"100\",J704)","v":0},{"$f":"IF(K704>100,\"100\",K704)","v":0},{"$f":"IF(L704>100,\"100\",L704)","v":0},null,null,null,null,{"$f":"1","v":1},{"$f":"1","v":1},"=1"]
[null,null,null,null,null,null,null,null,{"$f":"IF(H705+I705+J705+K705+L705=0,0,100-(H705))","v":0},{"$f":"IF(H705+I705+J705+K705+L705=0,0,100-(H705+I705))","v":0},{"$f":"IF(J705+I705+H705+K705+L705=0,0,100-(J705+I705+H705))","v":0},{"$f":"IF(K705+J705+I705+H705+L705=0,0,100-(H705+I705+K705+J705))","v":0},null,null,null,null,{"$f":"1","v":1},{"$f":"1","v":1},"=1"]
[null,null,null,null,null,null,null,null,{"$f":"IF(I705>I706,I706,I705)","v":0},{"$f":"IF(J705>J706,J706,J705)","v":0},{"$f":"IF(K705>K706,K706,K705)","v":0},{"$f":"IF(L705>L706,L706,L705)","v":0},null,null,null,null,{"$f":"1","v":1},{"$f":"1","v":1},"=1"]
[null,null,null,null,null,null,null,null,null,null,null,{"$f":"IF(K707+J705+H705+I705>=100,0,L707)","v":0},null,null,null,null,{"$f":"1","v":1},{"$f":"1","v":1},"=1"]
[null,null,null,null,null,null,"Scores",{"$f":"IF(H702=0,0,0.01*(H705*H710))","v":0},{"$f":"IF(I702=0,0,0.01*(I707*I710))","v":0},{"$f":"IF(J702=0,0,0.01*(J707*J710))","v":0},{"$f":"IF(K702=0,0,0.01*(K707*K710))","v":0},{"$f":"IF(L702=0,0,0.01*(L708*L710))","v":0},null,null,null,null,{"$f":"1","v":1},{"$f":"1","v":1},"=1"]
[null,null,null,null,null,null,null,3,2.5,2,1.5,1,null,null,null,null,{"$f":"1","v":1},{"$f":"1","v":1},"=1"]
[null,null,"VINDU (3)",null,null,"Velg elementtype:",null,null,null,null,null,null,null,null,null,null,{"$f":"IF(freq9>=5,0,1)","v":1},{"$f":"1","v":1},"=1",null,{"$f":"IF(ISERROR(VLOOKUP(G711,$T$1249:$U$1250,2,FALSE)),\"\",VLOOKUP(G711,$T$1249:$U$1250,2,FALSE))","v":""},null,null,{"$f":"IF($R$15=0,0,IF($G$670>=3,0,1))","v":0}]
[null,null,null,{"$f":"IF(G721=\"\",\"\",IF(P722>=1,\"NB! Volum av nivåene kan ikke være større enn det totale volumet for hvert enkelt materiale!\",IF(AND(P721=TRUE,type1=2,G721>100),\"NB! Prosentandel for hvert nivå må registreres i prosent av det vurderte bygningselementet, og den totale prosentandelen kan ikke være større enn den totale prosent av hvert enkelt materiale!\",\"\")))","v":""},null,null,null,null,null,null,null,null,null,null,null,null,1,{"$f":"1","v":1},"=1",null,null,null,null,0]
[null,null,{"$f":"IF(AND(G711=\"\",Volum=\"\"),\"\",IF(AND(U711=1,L721=\"\"),\"REGISTRER FØRST DET TOTALE VOLUMET  AV MATERIALER I CELLEN NEDERST TIL HØYRE\",IF(G713:G720=\"\",\"\",IF(G721>100,\"Mengden materialer kan ikke overstige det  totale volumet!\",IF(G721<80,\"Minst 80 % av de relevante materialer må vurderes\",\"\")))))","v":""},null,"Mat. 1",null,null,null,null,null,null,null,{"$f":"IF(N713=0,0,IF(P721=TRUE,\"0\",IF(SUM(H729+I729+J729+K729+L729)>=3,\"3\",SUM(H729+I729+J729+K729+L729))))","v":0},{"$f":"IF(AND(U711=1,L721=\"\"),0,IF(OR(NOT(D712=\"\"),NOT(C713=\"\")),0,IF(ISERROR(N722),\"0\",N722)))","v":0},null,{"$f":"IF(SUM(H713:L713)>G713,\"1\",\"0\")","v":"0"},1,{"$f":"1","v":1},"=1",null,null,null,null,0]
[null,null,null,null,"Mat. 2",null,null,null,null,null,null,null,null,{"$f":"IF(OR(G721=\"\",G721=0,G721>100),\"\",IF(N722=0,\"\",IF(N722<80,\"Ingen poeng oppnådd,\nmindre enn 80 % oppfyller kravet\",C713)))","v":""},null,{"$f":"IF(SUM(H714:L714)>G714,\"1\",\"0\")","v":"0"},1,{"$f":"1","v":1},"=1",null,null,null,null,0]
[null,null,null,null,"Mat. 3",null,null,null,null,null,null,null,null,null,null,"0",1,{"$f":"1","v":1},"=1",null,null,null,null,0]
[null,null,null,null,"Mat. 4",null,null,null,null,null,null,null,null,null,null,"0",1,{"$f":"1","v":1},"=1",null,null,null,null,0]
[null,null,null,null,"Mat. 5",null,null,null,null,null,null,null,null,null,null,"0",1,{"$f":"1","v":1},"=1",null,null,null,null,0]
[null,null,null,null,"Mat. 6",null,null,null,null,null,null,null,null,null,null,"0",1,{"$f":"1","v":1},"=1",null,null,null,null,0]
[null,null,null,null,"Mat. 7",null,null,null,null,null,null,null,null,null,null,"0",1,{"$f":"1","v":1},"=1",null,null,null,null,0]
[null,null,null,null,"Mat. 8",null,null,null,null,null,null,null,null,null,null,"0",1,{"$f":"1","v":1},"=1",null,null,null,null,0]
[null,null,null,"Totalt % av bygningselementet (relevante materialer) vurdert:",null,null,{"$f":"IF(U711=\"\",\"\",IF(U711+L721=1,\"\",IF(SUM(G713:G720)=0,\"\",IF(U711=1,IF(OR(G713>L721,G714>L721,G715>L721,G716>L721,G717>L721,G718>L721,G719>L721,G720>L721,SUM(G713:G720)>L721),ROUND(SUM(G713:G720)/L721,2)*100,((SUM(G713:G720)/L721)*100)),IF(U711=2,IF(OR(G713>100,G714>100,G715>100,G716>100,G717>100,G718>100,G719>100,G720>100,SUM(G713:G720)>100),SUM(G713:G720),SUM(G713:G720)))))))","v":""},"Totalt volum:",null,null,null,null,null,null,null,{"$f":"IF(OR(H722>G722,K722>G722,L722>G722),TRUE,FALSE)","v":false},1,{"$f":"1","v":1},"=1",null,null,null,null,0]
[null,null,{"$f":"IF(G721=0,\"0\",IF(U711=2,\"0\",IF(U711=1,(G721/100)*100,IF(U711=2,(G721/100)*100))))","v":false},{"$f":"G721","v":""},null,"Total",{"$f":"IF(SUM(G713:G720)=0,\"1\",SUM(G713:G720))","v":"1"},{"$f":"SUM(H713:H720)","v":0},{"$f":"SUM(I713:I720)","v":0},{"$f":"SUM(J713:J720)","v":0},{"$f":"SUM(K713:K720)","v":0},{"$f":"SUM(L713:L720)","v":0},null,{"$f":"SUM(H723:L723)","v":0},{"$f":"IF(G721<80,\"0,00\",IF(P722>0,\"0\",IF(G721>100,\"0,00\",IF(N713>=80,M713,IF(N713<80,0)))))","v":"0,00"},{"$f":"P713+P714+P715+P716+P717+P718+P719+P720","v":0},{"$f":"1","v":1},{"$f":"1","v":1},"=1"]
[null,null,null,null,null,null,"Percentage",{"$f":"IF(H722+G722=0,\"0\",(H722/G722)*100)","v":0},{"$f":"IF(I722+G722=0,\"0\",(I722/G722)*100)","v":0},{"$f":"IF(J722+G722=0,\"0\",(J722/G722)*100)","v":0},{"$f":"IF(K722+G722=0,\"0\",(K722/G722)*100)","v":0},{"$f":"IF(L722+G722=0,\"0\",(L722/G722)*100)","v":0},null,100,null,null,{"$f":"1","v":1},{"$f":"1","v":1},"=1"]
[null,null,null,null,null,{"$f":"IF(U711=1,((G722/100)*80))","v":false},"% of 80",{"$f":"(H723/80)*100","v":0},{"$f":"(I723/80)*100","v":0},{"$f":"(J723/80)*100","v":0},{"$f":"(K723/80)*100","v":0},{"$f":"(L723/80)*100","v":0},null,null,null,null,{"$f":"1","v":1},{"$f":"1","v":1},"=1"]
[null,null,null,null,null,null,"Limiter",{"$f":"IF(H724>100,\"100\",H724)","v":0},{"$f":"IF(I724>100,\"100\",I724)","v":0},{"$f":"IF(J724>100,\"100\",J724)","v":0},{"$f":"IF(K724>100,\"100\",K724)","v":0},{"$f":"IF(L724>100,\"100\",L724)","v":0},null,null,null,null,{"$f":"1","v":1},{"$f":"1","v":1},"=1"]
[null,null,null,null,null,null,null,null,{"$f":"IF(H725+I725+J725+K725+L725=0,0,100-(H725))","v":0},{"$f":"IF(H725+I725+J725+K725+L725=0,0,100-(H725+I725))","v":0},{"$f":"IF(J725+I725+H725+K725+L725=0,0,100-(J725+I725+H725))","v":0},{"$f":"IF(K725+J725+I725+H725+L725=0,0,100-(H725+I725+K725+J725))","v":0},null,null,null,null,{"$f":"1","v":1},{"$f":"1","v":1},"=1"]
[null,null,null,null,null,null,null,null,{"$f":"IF(I725>I726,I726,I725)","v":0},{"$f":"IF(J725>J726,J726,J725)","v":0},{"$f":"IF(K725>K726,K726,K725)","v":0},{"$f":"IF(L725>L726,L726,L725)","v":0},null,null,null,null,{"$f":"1","v":1},{"$f":"1","v":1},"=1"]
[null,null,null,null,null,null,null,null,null,null,null,{"$f":"IF(K727+J725+H725+I725>=100,0,L727)","v":0},null,null,null,null,{"$f":"1","v":1},{"$f":"1","v":1},"=1"]
[null,null,null,null,null,null,"Scores",{"$f":"IF(H722=0,0,0.01*(H725*H730))","v":0},{"$f":"IF(I722=0,0,0.01*(I727*I730))","v":0},{"$f":"IF(J722=0,0,0.01*(J727*J730))","v":0},{"$f":"IF(K722=0,0,0.01*(K727*K730))","v":0},{"$f":"IF(L722=0,0,0.01*(L728*L730))","v":0},null,null,null,null,{"$f":"1","v":1},{"$f":"1","v":1},"=1"]
[null,null,null,null,null,null,null,3,2.5,2,1.5,1,null,null,null,null,{"$f":"1","v":1},{"$f":"1","v":1},"=1"]
[null,null,"VINDU (4)",null,null,"Velg elementtype:",null,null,null,null,null,null,null,null,null,null,{"$f":"IF(freq9>=6,0,1)","v":1},{"$f":"1","v":1},"=1",null,{"$f":"IF(ISERROR(VLOOKUP(G731,$T$1249:$U$1250,2,FALSE)),\"\",VLOOKUP(G731,$T$1249:$U$1250,2,FALSE))","v":""},null,null,{"$f":"IF($R$15=0,0,IF($G$670>=4,0,1))","v":0}]
[null,null,null,{"$f":"IF(G741=\"\",\"\",IF(P742>=1,\"NB! Volum av nivåene kan ikke være større enn det totale volumet for hvert enkelt materiale!\",IF(AND(P741=TRUE,type1=2,G741>100),\"NB! Prosentandel for hvert nivå må registreres i prosent av det vurderte bygningselementet, og den totale prosentandelen kan ikke være større enn den totale prosent av hvert enkelt materiale!\",\"\")))","v":""},null,null,null,null,null,null,null,null,null,null,null,null,1,{"$f":"1","v":1},"=1",null,null,null,null,0]
[null,null,{"$f":"IF(AND(G731=\"\",Volum=\"\"),\"\",IF(AND(U731=1,L741=\"\"),\"REGISTRER FØRST DET TOTALE VOLUMET  AV MATERIALER I CELLEN NEDERST TIL HØYRE\",IF(G733:G740=\"\",\"\",IF(G741>100,\"Mengden materialer kan ikke overstige det  totale volumet!\",IF(G741<80,\"Minst 80 % av de relevante materialer må vurderes\",\"\")))))","v":""},null,"Mat. 1",null,null,null,null,null,null,null,{"$f":"IF(N733=0,0,IF(P741=TRUE,\"0\",IF(SUM(H749+I749+J749+K749+L749)>=3,\"3\",SUM(H749+I749+J749+K749+L749))))","v":0},{"$f":"IF(AND(U731=1,L741=\"\"),0,IF(OR(NOT(D732=\"\"),NOT(C733=\"\")),0,IF(ISERROR(N742),\"0\",N742)))","v":0},null,{"$f":"IF(SUM(H733:L733)>G733,\"1\",\"0\")","v":"0"},1,{"$f":"1","v":1},"=1",null,null,null,null,0]
[null,null,null,null,"Mat. 2",null,null,null,null,null,null,null,null,{"$f":"IF(OR(G741=\"\",G741=0,G741>100),\"\",IF(N742=0,\"\",IF(N742<80,\"Ingen poeng oppnådd,\nmindre enn 80 % oppfyller kravet\",C733)))","v":""},null,{"$f":"IF(SUM(H734:L734)>G734,\"1\",\"0\")","v":"0"},1,{"$f":"1","v":1},"=1",null,null,null,null,0]
[null,null,null,null,"Mat. 3",null,null,null,null,null,null,null,null,null,null,"0",1,{"$f":"1","v":1},"=1",null,null,null,null,0]
[null,null,null,null,"Mat. 4",null,null,null,null,null,null,null,null,null,null,"0",1,{"$f":"1","v":1},"=1",null,null,null,null,0]
[null,null,null,null,"Mat. 5",null,null,null,null,null,null,null,null,null,null,"0",1,{"$f":"1","v":1},"=1",null,null,null,null,0]
[null,null,null,null,"Mat. 6",null,null,null,null,null,null,null,null,null,null,"0",1,{"$f":"1","v":1},"=1",null,null,null,null,0]
[null,null,null,null,"Mat. 7",null,null,null,null,null,null,null,null,null,null,"0",1,{"$f":"1","v":1},"=1",null,null,null,null,0]
[null,null,null,null,"Mat. 8",null,null,null,null,null,null,null,null,null,null,"0",1,{"$f":"1","v":1},"=1",null,null,null,null,0]
[null,null,null,"Totalt % av bygningselementet (relevante materialer) vurdert:",null,null,{"$f":"IF(U731=\"\",\"\",IF(U731+L741=1,\"\",IF(SUM(G733:G740)=0,\"\",IF(U731=1,IF(OR(G733>L741,G734>L741,G735>L741,G736>L741,G737>L741,G738>L741,G739>L741,G740>L741,SUM(G733:G740)>L741),ROUND(SUM(G733:G740)/L741,2)*100,((SUM(G733:G740)/L741)*100)),IF(U731=2,IF(OR(G733>100,G734>100,G735>100,G736>100,G737>100,G738>100,G739>100,G740>100,SUM(G733:G740)>100),SUM(G733:G740),SUM(G733:G740)))))))","v":""},"Totalt volum:",null,null,null,null,null,null,null,{"$f":"IF(OR(H742>G742,K742>G742,L742>G742),TRUE,FALSE)","v":false},1,{"$f":"1","v":1},"=1",null,null,null,null,0]
[null,null,{"$f":"IF(G741=0,\"0\",IF(U731=2,\"0\",IF(U731=1,(G741/100)*100,IF(U731=2,(G741/100)*100))))","v":false},{"$f":"G741","v":""},null,"Total",{"$f":"IF(SUM(G733:G740)=0,\"1\",SUM(G733:G740))","v":"1"},{"$f":"SUM(H733:H740)","v":0},{"$f":"SUM(I733:I740)","v":0},{"$f":"SUM(J733:J740)","v":0},{"$f":"SUM(K733:K740)","v":0},{"$f":"SUM(L733:L740)","v":0},null,{"$f":"SUM(H743:L743)","v":0},{"$f":"IF(G741<80,\"0,00\",IF(P742>0,\"0\",IF(G741>100,\"0,00\",IF(N733>=80,M733,IF(N733<80,0)))))","v":"0,00"},{"$f":"P733+P734+P735+P736+P737+P738+P739+P740","v":0},{"$f":"1","v":1},{"$f":"1","v":1},"=1"]
[null,null,null,null,null,null,"Percentage",{"$f":"IF(H742+G742=0,\"0\",(H742/G742)*100)","v":0},{"$f":"IF(I742+G742=0,\"0\",(I742/G742)*100)","v":0},{"$f":"IF(J742+G742=0,\"0\",(J742/G742)*100)","v":0},{"$f":"IF(K742+G742=0,\"0\",(K742/G742)*100)","v":0},{"$f":"IF(L742+G742=0,\"0\",(L742/G742)*100)","v":0},null,100,null,null,{"$f":"1","v":1},{"$f":"1","v":1},"=1"]
[null,null,null,null,null,{"$f":"IF(U731=1,((G742/100)*80))","v":false},"% of 80",{"$f":"(H743/80)*100","v":0},{"$f":"(I743/80)*100","v":0},{"$f":"(J743/80)*100","v":0},{"$f":"(K743/80)*100","v":0},{"$f":"(L743/80)*100","v":0},null,null,null,null,{"$f":"1","v":1},{"$f":"1","v":1},"=1"]
[null,null,null,null,null,null,"Limiter",{"$f":"IF(H744>100,\"100\",H744)","v":0},{"$f":"IF(I744>100,\"100\",I744)","v":0},{"$f":"IF(J744>100,\"100\",J744)","v":0},{"$f":"IF(K744>100,\"100\",K744)","v":0},{"$f":"IF(L744>100,\"100\",L744)","v":0},null,null,null,null,{"$f":"1","v":1},{"$f":"1","v":1},"=1"]
[null,null,null,null,null,null,null,null,{"$f":"IF(H745+I745+J745+K745+L745=0,0,100-(H745))","v":0},{"$f":"IF(H745+I745+J745+K745+L745=0,0,100-(H745+I745))","v":0},{"$f":"IF(J745+I745+H745+K745+L745=0,0,100-(J745+I745+H745))","v":0},{"$f":"IF(K745+J745+I745+H745+L745=0,0,100-(H745+I745+K745+J745))","v":0},null,null,null,null,{"$f":"1","v":1},{"$f":"1","v":1},"=1"]
[null,null,null,null,null,null,null,null,{"$f":"IF(I745>I746,I746,I745)","v":0},{"$f":"IF(J745>J746,J746,J745)","v":0},{"$f":"IF(K745>K746,K746,K745)","v":0},{"$f":"IF(L745>L746,L746,L745)","v":0},null,null,null,null,{"$f":"1","v":1},{"$f":"1","v":1},"=1"]
[null,null,null,null,null,null,null,null,null,null,null,{"$f":"IF(K747+J745+H745+I745>=100,0,L747)","v":0},null,null,null,null,{"$f":"1","v":1},{"$f":"1","v":1},"=1"]
[null,null,null,null,null,null,"Scores",{"$f":"IF(H742=0,0,0.01*(H745*H750))","v":0},{"$f":"IF(I742=0,0,0.01*(I747*I750))","v":0},{"$f":"IF(J742=0,0,0.01*(J747*J750))","v":0},{"$f":"IF(K742=0,0,0.01*(K747*K750))","v":0},{"$f":"IF(L742=0,0,0.01*(L748*L750))","v":0},null,null,null,null,{"$f":"1","v":1},{"$f":"1","v":1},"=1"]
[null,null,null,null,null,null,null,3,2.5,2,1.5,1,null,null,null,null,{"$f":"1","v":1},{"$f":"1","v":1},"=1"]
[null,null,"UTV. OG INNV. DØRER",null,null,"Velg antall utv. og innv. dører du ønsker å vurdere (deretter trykk «velg»):",null,null,null,null,null,null,null,null,{"$f":"IF(ISERROR(O763+O783+O803+O823)/V752,\"\",(O763+O783+O803+O823)/V752)","v":0},null,{"$f":"0","v":0},{"$f":"1","v":1},"=HVIS(asstype=3;0;HVIS(typescheme=2;0;1))",{"$f":"VLOOKUP(G751,$T$1242:$U$1246,2,FALSE)","v":2},null,null,null,{"$f":"IF($R$15=0,0,IF($G$751>=1,0,1))","v":0}]
[null,null,"DØRER (1)",null,null,"Velg elementtype:",null,null,null,null,null,null,null,null,null,null,{"$f":"IF(freq10>=3,0,1)","v":1},{"$f":"1","v":1},"=HVIS(asstype=3;0;HVIS(typescheme=2;0;1))",null,{"$f":"IF(ISERROR(VLOOKUP(G752,$T$1249:$U$1250,2,FALSE)),\"\",VLOOKUP(G752,$T$1249:$U$1250,2,FALSE))","v":""},{"$f":"IF(freq10=3,1,IF(freq10=4,2,IF(freq10=5,3,IF(freq10=6,4,1))))","v":1},null,0]
[null,null,null,{"$f":"IF(G762=\"\",\"\",IF(P763>=1,\"NB! Volum av nivåene kan ikke være større enn det totale volumet for hvert enkelt materiale!\",IF(AND(P762=TRUE,type1=2,G762>100),\"NB! Prosentandel for hvert nivå må registreres i prosent av det vurderte bygningselementet, og den totale prosentandelen kan ikke være større enn den totale prosent av hvert enkelt materiale!\",\"\")))","v":""},null,null,null,null,null,null,null,null,null,null,null,null,1,{"$f":"1","v":1},"=HVIS(asstype=3;0;HVIS(typescheme=2;0;1))",null,null,null,null,0]
[null,null,{"$f":"IF(AND(G751=\"\",Volum=\"\"),\"\",IF(AND(U752=1,L762=\"\"),\"REGISTRER FØRST DET TOTALE VOLUMET  AV MATERIALER I CELLEN NEDERST TIL HØYRE\",IF(G754:G761=\"\",\"\",IF(G762>100,\"Mengden materialer kan ikke overstige det  totale volumet!\",IF(G762<80,\"Minst 80 % av de relevante materialer må vurderes\",\"\")))))","v":""},null,"Mat. 1",null,null,null,null,null,null,null,{"$f":"IF(N754=0,0,IF(P762=TRUE,\"0\",IF(SUM(H770+I770+J770+K770+L770)>=3,\"3\",SUM(H770+I770+J770+K770+L770))))","v":0},{"$f":"IF(AND(U752=1,L762=\"\"),0,IF(OR(NOT(D753=\"\"),NOT(C754=\"\")),0,IF(ISERROR(N763),\"0\",N763)))","v":0},null,{"$f":"IF(SUM(H754:L754)>G754,\"1\",\"0\")","v":"0"},1,{"$f":"1","v":1},"=HVIS(asstype=3;0;HVIS(typescheme=2;0;1))",null,null,null,null,0]
[null,null,null,null,"Mat. 2",null,null,null,null,null,null,null,null,{"$f":"IF(OR(G762=\"\",G762=0,G762>100),\"\",IF(N763=0,\"\",IF(N763<80,\"Ingen poeng oppnådd,\nmindre enn 80 % oppfyller kravet\",C754)))","v":""},null,{"$f":"IF(SUM(H755:L755)>G755,\"1\",\"0\")","v":"0"},1,{"$f":"1","v":1},"=HVIS(asstype=3;0;HVIS(typescheme=2;0;1))",null,null,null,null,0]
[null,null,null,null,"Mat. 3",null,null,null,null,null,null,null,null,null,null,"0",1,{"$f":"1","v":1},"=HVIS(asstype=3;0;HVIS(typescheme=2;0;1))",null,null,null,null,0]
[null,null,null,null,"Mat. 4",null,null,null,null,null,null,null,null,null,null,"0",1,{"$f":"1","v":1},"=HVIS(asstype=3;0;HVIS(typescheme=2;0;1))",null,null,null,null,0]
[null,null,null,null,"Mat. 5",null,null,null,null,null,null,null,null,null,null,"0",1,{"$f":"1","v":1},"=HVIS(asstype=3;0;HVIS(typescheme=2;0;1))",null,null,null,null,0]
[null,null,null,null,"Mat. 6",null,null,null,null,null,null,null,null,null,null,"0",1,{"$f":"1","v":1},"=HVIS(asstype=3;0;HVIS(typescheme=2;0;1))",null,null,null,null,0]
[null,null,null,null,"Mat. 7",null,null,null,null,null,null,null,null,null,null,"0",1,{"$f":"1","v":1},"=HVIS(asstype=3;0;HVIS(typescheme=2;0;1))",null,null,null,null,0]
[null,null,null,null,"Mat. 8",null,null,null,null,null,null,null,null,null,null,"0",1,{"$f":"1","v":1},"=HVIS(asstype=3;0;HVIS(typescheme=2;0;1))",null,null,null,null,0]
[null,null,null,"Totalt % av bygningselementet (relevante materialer) vurdert:",null,null,{"$f":"IF(U752=\"\",\"\",IF(U752+L762=1,\"\",IF(SUM(G754:G761)=0,\"\",IF(U752=1,IF(OR(G754>L762,G755>L762,G756>L762,G757>L762,G758>L762,G759>L762,G760>L762,G761>L762,SUM(G754:G761)>L762),ROUND(SUM(G754:G761)/L762,2)*100,((SUM(G754:G761)/L762)*100)),IF(U752=2,IF(OR(G754>100,G755>100,G756>100,G757>100,G758>100,G759>100,G760>100,G761>100,SUM(G754:G761)>100),SUM(G754:G761),SUM(G754:G761)))))))","v":""},"Totalt volum:",null,null,null,null,null,null,null,{"$f":"IF(OR(H763>G763,K763>G763,L763>G763),TRUE,FALSE)","v":false},1,{"$f":"1","v":1},"=HVIS(asstype=3;0;HVIS(typescheme=2;0;1))",null,null,null,null,0]
[null,null,{"$f":"IF(G762=0,\"0\",IF(U755=2,\"0\",IF(U755=1,(G762/100)*100,IF(U755=2,(G762/100)*100))))","v":false},{"$f":"G762","v":""},null,"Total",{"$f":"IF(SUM(G754:G761)=0,\"1\",SUM(G754:G761))","v":"1"},{"$f":"SUM(H754:H761)","v":0},{"$f":"SUM(I754:I761)","v":0},{"$f":"SUM(J754:J761)","v":0},{"$f":"SUM(K754:K761)","v":0},{"$f":"SUM(L754:L761)","v":0},null,{"$f":"SUM(H764:L764)","v":0},{"$f":"IF(G762<80,\"0,00\",IF(P763>0,\"0\",IF(G762>100,\"0,00\",IF(N754>=80,M754,IF(N754<80,0)))))","v":"0,00"},{"$f":"P754+P755+P756+P757+P758+P759+P760+P761","v":0},{"$f":"1","v":1},{"$f":"1","v":1},"=1"]
[null,null,null,null,null,null,"Percentage",{"$f":"IF(H763+G763=0,\"0\",(H763/G763)*100)","v":0},{"$f":"IF(I763+G763=0,\"0\",(I763/G763)*100)","v":0},{"$f":"IF(J763+G763=0,\"0\",(J763/G763)*100)","v":0},{"$f":"IF(K763+G763=0,\"0\",(K763/G763)*100)","v":0},{"$f":"IF(L763+G763=0,\"0\",(L763/G763)*100)","v":0},null,100,null,null,{"$f":"1","v":1},{"$f":"1","v":1},"=1"]
[null,null,null,null,null,{"$f":"IF(U755=1,((G763/100)*80))","v":false},"% of 80",{"$f":"(H764/80)*100","v":0},{"$f":"(I764/80)*100","v":0},{"$f":"(J764/80)*100","v":0},{"$f":"(K764/80)*100","v":0},{"$f":"(L764/80)*100","v":0},null,null,null,null,{"$f":"1","v":1},{"$f":"1","v":1},"=1"]
[null,null,null,null,null,null,"Limiter",{"$f":"IF(H765>100,\"100\",H765)","v":0},{"$f":"IF(I765>100,\"100\",I765)","v":0},{"$f":"IF(J765>100,\"100\",J765)","v":0},{"$f":"IF(K765>100,\"100\",K765)","v":0},{"$f":"IF(L765>100,\"100\",L765)","v":0},null,null,null,null,{"$f":"1","v":1},{"$f":"1","v":1},"=1"]
[null,null,null,null,null,null,null,null,{"$f":"IF(H766+I766+J766+K766+L766=0,0,100-(H766))","v":0},{"$f":"IF(H766+I766+J766+K766+L766=0,0,100-(H766+I766))","v":0},{"$f":"IF(J766+I766+H766+K766+L766=0,0,100-(J766+I766+H766))","v":0},{"$f":"IF(K766+J766+I766+H766+L766=0,0,100-(H766+I766+K766+J766))","v":0},null,null,null,null,{"$f":"1","v":1},{"$f":"1","v":1},"=1"]
[null,null,null,null,null,null,null,null,{"$f":"IF(I766>I767,I767,I766)","v":0},{"$f":"IF(J766>J767,J767,J766)","v":0},{"$f":"IF(K766>K767,K767,K766)","v":0},{"$f":"IF(L766>L767,L767,L766)","v":0},null,null,null,null,{"$f":"1","v":1},{"$f":"1","v":1},"=1"]
[null,null,null,null,null,null,null,null,null,null,null,{"$f":"IF(K768+J766+H766+I766>=100,0,L768)","v":0},null,null,null,null,{"$f":"1","v":1},{"$f":"1","v":1},"=1"]
[null,null,null,null,null,null,"Scores",{"$f":"IF(H763=0,0,0.01*(H766*H771))","v":0},{"$f":"IF(I763=0,0,0.01*(I768*I771))","v":0},{"$f":"IF(J763=0,0,0.01*(J768*J771))","v":0},{"$f":"IF(K763=0,0,0.01*(K768*K771))","v":0},{"$f":"IF(L763=0,0,0.01*(L769*L771))","v":0},null,null,null,null,{"$f":"1","v":1},{"$f":"1","v":1},"=1"]
[null,null,null,null,null,null,null,3,2.5,2,1.5,1,"Total",null,null,null,{"$f":"1","v":1},{"$f":"1","v":1},"=1"]
[null,null,"DØRER (2)",null,null,"Velg elementtype:",null,null,null,null,null,null,null,null,null,null,{"$f":"IF(freq10>=4,0,1)","v":1},{"$f":"1","v":1},"=1",null,{"$f":"IF(ISERROR(VLOOKUP(G772,$T$1249:$U$1250,2,FALSE)),\"\",VLOOKUP(G772,$T$1249:$U$1250,2,FALSE))","v":""},null,null,{"$f":"IF($R$15=0,0,IF($G$751>=2,0,1))","v":0}]
[null,null,null,{"$f":"IF(G782=\"\",\"\",IF(P783>=1,\"NB! Volum av nivåene kan ikke være større enn det totale volumet for hvert enkelt materiale!\",IF(AND(P782=TRUE,type1=2,G782>100),\"NB! Prosentandel for hvert nivå må registreres i prosent av det vurderte bygningselementet, og den totale prosentandelen kan ikke være større enn den totale prosent av hvert enkelt materiale!\",\"\")))","v":""},null,null,null,null,null,null,null,null,null,null,null,null,1,{"$f":"1","v":1},"=1",null,null,null,null,0]
[null,null,{"$f":"IF(AND(G772=\"\",Volum=\"\"),\"\",IF(AND(U772=1,L782=\"\"),\"REGISTRER FØRST DET TOTALE VOLUMET  AV MATERIALER I CELLEN NEDERST TIL HØYRE\",IF(G774:G781=\"\",\"\",IF(G782>100,\"Mengden materialer kan ikke overstige det  totale volumet!\",IF(G782<80,\"Minst 80 % av de relevante materialer må vurderes\",\"\")))))","v":""},null,"Mat. 1",null,null,null,null,null,null,null,{"$f":"IF(N774=0,0,IF(P782=TRUE,\"0\",IF(SUM(H790+I790+J790+K790+L790)>=3,\"3\",SUM(H790+I790+J790+K790+L790))))","v":0},{"$f":"IF(AND(U772=1,L782=\"\"),0,IF(OR(NOT(D773=\"\"),NOT(C774=\"\")),0,IF(ISERROR(N783),\"0\",N783)))","v":0},null,{"$f":"IF(SUM(H774:L774)>G774,\"1\",\"0\")","v":"0"},1,{"$f":"1","v":1},"=1",null,null,null,null,0]
[null,null,null,null,"Mat. 2",null,null,null,null,null,null,null,null,{"$f":"IF(OR(G782=\"\",G782=0,G782>100),\"\",IF(N783=0,\"\",IF(N783<80,\"Ingen poeng oppnådd,\nmindre enn 80 % oppfyller kravet\",C774)))","v":""},null,{"$f":"IF(SUM(H775:L775)>G775,\"1\",\"0\")","v":"0"},1,{"$f":"1","v":1},"=1",null,null,null,null,0]
[null,null,null,null,"Mat. 3",null,null,null,null,null,null,null,null,null,null,"0",1,{"$f":"1","v":1},"=1",null,null,null,null,0]
[null,null,null,null,"Mat. 4",null,null,null,null,null,null,null,null,null,null,"0",1,{"$f":"1","v":1},"=1",null,null,null,null,0]
[null,null,null,null,"Mat. 5",null,null,null,null,null,null,null,null,null,null,"0",1,{"$f":"1","v":1},"=1",null,null,null,null,0]
[null,null,null,null,"Mat. 6",null,null,null,null,null,null,null,null,null,null,"0",1,{"$f":"1","v":1},"=1",null,null,null,null,0]
[null,null,null,null,"Mat. 7",null,null,null,null,null,null,null,null,null,null,"0",1,{"$f":"1","v":1},"=1",null,null,null,null,0]
[null,null,null,null,"Mat. 8",null,null,null,null,null,null,null,null,null,null,"0",1,{"$f":"1","v":1},"=1",null,null,null,null,0]
[null,null,null,"Totalt % av bygningselementet (relevante materialer) vurdert:",null,null,{"$f":"IF(U772=\"\",\"\",IF(U772+L782=1,\"\",IF(SUM(G774:G781)=0,\"\",IF(U772=1,IF(OR(G774>L782,G775>L782,G776>L782,G777>L782,G778>L782,G779>L782,G780>L782,G781>L782,SUM(G774:G781)>L782),ROUND(SUM(G774:G781)/L782,2)*100,((SUM(G774:G781)/L782)*100)),IF(U772=2,IF(OR(G774>100,G775>100,G776>100,G777>100,G778>100,G779>100,G780>100,G781>100,SUM(G774:G781)>100),SUM(G774:G781),SUM(G774:G781)))))))","v":""},"Totalt volum:",null,null,null,null,null,null,null,{"$f":"IF(OR(H783>G783,K783>G783,L783>G783),TRUE,FALSE)","v":false},1,{"$f":"1","v":1},"=1",null,null,null,null,0]
[null,null,{"$f":"IF(G782=0,\"0\",IF(U772=2,\"0\",IF(U772=1,(G782/100)*100,IF(U772=2,(G782/100)*100))))","v":false},{"$f":"G782","v":""},null,"Total",{"$f":"IF(SUM(G774:G781)=0,\"1\",SUM(G774:G781))","v":"1"},{"$f":"SUM(H774:H781)","v":0},{"$f":"SUM(I774:I781)","v":0},{"$f":"SUM(J774:J781)","v":0},{"$f":"SUM(K774:K781)","v":0},{"$f":"SUM(L774:L781)","v":0},null,{"$f":"SUM(H784:L784)","v":0},{"$f":"IF(G782<80,\"0,00\",IF(P783>0,\"0\",IF(G782>100,\"0,00\",IF(N774>=80,M774,IF(N774<80,0)))))","v":"0,00"},{"$f":"P774+P775+P776+P777+P778+P779+P780+P781","v":0},{"$f":"1","v":1},{"$f":"1","v":1},"=1"]
[null,null,null,null,null,null,"Percentage",{"$f":"IF(H783+G783=0,\"0\",(H783/G783)*100)","v":0},{"$f":"IF(I783+G783=0,\"0\",(I783/G783)*100)","v":0},{"$f":"IF(J783+G783=0,\"0\",(J783/G783)*100)","v":0},{"$f":"IF(K783+G783=0,\"0\",(K783/G783)*100)","v":0},{"$f":"IF(L783+G783=0,\"0\",(L783/G783)*100)","v":0},null,100,null,null,{"$f":"1","v":1},{"$f":"1","v":1},"=1"]
[null,null,null,null,null,{"$f":"IF(U772=1,((G783/100)*80))","v":false},"% of 80",{"$f":"(H784/80)*100","v":0},{"$f":"(I784/80)*100","v":0},{"$f":"(J784/80)*100","v":0},{"$f":"(K784/80)*100","v":0},{"$f":"(L784/80)*100","v":0},null,null,null,null,{"$f":"1","v":1},{"$f":"1","v":1},"=1"]
[null,null,null,null,null,null,"Limiter",{"$f":"IF(H785>100,\"100\",H785)","v":0},{"$f":"IF(I785>100,\"100\",I785)","v":0},{"$f":"IF(J785>100,\"100\",J785)","v":0},{"$f":"IF(K785>100,\"100\",K785)","v":0},{"$f":"IF(L785>100,\"100\",L785)","v":0},null,null,null,null,{"$f":"1","v":1},{"$f":"1","v":1},"=1"]
[null,null,null,null,null,null,null,null,{"$f":"IF(H786+I786+J786+K786+L786=0,0,100-(H786))","v":0},{"$f":"IF(H786+I786+J786+K786+L786=0,0,100-(H786+I786))","v":0},{"$f":"IF(J786+I786+H786+K786+L786=0,0,100-(J786+I786+H786))","v":0},{"$f":"IF(K786+J786+I786+H786+L786=0,0,100-(H786+I786+K786+J786))","v":0},null,null,null,null,{"$f":"1","v":1},{"$f":"1","v":1},"=1"]
[null,null,null,null,null,null,null,null,{"$f":"IF(I786>I787,I787,I786)","v":0},{"$f":"IF(J786>J787,J787,J786)","v":0},{"$f":"IF(K786>K787,K787,K786)","v":0},{"$f":"IF(L786>L787,L787,L786)","v":0},null,null,null,null,{"$f":"1","v":1},{"$f":"1","v":1},"=1"]
[null,null,null,null,null,null,null,null,null,null,null,{"$f":"IF(K788+J786+H786+I786>=100,0,L788)","v":0},null,null,null,null,{"$f":"1","v":1},{"$f":"1","v":1},"=1"]
[null,null,null,null,null,null,"Scores",{"$f":"IF(H783=0,0,0.01*(H786*H791))","v":0},{"$f":"IF(I783=0,0,0.01*(I788*I791))","v":0},{"$f":"IF(J783=0,0,0.01*(J788*J791))","v":0},{"$f":"IF(K783=0,0,0.01*(K788*K791))","v":0},{"$f":"IF(L783=0,0,0.01*(L789*L791))","v":0},null,null,null,null,{"$f":"1","v":1},{"$f":"1","v":1},"=1"]
[null,null,null,null,null,null,null,3,2.5,2,1.5,1,"Total",null,null,null,{"$f":"1","v":1},{"$f":"1","v":1},"=1"]
[null,null,"DØRER (3)",null,null,"Velg elementtype:",null,null,null,null,null,null,null,null,null,null,{"$f":"IF(freq10>=5,0,1)","v":1},{"$f":"1","v":1},"=1",null,{"$f":"IF(ISERROR(VLOOKUP(G792,$T$1249:$U$1250,2,FALSE)),\"\",VLOOKUP(G792,$T$1249:$U$1250,2,FALSE))","v":""},null,null,{"$f":"IF($R$15=0,0,IF($G$751>=3,0,1))","v":0}]
[null,null,null,{"$f":"IF(G802=\"\",\"\",IF(P803>=1,\"NB! Volum av nivåene kan ikke være større enn det totale volumet for hvert enkelt materiale!\",IF(AND(P802=TRUE,type1=2,G802>100),\"NB! Prosentandel for hvert nivå må registreres i prosent av det vurderte bygningselementet, og den totale prosentandelen kan ikke være større enn den totale prosent av hvert enkelt materiale!\",\"\")))","v":""},null,null,null,null,null,null,null,null,null,null,null,null,1,{"$f":"1","v":1},"=1",null,null,null,null,0]
[null,null,{"$f":"IF(AND(G792=\"\",Volum=\"\"),\"\",IF(AND(U792=1,L802=\"\"),\"REGISTRER FØRST DET TOTALE VOLUMET  AV MATERIALER I CELLEN NEDERST TIL HØYRE\",IF(G794:G801=\"\",\"\",IF(G802>100,\"Mengden materialer kan ikke overstige det  totale volumet!\",IF(G802<80,\"Minst 80 % av de relevante materialer må vurderes\",\"\")))))","v":""},null,"Mat. 1",null,null,null,null,null,null,null,{"$f":"IF(N794=0,0,IF(P802=TRUE,\"0\",IF(SUM(H810+I810+J810+K810+L810)>=3,\"3\",SUM(H810+I810+J810+K810+L810))))","v":0},{"$f":"IF(AND(U792=1,L802=\"\"),0,IF(OR(NOT(D793=\"\"),NOT(C794=\"\")),0,IF(ISERROR(N803),\"0\",N803)))","v":0},null,{"$f":"IF(SUM(H794:L794)>G794,\"1\",\"0\")","v":"0"},1,{"$f":"1","v":1},"=1",null,null,null,null,0]
[null,null,null,null,"Mat. 2",null,null,null,null,null,null,null,null,{"$f":"IF(OR(G802=\"\",G802=0,G802>100),\"\",IF(N803=0,\"\",IF(N803<80,\"Ingen poeng oppnådd,\nmindre enn 80 % oppfyller kravet\",C794)))","v":""},null,{"$f":"IF(SUM(H795:L795)>G795,\"1\",\"0\")","v":"0"},1,{"$f":"1","v":1},"=1",null,null,null,null,0]
[null,null,null,null,"Mat. 3",null,null,null,null,null,null,null,null,null,null,"0",1,{"$f":"1","v":1},"=1",null,null,null,null,0]
[null,null,null,null,"Mat. 4",null,null,null,null,null,null,null,null,null,null,"0",1,{"$f":"1","v":1},"=1",null,null,null,null,0]
[null,null,null,null,"Mat. 5",null,null,null,null,null,null,null,null,null,null,"0",1,{"$f":"1","v":1},"=1",null,null,null,null,0]
[null,null,null,null,"Mat. 6",null,null,null,null,null,null,null,null,null,null,"0",1,{"$f":"1","v":1},"=1",null,null,null,null,0]
[null,null,null,null,"Mat. 7",null,null,null,null,null,null,null,null,null,null,"0",1,{"$f":"1","v":1},"=1",null,null,null,null,0]
[null,null,null,null,"Mat. 8",null,null,null,null,null,null,null,null,null,null,"0",1,{"$f":"1","v":1},"=1",null,null,null,null,0]
[null,null,null,"Totalt % av bygningselementet (relevante materialer) vurdert:",null,null,{"$f":"IF(U792=\"\",\"\",IF(U792+L802=1,\"\",IF(SUM(G794:G801)=0,\"\",IF(U792=1,IF(OR(G794>L802,G795>L802,G796>L802,G797>L802,G798>L802,G799>L802,G800>L802,G801>L802,SUM(G794:G801)>L802),ROUND(SUM(G794:G801)/L802,2)*100,((SUM(G794:G801)/L802)*100)),IF(U792=2,IF(OR(G794>100,G795>100,G796>100,G797>100,G798>100,G799>100,G800>100,G801>100,SUM(G794:G801)>100),SUM(G794:G801),SUM(G794:G801)))))))","v":""},"Totalt volum:",null,null,null,null,null,null,null,{"$f":"IF(OR(H803>G803,K803>G803,L803>G803),TRUE,FALSE)","v":false},1,{"$f":"1","v":1},"=1",null,null,null,null,0]
[null,null,{"$f":"IF(G802=0,\"0\",IF(U792=2,\"0\",IF(U792=1,(G802/100)*100,IF(U792=2,(G802/100)*100))))","v":false},{"$f":"G802","v":""},null,"Total",{"$f":"IF(SUM(G794:G801)=0,\"1\",SUM(G794:G801))","v":"1"},{"$f":"SUM(H794:H801)","v":0},{"$f":"SUM(I794:I801)","v":0},{"$f":"SUM(J794:J801)","v":0},{"$f":"SUM(K794:K801)","v":0},{"$f":"SUM(L794:L801)","v":0},null,{"$f":"SUM(H804:L804)","v":0},{"$f":"IF(G802<80,\"0,00\",IF(P803>0,\"0\",IF(G802>100,\"0,00\",IF(N794>=80,M794,IF(N794<80,0)))))","v":"0,00"},{"$f":"P794+P795+P796+P797+P798+P799+P800+P801","v":0},{"$f":"1","v":1},{"$f":"1","v":1},"=1"]
[null,null,null,null,null,null,"Percentage",{"$f":"IF(H803+G803=0,\"0\",(H803/G803)*100)","v":0},{"$f":"IF(I803+G803=0,\"0\",(I803/G803)*100)","v":0},{"$f":"IF(J803+G803=0,\"0\",(J803/G803)*100)","v":0},{"$f":"IF(K803+G803=0,\"0\",(K803/G803)*100)","v":0},{"$f":"IF(L803+G803=0,\"0\",(L803/G803)*100)","v":0},null,100,null,null,{"$f":"1","v":1},{"$f":"1","v":1},"=1"]
[null,null,null,null,null,{"$f":"IF(U792=1,((G803/100)*80))","v":false},"% of 80",{"$f":"(H804/80)*100","v":0},{"$f":"(I804/80)*100","v":0},{"$f":"(J804/80)*100","v":0},{"$f":"(K804/80)*100","v":0},{"$f":"(L804/80)*100","v":0},null,null,null,null,{"$f":"1","v":1},{"$f":"1","v":1},"=1"]
[null,null,null,null,null,null,"Limiter",{"$f":"IF(H805>100,\"100\",H805)","v":0},{"$f":"IF(I805>100,\"100\",I805)","v":0},{"$f":"IF(J805>100,\"100\",J805)","v":0},{"$f":"IF(K805>100,\"100\",K805)","v":0},{"$f":"IF(L805>100,\"100\",L805)","v":0},null,null,null,null,{"$f":"1","v":1},{"$f":"1","v":1},"=1"]
[null,null,null,null,null,null,null,null,{"$f":"IF(H806+I806+J806+K806+L806=0,0,100-(H806))","v":0},{"$f":"IF(H806+I806+J806+K806+L806=0,0,100-(H806+I806))","v":0},{"$f":"IF(J806+I806+H806+K806+L806=0,0,100-(J806+I806+H806))","v":0},{"$f":"IF(K806+J806+I806+H806+L806=0,0,100-(H806+I806+K806+J806))","v":0},null,null,null,null,{"$f":"1","v":1},{"$f":"1","v":1},"=1"]
[null,null,null,null,null,null,null,null,{"$f":"IF(I806>I807,I807,I806)","v":0},{"$f":"IF(J806>J807,J807,J806)","v":0},{"$f":"IF(K806>K807,K807,K806)","v":0},{"$f":"IF(L806>L807,L807,L806)","v":0},null,null,null,null,{"$f":"1","v":1},{"$f":"1","v":1},"=1"]
[null,null,null,null,null,null,null,null,null,null,null,{"$f":"IF(K808+J806+H806+I806>=100,0,L808)","v":0},null,null,null,null,{"$f":"1","v":1},{"$f":"1","v":1},"=1"]
[null,null,null,null,null,null,"Scores",{"$f":"IF(H803=0,0,0.01*(H806*H811))","v":0},{"$f":"IF(I803=0,0,0.01*(I808*I811))","v":0},{"$f":"IF(J803=0,0,0.01*(J808*J811))","v":0},{"$f":"IF(K803=0,0,0.01*(K808*K811))","v":0},{"$f":"IF(L803=0,0,0.01*(L809*L811))","v":0},null,null,null,null,{"$f":"1","v":1},{"$f":"1","v":1},"=1"]
[null,null,null,null,null,null,null,3,2.5,2,1.5,1,"Total",null,null,null,{"$f":"1","v":1},{"$f":"1","v":1},"=1"]
[null,null,"DØRER (4)",null,null,"Velg elementtype:",null,null,null,null,null,null,null,null,null,null,{"$f":"IF(freq10>=6,0,1)","v":1},{"$f":"1","v":1},"=1",null,{"$f":"IF(ISERROR(VLOOKUP(G812,$T$1249:$U$1250,2,FALSE)),\"\",VLOOKUP(G812,$T$1249:$U$1250,2,FALSE))","v":""},null,null,{"$f":"IF($R$15=0,0,IF($G$751>=4,0,1))","v":0}]
[null,null,null,{"$f":"IF(G822=\"\",\"\",IF(P823>=1,\"NB! Volum av nivåene kan ikke være større enn det totale volumet for hvert enkelt materiale!\",IF(AND(P822=TRUE,type1=2,G822>100),\"NB! Prosentandel for hvert nivå må registreres i prosent av det vurderte bygningselementet, og den totale prosentandelen kan ikke være større enn den totale prosent av hvert enkelt materiale!\",\"\")))","v":""},null,null,null,null,null,null,null,null,null,null,null,null,1,{"$f":"1","v":1},"=1",null,null,null,null,0]
[null,null,{"$f":"IF(AND(G812=\"\",Volum=\"\"),\"\",IF(AND(U812=1,L822=\"\"),\"REGISTRER FØRST DET TOTALE VOLUMET  AV MATERIALER I CELLEN NEDERST TIL HØYRE\",IF(G814:G821=\"\",\"\",IF(G822>100,\"Mengden materialer kan ikke overstige det  totale volumet!\",IF(G822<80,\"Minst 80 % av de relevante materialer må vurderes\",\"\")))))","v":""},null,"Mat. 1",null,null,null,null,null,null,null,{"$f":"IF(N814=0,0,IF(P822=TRUE,\"0\",IF(SUM(H830+I830+J830+K830+L830)>=3,\"3\",SUM(H830+I830+J830+K830+L830))))","v":0},{"$f":"IF(AND(U812=1,L822=\"\"),0,IF(OR(NOT(D813=\"\"),NOT(C814=\"\")),0,IF(ISERROR(N823),\"0\",N823)))","v":0},null,{"$f":"IF(SUM(H814:L814)>G814,\"1\",\"0\")","v":"0"},1,{"$f":"1","v":1},"=1",null,null,null,null,0]
[null,null,null,null,"Mat. 2",null,null,null,null,null,null,null,null,{"$f":"IF(OR(G822=\"\",G822=0,G822>100),\"\",IF(N823=0,\"\",IF(N823<80,\"Ingen poeng oppnådd,\nmindre enn 80 % oppfyller kravet\",C814)))","v":""},null,{"$f":"IF(SUM(H815:L815)>G815,\"1\",\"0\")","v":"0"},1,{"$f":"1","v":1},"=1",null,null,null,null,0]
[null,null,null,null,"Mat. 3",null,null,null,null,null,null,null,null,null,null,"0",1,{"$f":"1","v":1},"=1",null,null,null,null,0]
[null,null,null,null,"Mat. 4",null,null,null,null,null,null,null,null,null,null,"0",1,{"$f":"1","v":1},"=1",null,null,null,null,0]
[null,null,null,null,"Mat. 5",null,null,null,null,null,null,null,null,null,null,"0",1,{"$f":"1","v":1},"=1",null,null,null,null,0]
[null,null,null,null,"Mat. 6",null,null,null,null,null,null,null,null,null,null,"0",1,{"$f":"1","v":1},"=1",null,null,null,null,0]
[null,null,null,null,"Mat. 7",null,null,null,null,null,null,null,null,null,null,"0",1,{"$f":"1","v":1},"=1",null,null,null,null,0]
[null,null,null,null,"Mat. 8",null,null,null,null,null,null,null,null,null,null,"0",1,{"$f":"1","v":1},"=1",null,null,null,null,0]
[null,null,null,"Totalt % av bygningselementet (relevante materialer) vurdert:",null,null,{"$f":"IF(U812=\"\",\"\",IF(U812+L822=1,\"\",IF(SUM(G814:G821)=0,\"\",IF(U812=1,IF(OR(G814>L822,G815>L822,G816>L822,G817>L822,G818>L822,G819>L822,G820>L822,G821>L822,SUM(G814:G821)>L822),ROUND(SUM(G814:G821)/L822,2)*100,((SUM(G814:G821)/L822)*100)),IF(U812=2,IF(OR(G814>100,G815>100,G816>100,G817>100,G818>100,G819>100,G820>100,G821>100,SUM(G814:G821)>100),SUM(G814:G821),SUM(G814:G821)))))))","v":""},"Totalt volum:",null,null,null,null,null,null,null,{"$f":"IF(OR(H823>G823,K823>G823,L823>G823),TRUE,FALSE)","v":false},1,{"$f":"1","v":1},"=1",null,null,null,null,0]
[null,null,{"$f":"IF(G822=0,\"0\",IF(U812=2,\"0\",IF(U812=1,(G822/100)*100,IF(U812=2,(G822/100)*100))))","v":false},{"$f":"G822","v":""},null,"Total",{"$f":"IF(SUM(G814:G821)=0,\"1\",SUM(G814:G821))","v":"1"},{"$f":"SUM(H814:H821)","v":0},{"$f":"SUM(I814:I821)","v":0},{"$f":"SUM(J814:J821)","v":0},{"$f":"SUM(K814:K821)","v":0},{"$f":"SUM(L814:L821)","v":0},null,{"$f":"SUM(H824:L824)","v":0},{"$f":"IF(G822<80,\"0,00\",IF(P823>0,\"0\",IF(G822>100,\"0,00\",IF(N814>=80,M814,IF(N814<80,0)))))","v":"0,00"},{"$f":"P814+P815+P816+P817+P818+P819+P820+P821","v":0},{"$f":"1","v":1},{"$f":"1","v":1},"=1"]
[null,null,null,null,null,null,"Percentage",{"$f":"IF(H823+G823=0,\"0\",(H823/G823)*100)","v":0},{"$f":"IF(I823+G823=0,\"0\",(I823/G823)*100)","v":0},{"$f":"IF(J823+G823=0,\"0\",(J823/G823)*100)","v":0},{"$f":"IF(K823+G823=0,\"0\",(K823/G823)*100)","v":0},{"$f":"IF(L823+G823=0,\"0\",(L823/G823)*100)","v":0},null,100,null,null,{"$f":"1","v":1},{"$f":"1","v":1},"=1"]
[null,null,null,null,null,{"$f":"IF(U812=1,((G823/100)*80))","v":false},"% of 80",{"$f":"(H824/80)*100","v":0},{"$f":"(I824/80)*100","v":0},{"$f":"(J824/80)*100","v":0},{"$f":"(K824/80)*100","v":0},{"$f":"(L824/80)*100","v":0},null,null,null,null,{"$f":"1","v":1},{"$f":"1","v":1},"=1"]
[null,null,null,null,null,null,"Limiter",{"$f":"IF(H825>100,\"100\",H825)","v":0},{"$f":"IF(I825>100,\"100\",I825)","v":0},{"$f":"IF(J825>100,\"100\",J825)","v":0},{"$f":"IF(K825>100,\"100\",K825)","v":0},{"$f":"IF(L825>100,\"100\",L825)","v":0},null,null,null,null,{"$f":"1","v":1},{"$f":"1","v":1},"=1"]
[null,null,null,null,null,null,null,null,{"$f":"IF(H826+I826+J826+K826+L826=0,0,100-(H826))","v":0},{"$f":"IF(H826+I826+J826+K826+L826=0,0,100-(H826+I826))","v":0},{"$f":"IF(J826+I826+H826+K826+L826=0,0,100-(J826+I826+H826))","v":0},{"$f":"IF(K826+J826+I826+H826+L826=0,0,100-(H826+I826+K826+J826))","v":0},null,null,null,null,{"$f":"1","v":1},{"$f":"1","v":1},"=1"]
[null,null,null,null,null,null,null,null,{"$f":"IF(I826>I827,I827,I826)","v":0},{"$f":"IF(J826>J827,J827,J826)","v":0},{"$f":"IF(K826>K827,K827,K826)","v":0},{"$f":"IF(L826>L827,L827,L826)","v":0},null,null,null,null,{"$f":"1","v":1},{"$f":"1","v":1},"=1"]
[null,null,null,null,null,null,null,null,null,null,null,{"$f":"IF(K828+J826+H826+I826>=100,0,L828)","v":0},null,null,null,null,{"$f":"1","v":1},{"$f":"1","v":1},"=1"]
[null,null,null,null,null,null,"Scores",{"$f":"IF(H823=0,0,0.01*(H826*H831))","v":0},{"$f":"IF(I823=0,0,0.01*(I828*I831))","v":0},{"$f":"IF(J823=0,0,0.01*(J828*J831))","v":0},{"$f":"IF(K823=0,0,0.01*(K828*K831))","v":0},{"$f":"IF(L823=0,0,0.01*(L829*L831))","v":0},null,null,null,null,{"$f":"1","v":1},{"$f":"1","v":1},"=1"]
[null,null,null,null,null,null,null,3,2.5,2,1.5,1,"Total",null,null,null,{"$f":"1","v":1},{"$f":"1","v":1},"=1"]
[null,null,"GULVLISTER",null,null,"Velg antall gulvlister du ønsker å vurdere (deretter trykk «velg»):",null,null,null,null,null,null,null,null,{"$f":"IF(ISERROR(O844+O864+O884+O904)/V833,\"\",(O844+O864+O884+O904)/V833)","v":0},null,{"$f":"0","v":0},{"$f":"1","v":1},"=HVIS(asstype=3;0;HVIS(typescheme=2;0;1))",{"$f":"VLOOKUP(G832,$T$1242:$U$1246,2,FALSE)","v":2},null,null,null,{"$f":"IF($R$15=0,0,IF($G$832>=1,0,1))","v":0}]
[null,null,"GULVLISTER (1)",null,null,"Velg elementtype:",null,null,null,null,null,null,null,null,null,null,{"$f":"IF(freq11>=3,0,1)","v":1},{"$f":"1","v":1},"=HVIS(asstype=3;0;HVIS(typescheme=2;0;1))",null,{"$f":"IF(ISERROR(VLOOKUP(G833,$T$1249:$U$1250,2,FALSE)),\"\",VLOOKUP(G833,$T$1249:$U$1250,2,FALSE))","v":""},{"$f":"IF(freq11=3,1,IF(freq11=4,2,IF(freq11=5,3,IF(freq11=6,4,1))))","v":1},null,0]
[null,null,null,{"$f":"IF(G843=\"\",\"\",IF(P844>=1,\"NB! Volum av nivåene kan ikke være større enn det totale volumet for hvert enkelt materiale!\",IF(AND(P843=TRUE,type1=2,G843>100),\"NB! Prosentandel for hvert nivå må registreres i prosent av det vurderte bygningselementet, og den totale prosentandelen kan ikke være større enn den totale prosent av hvert enkelt materiale!\",\"\")))","v":""},null,null,null,null,null,null,null,null,null,null,null,null,1,{"$f":"1","v":1},"=HVIS(asstype=3;0;HVIS(typescheme=2;0;1))",null,null,null,null,0]
[null,null,{"$f":"IF(AND(G832=\"\",Volum=\"\"),\"\",IF(AND(U833=1,L843=\"\"),\"REGISTRER FØRST DET TOTALE VOLUMET  AV MATERIALER I CELLEN NEDERST TIL HØYRE\",IF(G835:G842=\"\",\"\",IF(G843>100,\"Mengden materialer kan ikke overstige det  totale volumet!\",IF(G843<80,\"Minst 80 % av de relevante materialer må vurderes\",\"\")))))","v":""},null,"Mat. 1",null,null,null,null,null,null,null,{"$f":"IF(N835=0,0,IF(P843=TRUE,\"0\",IF(SUM(H851+I851+J851+K851+L851)>=3,\"3\",SUM(H851+I851+J851+K851+L851))))","v":0},{"$f":"IF(AND(U833=1,L843=\"\"),0,IF(OR(NOT(D834=\"\"),NOT(C835=\"\")),0,IF(ISERROR(N844),\"0\",N844)))","v":0},null,{"$f":"IF(SUM(H835:L835)>G835,\"1\",\"0\")","v":"0"},1,{"$f":"1","v":1},"=HVIS(asstype=3;0;HVIS(typescheme=2;0;1))",null,null,null,null,0]
[null,null,null,null,"Mat. 2",null,null,null,null,null,null,null,null,{"$f":"IF(OR(G843=\"\",G843=0,G843>100),\"\",IF(N844=0,\"\",IF(N844<80,\"Ingen poeng oppnådd,\nmindre enn 80 % oppfyller kravet\",C835)))","v":""},null,{"$f":"IF(SUM(H836:L836)>G836,\"1\",\"0\")","v":"0"},1,{"$f":"1","v":1},"=HVIS(asstype=3;0;HVIS(typescheme=2;0;1))",null,null,null,null,0]
[null,null,null,null,"Mat. 3",null,null,null,null,null,null,null,null,null,null,"0",1,{"$f":"1","v":1},"=HVIS(asstype=3;0;HVIS(typescheme=2;0;1))",null,null,null,null,0]
[null,null,null,null,"Mat. 4",null,null,null,null,null,null,null,null,null,null,"0",1,{"$f":"1","v":1},"=HVIS(asstype=3;0;HVIS(typescheme=2;0;1))",null,null,null,null,0]
[null,null,null,null,"Mat. 5",null,null,null,null,null,null,null,null,null,null,"0",1,{"$f":"1","v":1},"=HVIS(asstype=3;0;HVIS(typescheme=2;0;1))",null,null,null,null,0]
[null,null,null,null,"Mat. 6",null,null,null,null,null,null,null,null,null,null,"0",1,{"$f":"1","v":1},"=HVIS(asstype=3;0;HVIS(typescheme=2;0;1))",null,null,null,null,0]
[null,null,null,null,"Mat. 7",null,null,null,null,null,null,null,null,null,null,"0",1,{"$f":"1","v":1},"=HVIS(asstype=3;0;HVIS(typescheme=2;0;1))",null,null,null,null,0]
[null,null,null,null,"Mat. 8",null,null,null,null,null,null,null,null,null,null,"0",1,{"$f":"1","v":1},"=HVIS(asstype=3;0;HVIS(typescheme=2;0;1))",null,null,null,null,0]
[null,null,null,"Totalt % av bygningselementet (relevante materialer) vurdert:",null,null,{"$f":"IF(U833=\"\",\"\",IF(U833+L843=1,\"\",IF(SUM(G835:G842)=0,\"\",IF(U833=1,IF(OR(G835>L843,G836>L843,G837>L843,G838>L843,G839>L843,G840>L843,G841>L843,G842>L843,SUM(G835:G842)>L843),ROUND(SUM(G835:G842)/L843,2)*100,((SUM(G835:G842)/L843)*100)),IF(U833=2,IF(OR(G835>100,G836>100,G837>100,G838>100,G839>100,G840>100,G841>100,G842>100,SUM(G835:G842)>100),SUM(G835:G842),SUM(G835:G842)))))))","v":""},"Totalt volum:",null,null,null,null,null,null,null,{"$f":"IF(OR(H844>G844,K844>G844,L844>G844),TRUE,FALSE)","v":false},1,{"$f":"1","v":1},"=HVIS(asstype=3;0;HVIS(typescheme=2;0;1))",null,null,null,null,0]
[null,null,{"$f":"IF(G843=0,\"0\",IF(U836=2,\"0\",IF(U836=1,(G843/100)*100,IF(U836=2,(G843/100)*100))))","v":false},{"$f":"G843","v":""},null,"Total",{"$f":"IF(SUM(G835:G842)=0,\"1\",SUM(G835:G842))","v":"1"},{"$f":"SUM(H835:H842)","v":0},{"$f":"SUM(I835:I842)","v":0},{"$f":"SUM(J835:J842)","v":0},{"$f":"SUM(K835:K842)","v":0},{"$f":"SUM(L835:L842)","v":0},null,{"$f":"SUM(H845:L845)","v":0},{"$f":"IF(G843<80,\"0,00\",IF(P844>0,\"0\",IF(G843>100,\"0,00\",IF(N835>=80,M835,IF(N835<80,0)))))","v":"0,00"},{"$f":"P835+P836+P837+P838+P839+P840+P841+P842","v":0},{"$f":"1","v":1},{"$f":"1","v":1},"=1"]
[null,null,null,null,null,null,"Percentage",{"$f":"IF(H844+G844=0,\"0\",(H844/G844)*100)","v":0},{"$f":"IF(I844+G844=0,\"0\",(I844/G844)*100)","v":0},{"$f":"IF(J844+G844=0,\"0\",(J844/G844)*100)","v":0},{"$f":"IF(K844+G844=0,\"0\",(K844/G844)*100)","v":0},{"$f":"IF(L844+G844=0,\"0\",(L844/G844)*100)","v":0},null,100,null,null,{"$f":"1","v":1},{"$f":"1","v":1},"=1"]
[null,null,null,null,null,{"$f":"IF(U836=1,((G844/100)*80))","v":false},"% of 80",{"$f":"(H845/80)*100","v":0},{"$f":"(I845/80)*100","v":0},{"$f":"(J845/80)*100","v":0},{"$f":"(K845/80)*100","v":0},{"$f":"(L845/80)*100","v":0},null,null,null,null,{"$f":"1","v":1},{"$f":"1","v":1},"=1"]
[null,null,null,null,null,null,"Limiter",{"$f":"IF(H846>100,\"100\",H846)","v":0},{"$f":"IF(I846>100,\"100\",I846)","v":0},{"$f":"IF(J846>100,\"100\",J846)","v":0},{"$f":"IF(K846>100,\"100\",K846)","v":0},{"$f":"IF(L846>100,\"100\",L846)","v":0},null,null,null,null,{"$f":"1","v":1},{"$f":"1","v":1},"=1"]
[null,null,null,null,null,null,null,null,{"$f":"IF(H847+I847+J847+K847+L847=0,0,100-(H847))","v":0},{"$f":"IF(H847+I847+J847+K847+L847=0,0,100-(H847+I847))","v":0},{"$f":"IF(J847+I847+H847+K847+L847=0,0,100-(J847+I847+H847))","v":0},{"$f":"IF(K847+J847+I847+H847+L847=0,0,100-(H847+I847+K847+J847))","v":0},null,null,null,null,{"$f":"1","v":1},{"$f":"1","v":1},"=1"]
[null,null,null,null,null,null,null,null,{"$f":"IF(I847>I848,I848,I847)","v":0},{"$f":"IF(J847>J848,J848,J847)","v":0},{"$f":"IF(K847>K848,K848,K847)","v":0},{"$f":"IF(L847>L848,L848,L847)","v":0},null,null,null,null,{"$f":"1","v":1},{"$f":"1","v":1},"=1"]
[null,null,null,null,null,null,null,null,null,null,null,{"$f":"IF(K849+J847+H847+I847>=100,0,L849)","v":0},null,null,null,null,{"$f":"1","v":1},{"$f":"1","v":1},"=1"]
[null,null,null,null,null,null,"Scores",{"$f":"IF(H844=0,0,0.01*(H847*H852))","v":0},{"$f":"IF(I844=0,0,0.01*(I849*I852))","v":0},{"$f":"IF(J844=0,0,0.01*(J849*J852))","v":0},{"$f":"IF(K844=0,0,0.01*(K849*K852))","v":0},{"$f":"IF(L844=0,0,0.01*(L850*L852))","v":0},null,null,null,null,{"$f":"1","v":1},{"$f":"1","v":1},"=1"]
[null,null,null,null,null,null,null,3,2.5,2,1.5,1,"Total",null,null,null,{"$f":"1","v":1},{"$f":"1","v":1},"=1"]
[null,null,"GULVLISTER (2)",null,null,"Velg elementtype:",null,null,null,null,null,null,null,null,null,null,{"$f":"IF(freq11>=4,0,1)","v":1},{"$f":"1","v":1},"=1",null,{"$f":"IF(ISERROR(VLOOKUP(G853,$T$1249:$U$1250,2,FALSE)),\"\",VLOOKUP(G853,$T$1249:$U$1250,2,FALSE))","v":""},null,null,{"$f":"IF($R$15=0,0,IF($G$832>=2,0,1))","v":0}]
[null,null,null,{"$f":"IF(G863=\"\",\"\",IF(P864>=1,\"NB! Volum av nivåene kan ikke være større enn det totale volumet for hvert enkelt materiale!\",IF(AND(P863=TRUE,type1=2,G863>100),\"NB! Prosentandel for hvert nivå må registreres i prosent av det vurderte bygningselementet, og den totale prosentandelen kan ikke være større enn den totale prosent av hvert enkelt materiale!\",\"\")))","v":""},null,null,null,null,null,null,null,null,null,null,null,null,1,{"$f":"1","v":1},"=1",null,null,null,null,0]
[null,null,{"$f":"IF(AND(G853=\"\",Volum=\"\"),\"\",IF(AND(U853=1,L863=\"\"),\"REGISTRER FØRST DET TOTALE VOLUMET  AV MATERIALER I CELLEN NEDERST TIL HØYRE\",IF(G855:G862=\"\",\"\",IF(G863>100,\"Mengden materialer kan ikke overstige det  totale volumet!\",IF(G863<80,\"Minst 80 % av de relevante materialer må vurderes\",\"\")))))","v":""},null,"Mat. 1",null,null,null,null,null,null,null,{"$f":"IF(N855=0,0,IF(P863=TRUE,\"0\",IF(SUM(H871+I871+J871+K871+L871)>=3,\"3\",SUM(H871+I871+J871+K871+L871))))","v":0},{"$f":"IF(AND(U853=1,L863=\"\"),0,IF(OR(NOT(D854=\"\"),NOT(C855=\"\")),0,IF(ISERROR(N864),\"0\",N864)))","v":0},null,{"$f":"IF(SUM(H855:L855)>G855,\"1\",\"0\")","v":"0"},1,{"$f":"1","v":1},"=1",null,null,null,null,0]
[null,null,null,null,"Mat. 2",null,null,null,null,null,null,null,null,{"$f":"IF(OR(G863=\"\",G863=0,G863>100),\"\",IF(N864=0,\"\",IF(N864<80,\"Ingen poeng oppnådd,\nmindre enn 80 % oppfyller kravet\",C855)))","v":""},null,{"$f":"IF(SUM(H856:L856)>G856,\"1\",\"0\")","v":"0"},1,{"$f":"1","v":1},"=1",null,null,null,null,0]
[null,null,null,null,"Mat. 3",null,null,null,null,null,null,null,null,null,null,"0",1,{"$f":"1","v":1},"=1",null,null,null,null,0]
[null,null,null,null,"Mat. 4",null,null,null,null,null,null,null,null,null,null,"0",1,{"$f":"1","v":1},"=1",null,null,null,null,0]
[null,null,null,null,"Mat. 5",null,null,null,null,null,null,null,null,null,null,"0",1,{"$f":"1","v":1},"=1",null,null,null,null,0]
[null,null,null,null,"Mat. 6",null,null,null,null,null,null,null,null,null,null,"0",1,{"$f":"1","v":1},"=1",null,null,null,null,0]
[null,null,null,null,"Mat. 7",null,null,null,null,null,null,null,null,null,null,"0",1,{"$f":"1","v":1},"=1",null,null,null,null,0]
[null,null,null,null,"Mat. 8",null,null,null,null,null,null,null,null,null,null,"0",1,{"$f":"1","v":1},"=1",null,null,null,null,0]
[null,null,null,"Totalt % av bygningselementet (relevante materialer) vurdert:",null,null,{"$f":"IF(U853=\"\",\"\",IF(U853+L863=1,\"\",IF(SUM(G855:G862)=0,\"\",IF(U853=1,IF(OR(G855>L863,G856>L863,G857>L863,G858>L863,G859>L863,G860>L863,G861>L863,G862>L863,SUM(G855:G862)>L863),ROUND(SUM(G855:G862)/L863,2)*100,((SUM(G855:G862)/L863)*100)),IF(U853=2,IF(OR(G855>100,G856>100,G857>100,G858>100,G859>100,G860>100,G861>100,G862>100,SUM(G855:G862)>100),SUM(G855:G862),SUM(G855:G862)))))))","v":""},"Totalt volum:",null,null,null,null,null,null,null,{"$f":"IF(OR(H864>G864,K864>G864,L864>G864),TRUE,FALSE)","v":false},1,{"$f":"1","v":1},"=1",null,null,null,null,0]
[null,null,{"$f":"IF(G863=0,\"0\",IF(U853=2,\"0\",IF(U853=1,(G863/100)*100,IF(U853=2,(G863/100)*100))))","v":false},{"$f":"G863","v":""},null,"Total",{"$f":"IF(SUM(G855:G862)=0,\"1\",SUM(G855:G862))","v":"1"},{"$f":"SUM(H855:H862)","v":0},{"$f":"SUM(I855:I862)","v":0},{"$f":"SUM(J855:J862)","v":0},{"$f":"SUM(K855:K862)","v":0},{"$f":"SUM(L855:L862)","v":0},null,{"$f":"SUM(H865:L865)","v":0},{"$f":"IF(G863<80,\"0,00\",IF(P864>0,\"0\",IF(G863>100,\"0,00\",IF(N855>=80,M855,IF(N855<80,0)))))","v":"0,00"},{"$f":"P855+P856+P857+P858+P859+P860+P861+P862","v":0},{"$f":"1","v":1},{"$f":"1","v":1},"=1"]
[null,null,null,null,null,null,"Percentage",{"$f":"IF(H864+G864=0,\"0\",(H864/G864)*100)","v":0},{"$f":"IF(I864+G864=0,\"0\",(I864/G864)*100)","v":0},{"$f":"IF(J864+G864=0,\"0\",(J864/G864)*100)","v":0},{"$f":"IF(K864+G864=0,\"0\",(K864/G864)*100)","v":0},{"$f":"IF(L864+G864=0,\"0\",(L864/G864)*100)","v":0},null,100,null,null,{"$f":"1","v":1},{"$f":"1","v":1},"=1"]
[null,null,null,null,null,{"$f":"IF(U853=1,((G864/100)*80))","v":false},"% of 80",{"$f":"(H865/80)*100","v":0},{"$f":"(I865/80)*100","v":0},{"$f":"(J865/80)*100","v":0},{"$f":"(K865/80)*100","v":0},{"$f":"(L865/80)*100","v":0},null,null,null,null,{"$f":"1","v":1},{"$f":"1","v":1},"=1"]
[null,null,null,null,null,null,"Limiter",{"$f":"IF(H866>100,\"100\",H866)","v":0},{"$f":"IF(I866>100,\"100\",I866)","v":0},{"$f":"IF(J866>100,\"100\",J866)","v":0},{"$f":"IF(K866>100,\"100\",K866)","v":0},{"$f":"IF(L866>100,\"100\",L866)","v":0},null,null,null,null,{"$f":"1","v":1},{"$f":"1","v":1},"=1"]
[null,null,null,null,null,null,null,null,{"$f":"IF(H867+I867+J867+K867+L867=0,0,100-(H867))","v":0},{"$f":"IF(H867+I867+J867+K867+L867=0,0,100-(H867+I867))","v":0},{"$f":"IF(J867+I867+H867+K867+L867=0,0,100-(J867+I867+H867))","v":0},{"$f":"IF(K867+J867+I867+H867+L867=0,0,100-(H867+I867+K867+J867))","v":0},null,null,null,null,{"$f":"1","v":1},{"$f":"1","v":1},"=1"]
[null,null,null,null,null,null,null,null,{"$f":"IF(I867>I868,I868,I867)","v":0},{"$f":"IF(J867>J868,J868,J867)","v":0},{"$f":"IF(K867>K868,K868,K867)","v":0},{"$f":"IF(L867>L868,L868,L867)","v":0},null,null,null,null,{"$f":"1","v":1},{"$f":"1","v":1},"=1"]
[null,null,null,null,null,null,null,null,null,null,null,{"$f":"IF(K869+J867+H867+I867>=100,0,L869)","v":0},null,null,null,null,{"$f":"1","v":1},{"$f":"1","v":1},"=1"]
[null,null,null,null,null,null,"Scores",{"$f":"IF(H864=0,0,0.01*(H867*H872))","v":0},{"$f":"IF(I864=0,0,0.01*(I869*I872))","v":0},{"$f":"IF(J864=0,0,0.01*(J869*J872))","v":0},{"$f":"IF(K864=0,0,0.01*(K869*K872))","v":0},{"$f":"IF(L864=0,0,0.01*(L870*L872))","v":0},null,null,null,null,{"$f":"1","v":1},{"$f":"1","v":1},"=1"]
[null,null,null,null,null,null,null,3,2.5,2,1.5,1,"Total",null,null,null,{"$f":"1","v":1},{"$f":"1","v":1},"=1"]
[null,null,"GULVLISTER (3)",null,null,"Velg elementtype:",null,null,null,null,null,null,null,null,null,null,{"$f":"IF(freq11>=5,0,1)","v":1},{"$f":"1","v":1},"=1",null,{"$f":"IF(ISERROR(VLOOKUP(G873,$T$1249:$U$1250,2,FALSE)),\"\",VLOOKUP(G873,$T$1249:$U$1250,2,FALSE))","v":""},null,null,{"$f":"IF($R$15=0,0,IF($G$832>=3,0,1))","v":0}]
[null,null,null,{"$f":"IF(G883=\"\",\"\",IF(P884>=1,\"NB! Volum av nivåene kan ikke være større enn det totale volumet for hvert enkelt materiale!\",IF(AND(P883=TRUE,type1=2,G883>100),\"NB! Prosentandel for hvert nivå må registreres i prosent av det vurderte bygningselementet, og den totale prosentandelen kan ikke være større enn den totale prosent av hvert enkelt materiale!\",\"\")))","v":""},null,null,null,null,null,null,null,null,null,null,null,null,1,{"$f":"1","v":1},"=1",null,null,null,null,0]
[null,null,{"$f":"IF(AND(G873=\"\",Volum=\"\"),\"\",IF(AND(U873=1,L883=\"\"),\"REGISTRER FØRST DET TOTALE VOLUMET  AV MATERIALER I CELLEN NEDERST TIL HØYRE\",IF(G875:G882=\"\",\"\",IF(G883>100,\"Mengden materialer kan ikke overstige det  totale volumet!\",IF(G883<80,\"Minst 80 % av de relevante materialer må vurderes\",\"\")))))","v":""},null,"Mat. 1",null,null,null,null,null,null,null,{"$f":"IF(N875=0,0,IF(P883=TRUE,\"0\",IF(SUM(H891+I891+J891+K891+L891)>=3,\"3\",SUM(H891+I891+J891+K891+L891))))","v":0},{"$f":"IF(AND(U873=1,L883=\"\"),0,IF(OR(NOT(D874=\"\"),NOT(C875=\"\")),0,IF(ISERROR(N884),\"0\",N884)))","v":0},null,{"$f":"IF(SUM(H875:L875)>G875,\"1\",\"0\")","v":"0"},1,{"$f":"1","v":1},"=1",null,null,null,null,0]
[null,null,null,null,"Mat. 2",null,null,null,null,null,null,null,null,{"$f":"IF(OR(G883=\"\",G883=0,G883>100),\"\",IF(N884=0,\"\",IF(N884<80,\"Ingen poeng oppnådd,\nmindre enn 80 % oppfyller kravet\",C875)))","v":""},null,{"$f":"IF(SUM(H876:L876)>G876,\"1\",\"0\")","v":"0"},1,{"$f":"1","v":1},"=1",null,null,null,null,0]
[null,null,null,null,"Mat. 3",null,null,null,null,null,null,null,null,null,null,"0",1,{"$f":"1","v":1},"=1",null,null,null,null,0]
[null,null,null,null,"Mat. 4",null,null,null,null,null,null,null,null,null,null,"0",1,{"$f":"1","v":1},"=1",null,null,null,null,0]
[null,null,null,null,"Mat. 5",null,null,null,null,null,null,null,null,null,null,"0",1,{"$f":"1","v":1},"=1",null,null,null,null,0]
[null,null,null,null,"Mat. 6",null,null,null,null,null,null,null,null,null,null,"0",1,{"$f":"1","v":1},"=1",null,null,null,null,0]
[null,null,null,null,"Mat. 7",null,null,null,null,null,null,null,null,null,null,"0",1,{"$f":"1","v":1},"=1",null,null,null,null,0]
[null,null,null,null,"Mat. 8",null,null,null,null,null,null,null,null,null,null,"0",1,{"$f":"1","v":1},"=1",null,null,null,null,0]
[null,null,null,"Totalt % av bygningselementet (relevante materialer) vurdert:",null,null,{"$f":"IF(U873=\"\",\"\",IF(U873+L883=1,\"\",IF(SUM(G875:G882)=0,\"\",IF(U873=1,IF(OR(G875>L883,G876>L883,G877>L883,G878>L883,G879>L883,G880>L883,G881>L883,G882>L883,SUM(G875:G882)>L883),ROUND(SUM(G875:G882)/L883,2)*100,((SUM(G875:G882)/L883)*100)),IF(U873=2,IF(OR(G875>100,G876>100,G877>100,G878>100,G879>100,G880>100,G881>100,G882>100,SUM(G875:G882)>100),SUM(G875:G882),SUM(G875:G882)))))))","v":""},"Totalt volum:",null,null,null,null,null,null,null,{"$f":"IF(OR(H884>G884,K884>G884,L884>G884),TRUE,FALSE)","v":false},1,{"$f":"1","v":1},"=1",null,null,null,null,0]
[null,null,{"$f":"IF(G883=0,\"0\",IF(U873=2,\"0\",IF(U873=1,(G883/100)*100,IF(U873=2,(G883/100)*100))))","v":false},{"$f":"G883","v":""},null,"Total",{"$f":"IF(SUM(G875:G882)=0,\"1\",SUM(G875:G882))","v":"1"},{"$f":"SUM(H875:H882)","v":0},{"$f":"SUM(I875:I882)","v":0},{"$f":"SUM(J875:J882)","v":0},{"$f":"SUM(K875:K882)","v":0},{"$f":"SUM(L875:L882)","v":0},null,{"$f":"SUM(H885:L885)","v":0},{"$f":"IF(G883<80,\"0,00\",IF(P884>0,\"0\",IF(G883>100,\"0,00\",IF(N875>=80,M875,IF(N875<80,0)))))","v":"0,00"},{"$f":"P875+P876+P877+P878+P879+P880+P881+P882","v":0},{"$f":"1","v":1},{"$f":"1","v":1},"=1"]
[null,null,null,null,null,null,"Percentage",{"$f":"IF(H884+G884=0,\"0\",(H884/G884)*100)","v":0},{"$f":"IF(I884+G884=0,\"0\",(I884/G884)*100)","v":0},{"$f":"IF(J884+G884=0,\"0\",(J884/G884)*100)","v":0},{"$f":"IF(K884+G884=0,\"0\",(K884/G884)*100)","v":0},{"$f":"IF(L884+G884=0,\"0\",(L884/G884)*100)","v":0},null,100,null,null,{"$f":"1","v":1},{"$f":"1","v":1},"=1"]
[null,null,null,null,null,{"$f":"IF(U873=1,((G884/100)*80))","v":false},"% of 80",{"$f":"(H885/80)*100","v":0},{"$f":"(I885/80)*100","v":0},{"$f":"(J885/80)*100","v":0},{"$f":"(K885/80)*100","v":0},{"$f":"(L885/80)*100","v":0},null,null,null,null,{"$f":"1","v":1},{"$f":"1","v":1},"=1"]
[null,null,null,null,null,null,"Limiter",{"$f":"IF(H886>100,\"100\",H886)","v":0},{"$f":"IF(I886>100,\"100\",I886)","v":0},{"$f":"IF(J886>100,\"100\",J886)","v":0},{"$f":"IF(K886>100,\"100\",K886)","v":0},{"$f":"IF(L886>100,\"100\",L886)","v":0},null,null,null,null,{"$f":"1","v":1},{"$f":"1","v":1},"=1"]
[null,null,null,null,null,null,null,null,{"$f":"IF(H887+I887+J887+K887+L887=0,0,100-(H887))","v":0},{"$f":"IF(H887+I887+J887+K887+L887=0,0,100-(H887+I887))","v":0},{"$f":"IF(J887+I887+H887+K887+L887=0,0,100-(J887+I887+H887))","v":0},{"$f":"IF(K887+J887+I887+H887+L887=0,0,100-(H887+I887+K887+J887))","v":0},null,null,null,null,{"$f":"1","v":1},{"$f":"1","v":1},"=1"]
[null,null,null,null,null,null,null,null,{"$f":"IF(I887>I888,I888,I887)","v":0},{"$f":"IF(J887>J888,J888,J887)","v":0},{"$f":"IF(K887>K888,K888,K887)","v":0},{"$f":"IF(L887>L888,L888,L887)","v":0},null,null,null,null,{"$f":"1","v":1},{"$f":"1","v":1},"=1"]
[null,null,null,null,null,null,null,null,null,null,null,{"$f":"IF(K889+J887+H887+I887>=100,0,L889)","v":0},null,null,null,null,{"$f":"1","v":1},{"$f":"1","v":1},"=1"]
[null,null,null,null,null,null,"Scores",{"$f":"IF(H884=0,0,0.01*(H887*H892))","v":0},{"$f":"IF(I884=0,0,0.01*(I889*I892))","v":0},{"$f":"IF(J884=0,0,0.01*(J889*J892))","v":0},{"$f":"IF(K884=0,0,0.01*(K889*K892))","v":0},{"$f":"IF(L884=0,0,0.01*(L890*L892))","v":0},null,null,null,null,{"$f":"1","v":1},{"$f":"1","v":1},"=1"]
[null,null,null,null,null,null,null,3,2.5,2,1.5,1,"Total",null,null,null,{"$f":"1","v":1},{"$f":"1","v":1},"=1"]
[null,null,"GULVLISTER (4)",null,null,"Velg elementtype:",null,null,null,null,null,null,null,null,null,null,{"$f":"IF(freq11>=6,0,1)","v":1},{"$f":"1","v":1},"=1",null,{"$f":"IF(ISERROR(VLOOKUP(G893,$T$1249:$U$1250,2,FALSE)),\"\",VLOOKUP(G893,$T$1249:$U$1250,2,FALSE))","v":""},null,null,{"$f":"IF($R$15=0,0,IF($G$832>=4,0,1))","v":0}]
[null,null,null,{"$f":"IF(G903=\"\",\"\",IF(P904>=1,\"NB! Volum av nivåene kan ikke være større enn det totale volumet for hvert enkelt materiale!\",IF(AND(P903=TRUE,type1=2,G903>100),\"NB! Prosentandel for hvert nivå må registreres i prosent av det vurderte bygningselementet, og den totale prosentandelen kan ikke være større enn den totale prosent av hvert enkelt materiale!\",\"\")))","v":""},null,null,null,null,null,null,null,null,null,null,null,null,1,{"$f":"1","v":1},"=1",null,null,null,null,0]
[null,null,{"$f":"IF(AND(G893=\"\",Volum=\"\"),\"\",IF(AND(U893=1,L903=\"\"),\"REGISTRER FØRST DET TOTALE VOLUMET  AV MATERIALER I CELLEN NEDERST TIL HØYRE\",IF(G895:G902=\"\",\"\",IF(G903>100,\"Mengden materialer kan ikke overstige det  totale volumet!\",IF(G903<80,\"Minst 80 % av de relevante materialer må vurderes\",\"\")))))","v":""},null,"Mat. 1",null,null,null,null,null,null,null,{"$f":"IF(N895=0,0,IF(P903=TRUE,\"0\",IF(SUM(H911+I911+J911+K911+L911)>=3,\"3\",SUM(H911+I911+J911+K911+L911))))","v":0},{"$f":"IF(AND(U893=1,L903=\"\"),0,IF(OR(NOT(D894=\"\"),NOT(C895=\"\")),0,IF(ISERROR(N904),\"0\",N904)))","v":0},null,{"$f":"IF(SUM(H895:L895)>G895,\"1\",\"0\")","v":"0"},1,{"$f":"1","v":1},"=1",null,null,null,null,0]
[null,null,null,null,"Mat. 2",null,null,null,null,null,null,null,null,{"$f":"IF(OR(G903=\"\",G903=0,G903>100),\"\",IF(N904=0,\"\",IF(N904<80,\"Ingen poeng oppnådd,\nmindre enn 80 % oppfyller kravet\",C895)))","v":""},null,{"$f":"IF(SUM(H896:L896)>G896,\"1\",\"0\")","v":"0"},1,{"$f":"1","v":1},"=1",null,null,null,null,0]
[null,null,null,null,"Mat. 3",null,null,null,null,null,null,null,null,null,null,"0",1,{"$f":"1","v":1},"=1",null,null,null,null,0]
[null,null,null,null,"Mat. 4",null,null,null,null,null,null,null,null,null,null,"0",1,{"$f":"1","v":1},"=1",null,null,null,null,0]
[null,null,null,null,"Mat. 5",null,null,null,null,null,null,null,null,null,null,"0",1,{"$f":"1","v":1},"=1",null,null,null,null,0]
[null,null,null,null,"Mat. 6",null,null,null,null,null,null,null,null,null,null,"0",1,{"$f":"1","v":1},"=1",null,null,null,null,0]
[null,null,null,null,"Mat. 7",null,null,null,null,null,null,null,null,null,null,"0",1,{"$f":"1","v":1},"=1",null,null,null,null,0]
[null,null,null,null,"Mat. 8",null,null,null,null,null,null,null,null,null,null,"0",1,{"$f":"1","v":1},"=1",null,null,null,null,0]
[null,null,null,"Totalt % av bygningselementet (relevante materialer) vurdert:",null,null,{"$f":"IF(U893=\"\",\"\",IF(U893+L903=1,\"\",IF(SUM(G895:G902)=0,\"\",IF(U893=1,IF(OR(G895>L903,G896>L903,G897>L903,G898>L903,G899>L903,G900>L903,G901>L903,G902>L903,SUM(G895:G902)>L903),ROUND(SUM(G895:G902)/L903,2)*100,((SUM(G895:G902)/L903)*100)),IF(U893=2,IF(OR(G895>100,G896>100,G897>100,G898>100,G899>100,G900>100,G901>100,G902>100,SUM(G895:G902)>100),SUM(G895:G902),SUM(G895:G902)))))))","v":""},"Totalt volum:",null,null,null,null,null,null,null,{"$f":"IF(OR(H904>G904,K904>G904,L904>G904),TRUE,FALSE)","v":false},1,{"$f":"1","v":1},"=1",null,null,null,null,0]
[null,null,{"$f":"IF(G903=0,\"0\",IF(U893=2,\"0\",IF(U893=1,(G903/100)*100,IF(U893=2,(G903/100)*100))))","v":false},{"$f":"G903","v":""},null,"Total",{"$f":"IF(SUM(G895:G902)=0,\"1\",SUM(G895:G902))","v":"1"},{"$f":"SUM(H895:H902)","v":0},{"$f":"SUM(I895:I902)","v":0},{"$f":"SUM(J895:J902)","v":0},{"$f":"SUM(K895:K902)","v":0},{"$f":"SUM(L895:L902)","v":0},null,{"$f":"SUM(H905:L905)","v":0},{"$f":"IF(G903<80,\"0,00\",IF(P904>0,\"0\",IF(G903>100,\"0,00\",IF(N895>=80,M895,IF(N895<80,0)))))","v":"0,00"},{"$f":"P895+P896+P897+P898+P899+P900+P901+P902","v":0},{"$f":"1","v":1},{"$f":"1","v":1},"=1"]
[null,null,null,null,null,null,"Percentage",{"$f":"IF(H904+G904=0,\"0\",(H904/G904)*100)","v":0},{"$f":"IF(I904+G904=0,\"0\",(I904/G904)*100)","v":0},{"$f":"IF(J904+G904=0,\"0\",(J904/G904)*100)","v":0},{"$f":"IF(K904+G904=0,\"0\",(K904/G904)*100)","v":0},{"$f":"IF(L904+G904=0,\"0\",(L904/G904)*100)","v":0},null,100,null,null,{"$f":"1","v":1},{"$f":"1","v":1},"=1"]
[null,null,null,null,null,{"$f":"IF(U893=1,((G904/100)*80))","v":false},"% of 80",{"$f":"(H905/80)*100","v":0},{"$f":"(I905/80)*100","v":0},{"$f":"(J905/80)*100","v":0},{"$f":"(K905/80)*100","v":0},{"$f":"(L905/80)*100","v":0},null,null,null,null,{"$f":"1","v":1},{"$f":"1","v":1},"=1"]
[null,null,null,null,null,null,"Limiter",{"$f":"IF(H906>100,\"100\",H906)","v":0},{"$f":"IF(I906>100,\"100\",I906)","v":0},{"$f":"IF(J906>100,\"100\",J906)","v":0},{"$f":"IF(K906>100,\"100\",K906)","v":0},{"$f":"IF(L906>100,\"100\",L906)","v":0},null,null,null,null,{"$f":"1","v":1},{"$f":"1","v":1},"=1"]
[null,null,null,null,null,null,null,null,{"$f":"IF(H907+I907+J907+K907+L907=0,0,100-(H907))","v":0},{"$f":"IF(H907+I907+J907+K907+L907=0,0,100-(H907+I907))","v":0},{"$f":"IF(J907+I907+H907+K907+L907=0,0,100-(J907+I907+H907))","v":0},{"$f":"IF(K907+J907+I907+H907+L907=0,0,100-(H907+I907+K907+J907))","v":0},null,null,null,null,{"$f":"1","v":1},{"$f":"1","v":1},"=1"]
[null,null,null,null,null,null,null,null,{"$f":"IF(I907>I908,I908,I907)","v":0},{"$f":"IF(J907>J908,J908,J907)","v":0},{"$f":"IF(K907>K908,K908,K907)","v":0},{"$f":"IF(L907>L908,L908,L907)","v":0},null,null,null,null,{"$f":"1","v":1},{"$f":"1","v":1},"=1"]
[null,null,null,null,null,null,null,null,null,null,null,{"$f":"IF(K909+J907+H907+I907>=100,0,L909)","v":0},null,null,null,null,{"$f":"1","v":1},{"$f":"1","v":1},"=1"]
[null,null,null,null,null,null,"Scores",{"$f":"IF(H904=0,0,0.01*(H907*H912))","v":0},{"$f":"IF(I904=0,0,0.01*(I909*I912))","v":0},{"$f":"IF(J904=0,0,0.01*(J909*J912))","v":0},{"$f":"IF(K904=0,0,0.01*(K909*K912))","v":0},{"$f":"IF(L904=0,0,0.01*(L910*L912))","v":0},null,null,null,null,{"$f":"1","v":1},{"$f":"1","v":1},"=1"]
[null,null,null,null,null,null,null,3,2.5,2,1.5,1,"Total",null,null,null,{"$f":"1","v":1},{"$f":"1","v":1},"=1"]
[null,null,"PANEL",null,null,"Velg antall paneler du ønsker å vurdere (deretter trykk «velg»):",null,null,null,null,null,null,null,null,{"$f":"IF(ISERROR(O925+O945+O965+O985)/V914,\"\",(O925+O945+O965+O985)/V914)","v":0},null,{"$f":"0","v":0},{"$f":"1","v":1},"=HVIS(asstype=3;0;HVIS(typescheme=2;0;1))",{"$f":"VLOOKUP(G913,$T$1242:$U$1246,2,FALSE)","v":2},null,null,null,{"$f":"IF($R$15=0,0,IF($G$913>=1,0,1))","v":0}]
[null,null,"PANEL (1)",null,null,"Velg elementtype:",null,null,null,null,null,null,null,null,null,null,{"$f":"IF(freq12>=3,0,1)","v":1},{"$f":"1","v":1},"=HVIS(asstype=3;0;HVIS(typescheme=2;0;1))",null,{"$f":"IF(ISERROR(VLOOKUP(G914,$T$1249:$U$1250,2,FALSE)),\"\",VLOOKUP(G914,$T$1249:$U$1250,2,FALSE))","v":""},{"$f":"IF(freq12=3,1,IF(freq12=4,2,IF(freq12=5,3,IF(freq12=6,4,1))))","v":1},null,0]
[null,null,null,{"$f":"IF(G924=\"\",\"\",IF(P925>=1,\"NB! Volum av nivåene kan ikke være større enn det totale volumet for hvert enkelt materiale!\",IF(AND(P924=TRUE,type1=2,G924>100),\"NB! Prosentandel for hvert nivå må registreres i prosent av det vurderte bygningselementet, og den totale prosentandelen kan ikke være større enn den totale prosent av hvert enkelt materiale!\",\"\")))","v":""},null,null,null,null,null,null,null,null,null,null,null,null,1,{"$f":"1","v":1},"=HVIS(asstype=3;0;HVIS(typescheme=2;0;1))",null,null,null,null,0]
[null,null,{"$f":"IF(AND(G913=\"\",Volum=\"\"),\"\",IF(AND(U914=1,L924=\"\"),\"REGISTRER FØRST DET TOTALE VOLUMET  AV MATERIALER I CELLEN NEDERST TIL HØYRE\",IF(G916:G923=\"\",\"\",IF(G924>100,\"Mengden materialer kan ikke overstige det  totale volumet!\",IF(G924<80,\"Minst 80 % av de relevante materialer må vurderes\",\"\")))))","v":""},null,"Mat. 1",null,null,null,null,null,null,null,{"$f":"IF(N916=0,0,IF(P924=TRUE,\"0\",IF(SUM(H932+I932+J932+K932+L932)>=3,\"3\",SUM(H932+I932+J932+K932+L932))))","v":0},{"$f":"IF(AND(U914=1,L924=\"\"),0,IF(OR(NOT(D915=\"\"),NOT(C916=\"\")),0,IF(ISERROR(N925),\"0\",N925)))","v":0},null,{"$f":"IF(SUM(H916:L916)>G916,\"1\",\"0\")","v":"0"},1,{"$f":"1","v":1},"=HVIS(asstype=3;0;HVIS(typescheme=2;0;1))",null,null,null,null,0]
[null,null,null,null,"Mat. 2",null,null,null,null,null,null,null,null,{"$f":"IF(OR(G924=\"\",G924=0,G924>100),\"\",IF(N925=0,\"\",IF(N925<80,\"Ingen poeng oppnådd,\nmindre enn 80 % oppfyller kravet\",C916)))","v":""},null,{"$f":"IF(SUM(H917:L917)>G917,\"1\",\"0\")","v":"0"},1,{"$f":"1","v":1},"=HVIS(asstype=3;0;HVIS(typescheme=2;0;1))",null,null,null,null,0]
[null,null,null,null,"Mat. 3",null,null,null,null,null,null,null,null,null,null,"0",1,{"$f":"1","v":1},"=HVIS(asstype=3;0;HVIS(typescheme=2;0;1))",null,null,null,null,0]
[null,null,null,null,"Mat. 4",null,null,null,null,null,null,null,null,null,null,"0",1,{"$f":"1","v":1},"=HVIS(asstype=3;0;HVIS(typescheme=2;0;1))",null,null,null,null,0]
[null,null,null,null,"Mat. 5",null,null,null,null,null,null,null,null,null,null,"0",1,{"$f":"1","v":1},"=HVIS(asstype=3;0;HVIS(typescheme=2;0;1))",null,null,null,null,0]
[null,null,null,null,"Mat. 6",null,null,null,null,null,null,null,null,null,null,"0",1,{"$f":"1","v":1},"=HVIS(asstype=3;0;HVIS(typescheme=2;0;1))",null,null,null,null,0]
[null,null,null,null,"Mat. 7",null,null,null,null,null,null,null,null,null,null,"0",1,{"$f":"1","v":1},"=HVIS(asstype=3;0;HVIS(typescheme=2;0;1))",null,null,null,null,0]
[null,null,null,null,"Mat. 8",null,null,null,null,null,null,null,null,null,null,"0",1,{"$f":"1","v":1},"=HVIS(asstype=3;0;HVIS(typescheme=2;0;1))",null,null,null,null,0]
[null,null,null,"Totalt % av bygningselementet (relevante materialer) vurdert:",null,null,{"$f":"IF(U914=\"\",\"\",IF(U914+L924=1,\"\",IF(SUM(G916:G923)=0,\"\",IF(U914=1,IF(OR(G916>L924,G917>L924,G918>L924,G919>L924,G920>L924,G921>L924,G922>L924,G923>L924,SUM(G916:G923)>L924),ROUND(SUM(G916:G923)/L924,2)*100,((SUM(G916:G923)/L924)*100)),IF(U914=2,IF(OR(G916>100,G917>100,G918>100,G919>100,G920>100,G921>100,G922>100,G923>100,SUM(G916:G923)>100),SUM(G916:G923),SUM(G916:G923)))))))","v":""},"Totalt volum:",null,null,null,null,null,null,null,{"$f":"IF(OR(H925>G925,K925>G925,L925>G925),TRUE,FALSE)","v":false},1,{"$f":"1","v":1},"=HVIS(asstype=3;0;HVIS(typescheme=2;0;1))",null,null,null,null,0]
[null,null,{"$f":"IF(G924=0,\"0\",IF(U917=2,\"0\",IF(U917=1,(G924/100)*100,IF(U917=2,(G924/100)*100))))","v":false},{"$f":"G924","v":""},null,"Total",{"$f":"IF(SUM(G916:G923)=0,\"1\",SUM(G916:G923))","v":"1"},{"$f":"SUM(H916:H923)","v":0},{"$f":"SUM(I916:I923)","v":0},{"$f":"SUM(J916:J923)","v":0},{"$f":"SUM(K916:K923)","v":0},{"$f":"SUM(L916:L923)","v":0},null,{"$f":"SUM(H926:L926)","v":0},{"$f":"IF(G924<80,\"0,00\",IF(P925>0,\"0\",IF(G924>100,\"0,00\",IF(N916>=80,M916,IF(N916<80,0)))))","v":"0,00"},{"$f":"P916+P917+P918+P919+P920+P921+P922+P923","v":0},{"$f":"1","v":1},{"$f":"1","v":1},"=1"]
[null,null,null,null,null,null,"Percentage",{"$f":"IF(H925+G925=0,\"0\",(H925/G925)*100)","v":0},{"$f":"IF(I925+G925=0,\"0\",(I925/G925)*100)","v":0},{"$f":"IF(J925+G925=0,\"0\",(J925/G925)*100)","v":0},{"$f":"IF(K925+G925=0,\"0\",(K925/G925)*100)","v":0},{"$f":"IF(L925+G925=0,\"0\",(L925/G925)*100)","v":0},null,100,null,null,{"$f":"1","v":1},{"$f":"1","v":1},"=1"]
[null,null,null,null,null,{"$f":"IF(U917=1,((G925/100)*80))","v":false},"% of 80",{"$f":"(H926/80)*100","v":0},{"$f":"(I926/80)*100","v":0},{"$f":"(J926/80)*100","v":0},{"$f":"(K926/80)*100","v":0},{"$f":"(L926/80)*100","v":0},null,null,null,null,{"$f":"1","v":1},{"$f":"1","v":1},"=1"]
[null,null,null,null,null,null,"Limiter",{"$f":"IF(H927>100,\"100\",H927)","v":0},{"$f":"IF(I927>100,\"100\",I927)","v":0},{"$f":"IF(J927>100,\"100\",J927)","v":0},{"$f":"IF(K927>100,\"100\",K927)","v":0},{"$f":"IF(L927>100,\"100\",L927)","v":0},null,null,null,null,{"$f":"1","v":1},{"$f":"1","v":1},"=1"]
[null,null,null,null,null,null,null,null,{"$f":"IF(H928+I928+J928+K928+L928=0,0,100-(H928))","v":0},{"$f":"IF(H928+I928+J928+K928+L928=0,0,100-(H928+I928))","v":0},{"$f":"IF(J928+I928+H928+K928+L928=0,0,100-(J928+I928+H928))","v":0},{"$f":"IF(K928+J928+I928+H928+L928=0,0,100-(H928+I928+K928+J928))","v":0},null,null,null,null,{"$f":"1","v":1},{"$f":"1","v":1},"=1"]
[null,null,null,null,null,null,null,null,{"$f":"IF(I928>I929,I929,I928)","v":0},{"$f":"IF(J928>J929,J929,J928)","v":0},{"$f":"IF(K928>K929,K929,K928)","v":0},{"$f":"IF(L928>L929,L929,L928)","v":0},null,null,null,null,{"$f":"1","v":1},{"$f":"1","v":1},"=1"]
[null,null,null,null,null,null,null,null,null,null,null,{"$f":"IF(K930+J928+H928+I928>=100,0,L930)","v":0},null,null,null,null,{"$f":"1","v":1},{"$f":"1","v":1},"=1"]
[null,null,null,null,null,null,"Scores",{"$f":"IF(H925=0,0,0.01*(H928*H933))","v":0},{"$f":"IF(I925=0,0,0.01*(I930*I933))","v":0},{"$f":"IF(J925=0,0,0.01*(J930*J933))","v":0},{"$f":"IF(K925=0,0,0.01*(K930*K933))","v":0},{"$f":"IF(L925=0,0,0.01*(L931*L933))","v":0},null,null,null,null,{"$f":"1","v":1},{"$f":"1","v":1},"=1"]
[null,null,null,null,null,null,null,3,2.5,2,1.5,1,"Total",null,null,null,{"$f":"1","v":1},{"$f":"1","v":1},"=1"]
[null,null,"PANEL (2)",null,null,"Velg elementtype:",null,null,null,null,null,null,null,null,null,null,{"$f":"IF(freq12>=4,0,1)","v":1},{"$f":"1","v":1},"=1",null,{"$f":"IF(ISERROR(VLOOKUP(G934,$T$1249:$U$1250,2,FALSE)),\"\",VLOOKUP(G934,$T$1249:$U$1250,2,FALSE))","v":""},null,null,{"$f":"IF($R$15=0,0,IF($G$913>=2,0,1))","v":0}]
[null,null,null,{"$f":"IF(G944=\"\",\"\",IF(P945>=1,\"NB! Volum av nivåene kan ikke være større enn det totale volumet for hvert enkelt materiale!\",IF(AND(P944=TRUE,type1=2,G944>100),\"NB! Prosentandel for hvert nivå må registreres i prosent av det vurderte bygningselementet, og den totale prosentandelen kan ikke være større enn den totale prosent av hvert enkelt materiale!\",\"\")))","v":""},null,null,null,null,null,null,null,null,null,null,null,null,1,{"$f":"1","v":1},"=1",null,null,null,null,0]
[null,null,{"$f":"IF(AND(G934=\"\",Volum=\"\"),\"\",IF(AND(U934=1,L944=\"\"),\"REGISTRER FØRST DET TOTALE VOLUMET  AV MATERIALER I CELLEN NEDERST TIL HØYRE\",IF(G936:G943=\"\",\"\",IF(G944>100,\"Mengden materialer kan ikke overstige det  totale volumet!\",IF(G944<80,\"Minst 80 % av de relevante materialer må vurderes\",\"\")))))","v":""},null,"Mat. 1",null,null,null,null,null,null,null,{"$f":"IF(N936=0,0,IF(P944=TRUE,\"0\",IF(SUM(H952+I952+J952+K952+L952)>=3,\"3\",SUM(H952+I952+J952+K952+L952))))","v":0},{"$f":"IF(AND(U934=1,L944=\"\"),0,IF(OR(NOT(D935=\"\"),NOT(C936=\"\")),0,IF(ISERROR(N945),\"0\",N945)))","v":0},null,{"$f":"IF(SUM(H936:L936)>G936,\"1\",\"0\")","v":"0"},1,{"$f":"1","v":1},"=1",null,null,null,null,0]
[null,null,null,null,"Mat. 2",null,null,null,null,null,null,null,null,{"$f":"IF(OR(G944=\"\",G944=0,G944>100),\"\",IF(N945=0,\"\",IF(N945<80,\"Ingen poeng oppnådd,\nmindre enn 80 % oppfyller kravet\",C936)))","v":""},null,{"$f":"IF(SUM(H937:L937)>G937,\"1\",\"0\")","v":"0"},1,{"$f":"1","v":1},"=1",null,null,null,null,0]
[null,null,null,null,"Mat. 3",null,null,null,null,null,null,null,null,null,null,"0",1,{"$f":"1","v":1},"=1",null,null,null,null,0]
[null,null,null,null,"Mat. 4",null,null,null,null,null,null,null,null,null,null,"0",1,{"$f":"1","v":1},"=1",null,null,null,null,0]
[null,null,null,null,"Mat. 5",null,null,null,null,null,null,null,null,null,null,"0",1,{"$f":"1","v":1},"=1",null,null,null,null,0]
[null,null,null,null,"Mat. 6",null,null,null,null,null,null,null,null,null,null,"0",1,{"$f":"1","v":1},"=1",null,null,null,null,0]
[null,null,null,null,"Mat. 7",null,null,null,null,null,null,null,null,null,null,"0",1,{"$f":"1","v":1},"=1",null,null,null,null,0]
[null,null,null,null,"Mat. 8",null,null,null,null,null,null,null,null,null,null,"0",1,{"$f":"1","v":1},"=1",null,null,null,null,0]
[null,null,null,"Totalt % av bygningselementet (relevante materialer) vurdert:",null,null,{"$f":"IF(U934=\"\",\"\",IF(U934+L944=1,\"\",IF(SUM(G936:G943)=0,\"\",IF(U934=1,IF(OR(G936>L944,G937>L944,G938>L944,G939>L944,G940>L944,G941>L944,G942>L944,G943>L944,SUM(G936:G943)>L944),ROUND(SUM(G936:G943)/L944,2)*100,((SUM(G936:G943)/L944)*100)),IF(U934=2,IF(OR(G936>100,G937>100,G938>100,G939>100,G940>100,G941>100,G942>100,G943>100,SUM(G936:G943)>100),SUM(G936:G943),SUM(G936:G943)))))))","v":""},"Totalt volum:",null,null,null,null,null,null,null,{"$f":"IF(OR(H945>G945,K945>G945,L945>G945),TRUE,FALSE)","v":false},1,{"$f":"1","v":1},"=1",null,null,null,null,0]
[null,null,{"$f":"IF(G944=0,\"0\",IF(U934=2,\"0\",IF(U934=1,(G944/100)*100,IF(U934=2,(G944/100)*100))))","v":false},{"$f":"G944","v":""},null,"Total",{"$f":"IF(SUM(G936:G943)=0,\"1\",SUM(G936:G943))","v":"1"},{"$f":"SUM(H936:H943)","v":0},{"$f":"SUM(I936:I943)","v":0},{"$f":"SUM(J936:J943)","v":0},{"$f":"SUM(K936:K943)","v":0},{"$f":"SUM(L936:L943)","v":0},null,{"$f":"SUM(H946:L946)","v":0},{"$f":"IF(G944<80,\"0,00\",IF(P945>0,\"0\",IF(G944>100,\"0,00\",IF(N936>=80,M936,IF(N936<80,0)))))","v":"0,00"},{"$f":"P936+P937+P938+P939+P940+P941+P942+P943","v":0},{"$f":"1","v":1},{"$f":"1","v":1},"=1"]
[null,null,null,null,null,null,"Percentage",{"$f":"IF(H945+G945=0,\"0\",(H945/G945)*100)","v":0},{"$f":"IF(I945+G945=0,\"0\",(I945/G945)*100)","v":0},{"$f":"IF(J945+G945=0,\"0\",(J945/G945)*100)","v":0},{"$f":"IF(K945+G945=0,\"0\",(K945/G945)*100)","v":0},{"$f":"IF(L945+G945=0,\"0\",(L945/G945)*100)","v":0},null,100,null,null,{"$f":"1","v":1},{"$f":"1","v":1},"=1"]
[null,null,null,null,null,{"$f":"IF(U934=1,((G945/100)*80))","v":false},"% of 80",{"$f":"(H946/80)*100","v":0},{"$f":"(I946/80)*100","v":0},{"$f":"(J946/80)*100","v":0},{"$f":"(K946/80)*100","v":0},{"$f":"(L946/80)*100","v":0},null,null,null,null,{"$f":"1","v":1},{"$f":"1","v":1},"=1"]
[null,null,null,null,null,null,"Limiter",{"$f":"IF(H947>100,\"100\",H947)","v":0},{"$f":"IF(I947>100,\"100\",I947)","v":0},{"$f":"IF(J947>100,\"100\",J947)","v":0},{"$f":"IF(K947>100,\"100\",K947)","v":0},{"$f":"IF(L947>100,\"100\",L947)","v":0},null,null,null,null,{"$f":"1","v":1},{"$f":"1","v":1},"=1"]
[null,null,null,null,null,null,null,null,{"$f":"IF(H948+I948+J948+K948+L948=0,0,100-(H948))","v":0},{"$f":"IF(H948+I948+J948+K948+L948=0,0,100-(H948+I948))","v":0},{"$f":"IF(J948+I948+H948+K948+L948=0,0,100-(J948+I948+H948))","v":0},{"$f":"IF(K948+J948+I948+H948+L948=0,0,100-(H948+I948+K948+J948))","v":0},null,null,null,null,{"$f":"1","v":1},{"$f":"1","v":1},"=1"]
[null,null,null,null,null,null,null,null,{"$f":"IF(I948>I949,I949,I948)","v":0},{"$f":"IF(J948>J949,J949,J948)","v":0},{"$f":"IF(K948>K949,K949,K948)","v":0},{"$f":"IF(L948>L949,L949,L948)","v":0},null,null,null,null,{"$f":"1","v":1},{"$f":"1","v":1},"=1"]
[null,null,null,null,null,null,null,null,null,null,null,{"$f":"IF(K950+J948+H948+I948>=100,0,L950)","v":0},null,null,null,null,{"$f":"1","v":1},{"$f":"1","v":1},"=1"]
[null,null,null,null,null,null,"Scores",{"$f":"IF(H945=0,0,0.01*(H948*H953))","v":0},{"$f":"IF(I945=0,0,0.01*(I950*I953))","v":0},{"$f":"IF(J945=0,0,0.01*(J950*J953))","v":0},{"$f":"IF(K945=0,0,0.01*(K950*K953))","v":0},{"$f":"IF(L945=0,0,0.01*(L951*L953))","v":0},null,null,null,null,{"$f":"1","v":1},{"$f":"1","v":1},"=1"]
[null,null,null,null,null,null,null,3,2.5,2,1.5,1,"Total",null,null,null,{"$f":"1","v":1},{"$f":"1","v":1},"=1"]
[null,null,"PANEL (3)",null,null,"Velg elementtype:",null,null,null,null,null,null,null,null,null,null,{"$f":"IF(freq12>=5,0,1)","v":1},{"$f":"1","v":1},"=1",null,{"$f":"IF(ISERROR(VLOOKUP(G954,$T$1249:$U$1250,2,FALSE)),\"\",VLOOKUP(G954,$T$1249:$U$1250,2,FALSE))","v":""},null,null,{"$f":"IF($R$15=0,0,IF($G$913>=3,0,1))","v":0}]
[null,null,null,{"$f":"IF(G964=\"\",\"\",IF(P965>=1,\"NB! Volum av nivåene kan ikke være større enn det totale volumet for hvert enkelt materiale!\",IF(AND(P964=TRUE,type1=2,G964>100),\"NB! Prosentandel for hvert nivå må registreres i prosent av det vurderte bygningselementet, og den totale prosentandelen kan ikke være større enn den totale prosent av hvert enkelt materiale!\",\"\")))","v":""},null,null,null,null,null,null,null,null,null,null,null,null,1,{"$f":"1","v":1},"=1",null,null,null,null,0]
[null,null,{"$f":"IF(AND(G954=\"\",Volum=\"\"),\"\",IF(AND(U954=1,L964=\"\"),\"REGISTRER FØRST DET TOTALE VOLUMET  AV MATERIALER I CELLEN NEDERST TIL HØYRE\",IF(G956:G963=\"\",\"\",IF(G964>100,\"Mengden materialer kan ikke overstige det  totale volumet!\",IF(G964<80,\"Minst 80 % av de relevante materialer må vurderes\",\"\")))))","v":""},null,"Mat. 1",null,null,null,null,null,null,null,{"$f":"IF(N956=0,0,IF(P964=TRUE,\"0\",IF(SUM(H972+I972+J972+K972+L972)>=3,\"3\",SUM(H972+I972+J972+K972+L972))))","v":0},{"$f":"IF(AND(U954=1,L964=\"\"),0,IF(OR(NOT(D955=\"\"),NOT(C956=\"\")),0,IF(ISERROR(N965),\"0\",N965)))","v":0},null,{"$f":"IF(SUM(H956:L956)>G956,\"1\",\"0\")","v":"0"},1,{"$f":"1","v":1},"=1",null,null,null,null,0]
[null,null,null,null,"Mat. 2",null,null,null,null,null,null,null,null,{"$f":"IF(OR(G964=\"\",G964=0,G964>100),\"\",IF(N965=0,\"\",IF(N965<80,\"Ingen poeng oppnådd,\nmindre enn 80 % oppfyller kravet\",C956)))","v":""},null,{"$f":"IF(SUM(H957:L957)>G957,\"1\",\"0\")","v":"0"},1,{"$f":"1","v":1},"=1",null,null,null,null,0]
[null,null,null,null,"Mat. 3",null,null,null,null,null,null,null,null,null,null,"0",1,{"$f":"1","v":1},"=1",null,null,null,null,0]
[null,null,null,null,"Mat. 4",null,null,null,null,null,null,null,null,null,null,"0",1,{"$f":"1","v":1},"=1",null,null,null,null,0]
[null,null,null,null,"Mat. 5",null,null,null,null,null,null,null,null,null,null,"0",1,{"$f":"1","v":1},"=1",null,null,null,null,0]
[null,null,null,null,"Mat. 6",null,null,null,null,null,null,null,null,null,null,"0",1,{"$f":"1","v":1},"=1",null,null,null,null,0]
[null,null,null,null,"Mat. 7",null,null,null,null,null,null,null,null,null,null,"0",1,{"$f":"1","v":1},"=1",null,null,null,null,0]
[null,null,null,null,"Mat. 8",null,null,null,null,null,null,null,null,null,null,"0",1,{"$f":"1","v":1},"=1",null,null,null,null,0]
[null,null,null,"Totalt % av bygningselementet (relevante materialer) vurdert:",null,null,{"$f":"IF(U954=\"\",\"\",IF(U954+L964=1,\"\",IF(SUM(G956:G963)=0,\"\",IF(U954=1,IF(OR(G956>L964,G957>L964,G958>L964,G959>L964,G960>L964,G961>L964,G962>L964,G963>L964,SUM(G956:G963)>L964),ROUND(SUM(G956:G963)/L964,2)*100,((SUM(G956:G963)/L964)*100)),IF(U954=2,IF(OR(G956>100,G957>100,G958>100,G959>100,G960>100,G961>100,G962>100,G963>100,SUM(G956:G963)>100),SUM(G956:G963),SUM(G956:G963)))))))","v":""},"Totalt volum:",null,null,null,null,null,null,null,{"$f":"IF(OR(H965>G965,K965>G965,L965>G965),TRUE,FALSE)","v":false},1,{"$f":"1","v":1},"=1",null,null,null,null,0]
[null,null,{"$f":"IF(G964=0,\"0\",IF(U954=2,\"0\",IF(U954=1,(G964/100)*100,IF(U954=2,(G964/100)*100))))","v":false},{"$f":"G964","v":""},null,"Total",{"$f":"IF(SUM(G956:G963)=0,\"1\",SUM(G956:G963))","v":"1"},{"$f":"SUM(H956:H963)","v":0},{"$f":"SUM(I956:I963)","v":0},{"$f":"SUM(J956:J963)","v":0},{"$f":"SUM(K956:K963)","v":0},{"$f":"SUM(L956:L963)","v":0},null,{"$f":"SUM(H966:L966)","v":0},{"$f":"IF(G964<80,\"0,00\",IF(P965>0,\"0\",IF(G964>100,\"0,00\",IF(N956>=80,M956,IF(N956<80,0)))))","v":"0,00"},{"$f":"P956+P957+P958+P959+P960+P961+P962+P963","v":0},{"$f":"1","v":1},{"$f":"1","v":1},"=1"]
[null,null,null,null,null,null,"Percentage",{"$f":"IF(H965+G965=0,\"0\",(H965/G965)*100)","v":0},{"$f":"IF(I965+G965=0,\"0\",(I965/G965)*100)","v":0},{"$f":"IF(J965+G965=0,\"0\",(J965/G965)*100)","v":0},{"$f":"IF(K965+G965=0,\"0\",(K965/G965)*100)","v":0},{"$f":"IF(L965+G965=0,\"0\",(L965/G965)*100)","v":0},null,100,null,null,{"$f":"1","v":1},{"$f":"1","v":1},"=1"]
[null,null,null,null,null,{"$f":"IF(U954=1,((G965/100)*80))","v":false},"% of 80",{"$f":"(H966/80)*100","v":0},{"$f":"(I966/80)*100","v":0},{"$f":"(J966/80)*100","v":0},{"$f":"(K966/80)*100","v":0},{"$f":"(L966/80)*100","v":0},null,null,null,null,{"$f":"1","v":1},{"$f":"1","v":1},"=1"]
[null,null,null,null,null,null,"Limiter",{"$f":"IF(H967>100,\"100\",H967)","v":0},{"$f":"IF(I967>100,\"100\",I967)","v":0},{"$f":"IF(J967>100,\"100\",J967)","v":0},{"$f":"IF(K967>100,\"100\",K967)","v":0},{"$f":"IF(L967>100,\"100\",L967)","v":0},null,null,null,null,{"$f":"1","v":1},{"$f":"1","v":1},"=1"]
[null,null,null,null,null,null,null,null,{"$f":"IF(H968+I968+J968+K968+L968=0,0,100-(H968))","v":0},{"$f":"IF(H968+I968+J968+K968+L968=0,0,100-(H968+I968))","v":0},{"$f":"IF(J968+I968+H968+K968+L968=0,0,100-(J968+I968+H968))","v":0},{"$f":"IF(K968+J968+I968+H968+L968=0,0,100-(H968+I968+K968+J968))","v":0},null,null,null,null,{"$f":"1","v":1},{"$f":"1","v":1},"=1"]
[null,null,null,null,null,null,null,null,{"$f":"IF(I968>I969,I969,I968)","v":0},{"$f":"IF(J968>J969,J969,J968)","v":0},{"$f":"IF(K968>K969,K969,K968)","v":0},{"$f":"IF(L968>L969,L969,L968)","v":0},null,null,null,null,{"$f":"1","v":1},{"$f":"1","v":1},"=1"]
[null,null,null,null,null,null,null,null,null,null,null,{"$f":"IF(K970+J968+H968+I968>=100,0,L970)","v":0},null,null,null,null,{"$f":"1","v":1},{"$f":"1","v":1},"=1"]
[null,null,null,null,null,null,"Scores",{"$f":"IF(H965=0,0,0.01*(H968*H973))","v":0},{"$f":"IF(I965=0,0,0.01*(I970*I973))","v":0},{"$f":"IF(J965=0,0,0.01*(J970*J973))","v":0},{"$f":"IF(K965=0,0,0.01*(K970*K973))","v":0},{"$f":"IF(L965=0,0,0.01*(L971*L973))","v":0},null,null,null,null,{"$f":"1","v":1},{"$f":"1","v":1},"=1"]
[null,null,null,null,null,null,null,3,2.5,2,1.5,1,"Total",null,null,null,{"$f":"1","v":1},{"$f":"1","v":1},"=1"]
[null,null,"PANEL (4)",null,null,"Velg elementtype:",null,null,null,null,null,null,null,null,null,null,{"$f":"IF(freq12>=6,0,1)","v":1},{"$f":"1","v":1},"=1",null,{"$f":"IF(ISERROR(VLOOKUP(G974,$T$1249:$U$1250,2,FALSE)),\"\",VLOOKUP(G974,$T$1249:$U$1250,2,FALSE))","v":""},null,null,{"$f":"IF($R$15=0,0,IF($G$913>=4,0,1))","v":0}]
[null,null,null,{"$f":"IF(G984=\"\",\"\",IF(P985>=1,\"NB! Volum av nivåene kan ikke være større enn det totale volumet for hvert enkelt materiale!\",IF(AND(P984=TRUE,type1=2,G984>100),\"NB! Prosentandel for hvert nivå må registreres i prosent av det vurderte bygningselementet, og den totale prosentandelen kan ikke være større enn den totale prosent av hvert enkelt materiale!\",\"\")))","v":""},null,null,null,null,null,null,null,null,null,null,null,null,1,{"$f":"1","v":1},"=1",null,null,null,null,0]
[null,null,{"$f":"IF(AND(G974=\"\",Volum=\"\"),\"\",IF(AND(U974=1,L984=\"\"),\"REGISTRER FØRST DET TOTALE VOLUMET  AV MATERIALER I CELLEN NEDERST TIL HØYRE\",IF(G976:G983=\"\",\"\",IF(G984>100,\"Mengden materialer kan ikke overstige det  totale volumet!\",IF(G984<80,\"Minst 80 % av de relevante materialer må vurderes\",\"\")))))","v":""},null,"Mat. 1",null,null,null,null,null,null,null,{"$f":"IF(N976=0,0,IF(P984=TRUE,\"0\",IF(SUM(H992+I992+J992+K992+L992)>=3,\"3\",SUM(H992+I992+J992+K992+L992))))","v":0},{"$f":"IF(AND(U974=1,L984=\"\"),0,IF(OR(NOT(D975=\"\"),NOT(C976=\"\")),0,IF(ISERROR(N985),\"0\",N985)))","v":0},null,{"$f":"IF(SUM(H976:L976)>G976,\"1\",\"0\")","v":"0"},1,{"$f":"1","v":1},"=1",null,null,null,null,0]
[null,null,null,null,"Mat. 2",null,null,null,null,null,null,null,null,{"$f":"IF(OR(G984=\"\",G984=0,G984>100),\"\",IF(N985=0,\"\",IF(N985<80,\"Ingen poeng oppnådd,\nmindre enn 80 % oppfyller kravet\",C976)))","v":""},null,{"$f":"IF(SUM(H977:L977)>G977,\"1\",\"0\")","v":"0"},1,{"$f":"1","v":1},"=1",null,null,null,null,0]
[null,null,null,null,"Mat. 3",null,null,null,null,null,null,null,null,null,null,"0",1,{"$f":"1","v":1},"=1",null,null,null,null,0]
[null,null,null,null,"Mat. 4",null,null,null,null,null,null,null,null,null,null,"0",1,{"$f":"1","v":1},"=1",null,null,null,null,0]
[null,null,null,null,"Mat. 5",null,null,null,null,null,null,null,null,null,null,"0",1,{"$f":"1","v":1},"=1",null,null,null,null,0]
[null,null,null,null,"Mat. 6",null,null,null,null,null,null,null,null,null,null,"0",1,{"$f":"1","v":1},"=1",null,null,null,null,0]
[null,null,null,null,"Mat. 7",null,null,null,null,null,null,null,null,null,null,"0",1,{"$f":"1","v":1},"=1",null,null,null,null,0]
[null,null,null,null,"Mat. 8",null,null,null,null,null,null,null,null,null,null,"0",1,{"$f":"1","v":1},"=1",null,null,null,null,0]
[null,null,null,"Totalt % av bygningselementet (relevante materialer) vurdert:",null,null,{"$f":"IF(U974=\"\",\"\",IF(U974+L984=1,\"\",IF(SUM(G976:G983)=0,\"\",IF(U974=1,IF(OR(G976>L984,G977>L984,G978>L984,G979>L984,G980>L984,G981>L984,G982>L984,G983>L984,SUM(G976:G983)>L984),ROUND(SUM(G976:G983)/L984,2)*100,((SUM(G976:G983)/L984)*100)),IF(U974=2,IF(OR(G976>100,G977>100,G978>100,G979>100,G980>100,G981>100,G982>100,G983>100,SUM(G976:G983)>100),SUM(G976:G983),SUM(G976:G983)))))))","v":""},"Totalt volum:",null,null,null,null,null,null,null,{"$f":"IF(OR(H985>G985,K985>G985,L985>G985),TRUE,FALSE)","v":false},1,{"$f":"1","v":1},"=1",null,null,null,null,0]
[null,null,{"$f":"IF(G984=0,\"0\",IF(U974=2,\"0\",IF(U974=1,(G984/100)*100,IF(U974=2,(G984/100)*100))))","v":false},{"$f":"G984","v":""},null,"Total",{"$f":"IF(SUM(G976:G983)=0,\"1\",SUM(G976:G983))","v":"1"},{"$f":"SUM(H976:H983)","v":0},{"$f":"SUM(I976:I983)","v":0},{"$f":"SUM(J976:J983)","v":0},{"$f":"SUM(K976:K983)","v":0},{"$f":"SUM(L976:L983)","v":0},null,{"$f":"SUM(H986:L986)","v":0},{"$f":"IF(G984<80,\"0,00\",IF(P985>0,\"0\",IF(G984>100,\"0,00\",IF(N976>=80,M976,IF(N976<80,0)))))","v":"0,00"},{"$f":"P976+P977+P978+P979+P980+P981+P982+P983","v":0},{"$f":"1","v":1},{"$f":"1","v":1},"=1"]
[null,null,null,null,null,null,"Percentage",{"$f":"IF(H985+G985=0,\"0\",(H985/G985)*100)","v":0},{"$f":"IF(I985+G985=0,\"0\",(I985/G985)*100)","v":0},{"$f":"IF(J985+G985=0,\"0\",(J985/G985)*100)","v":0},{"$f":"IF(K985+G985=0,\"0\",(K985/G985)*100)","v":0},{"$f":"IF(L985+G985=0,\"0\",(L985/G985)*100)","v":0},null,100,null,null,{"$f":"1","v":1},{"$f":"1","v":1},"=1"]
[null,null,null,null,null,{"$f":"IF(U974=1,((G985/100)*80))","v":false},"% of 80",{"$f":"(H986/80)*100","v":0},{"$f":"(I986/80)*100","v":0},{"$f":"(J986/80)*100","v":0},{"$f":"(K986/80)*100","v":0},{"$f":"(L986/80)*100","v":0},null,null,null,null,{"$f":"1","v":1},{"$f":"1","v":1},"=1"]
[null,null,null,null,null,null,"Limiter",{"$f":"IF(H987>100,\"100\",H987)","v":0},{"$f":"IF(I987>100,\"100\",I987)","v":0},{"$f":"IF(J987>100,\"100\",J987)","v":0},{"$f":"IF(K987>100,\"100\",K987)","v":0},{"$f":"IF(L987>100,\"100\",L987)","v":0},null,null,null,null,{"$f":"1","v":1},{"$f":"1","v":1},"=1"]
[null,null,null,null,null,null,null,null,{"$f":"IF(H988+I988+J988+K988+L988=0,0,100-(H988))","v":0},{"$f":"IF(H988+I988+J988+K988+L988=0,0,100-(H988+I988))","v":0},{"$f":"IF(J988+I988+H988+K988+L988=0,0,100-(J988+I988+H988))","v":0},{"$f":"IF(K988+J988+I988+H988+L988=0,0,100-(H988+I988+K988+J988))","v":0},null,null,null,null,{"$f":"1","v":1},{"$f":"1","v":1},"=1"]
[null,null,null,null,null,null,null,null,{"$f":"IF(I988>I989,I989,I988)","v":0},{"$f":"IF(J988>J989,J989,J988)","v":0},{"$f":"IF(K988>K989,K989,K988)","v":0},{"$f":"IF(L988>L989,L989,L988)","v":0},null,null,null,null,{"$f":"1","v":1},{"$f":"1","v":1},"=1"]
[null,null,null,null,null,null,null,null,null,null,null,{"$f":"IF(K990+J988+H988+I988>=100,0,L990)","v":0},null,null,null,null,{"$f":"1","v":1},{"$f":"1","v":1},"=1"]
[null,null,null,null,null,null,"Scores",{"$f":"IF(H985=0,0,0.01*(H988*H993))","v":0},{"$f":"IF(I985=0,0,0.01*(I990*I993))","v":0},{"$f":"IF(J985=0,0,0.01*(J990*J993))","v":0},{"$f":"IF(K985=0,0,0.01*(K990*K993))","v":0},{"$f":"IF(L985=0,0,0.01*(L991*L993))","v":0},null,null,null,null,{"$f":"1","v":1},{"$f":"1","v":1},"=1"]
[null,null,null,null,null,null,null,3,2.5,2,1.5,1,"Total",null,null,null,{"$f":"1","v":1},{"$f":"1","v":1},"=1"]
[null,null,"INVENTAR",null,null,"Velg antall inventar du ønsker å vurdere (deretter trykk «velg»):",null,null,null,null,null,null,null,null,{"$f":"IF(ISERROR(O1006+O1026+O1046+O1066)/V995,\"\",(O1006+O1026+O1046+O1066)/V995)","v":0},null,{"$f":"0","v":0},{"$f":"1","v":1},"=HVIS(asstype=3;0;HVIS(typescheme=2;0;1))",{"$f":"VLOOKUP(G994,$T$1242:$U$1246,2,FALSE)","v":2},null,null,null,{"$f":"IF($R$15=0,0,IF($G$994>=1,0,1))","v":0}]
[null,null,"INVENTAR (1)",null,null,"Velg elementtype:",null,null,null,null,null,null,null,null,null,null,{"$f":"IF(freq13>=3,0,1)","v":1},{"$f":"1","v":1},"=HVIS(asstype=3;0;HVIS(typescheme=2;0;1))",null,{"$f":"IF(ISERROR(VLOOKUP(G995,$T$1249:$U$1250,2,FALSE)),\"\",VLOOKUP(G995,$T$1249:$U$1250,2,FALSE))","v":""},{"$f":"IF(freq13=3,1,IF(freq13=4,2,IF(freq13=5,3,IF(freq13=6,4,1))))","v":1},null,0]
[null,null,null,{"$f":"IF(G1005=\"\",\"\",IF(P1006>=1,\"NB! Volum av nivåene kan ikke være større enn det totale volumet for hvert enkelt materiale!\",IF(AND(P1005=TRUE,type1=2,G1005>100),\"NB! Prosentandel for hvert nivå må registreres i prosent av det vurderte bygningselementet, og den totale prosentandelen kan ikke være større enn den totale prosent av hvert enkelt materiale!\",\"\")))","v":""},null,null,null,null,null,null,null,null,null,null,null,null,1,{"$f":"1","v":1},"=HVIS(asstype=3;0;HVIS(typescheme=2;0;1))",null,null,null,null,0]
[null,null,{"$f":"IF(AND(G994=\"\",Volum=\"\"),\"\",IF(AND(U995=1,L1005=\"\"),\"REGISTRER FØRST DET TOTALE VOLUMET  AV MATERIALER I CELLEN NEDERST TIL HØYRE\",IF(G997:G1004=\"\",\"\",IF(G1005>100,\"Mengden materialer kan ikke overstige det  totale volumet!\",IF(G1005<80,\"Minst 80 % av de relevante materialer må vurderes\",\"\")))))","v":""},null,"Mat. 1",null,null,null,null,null,null,null,{"$f":"IF(N997=0,0,IF(P1005=TRUE,\"0\",IF(SUM(H1013+I1013+J1013+K1013+L1013)>=3,\"3\",SUM(H1013+I1013+J1013+K1013+L1013))))","v":0},{"$f":"IF(AND(U995=1,L1005=\"\"),0,IF(OR(NOT(D996=\"\"),NOT(C997=\"\")),0,IF(ISERROR(N1006),\"0\",N1006)))","v":0},null,{"$f":"IF(SUM(H997:L997)>G997,\"1\",\"0\")","v":"0"},1,{"$f":"1","v":1},"=HVIS(asstype=3;0;HVIS(typescheme=2;0;1))",null,null,null,null,0]
[null,null,null,null,"Mat. 2",null,null,null,null,null,null,null,null,{"$f":"IF(OR(G1005=\"\",G1005=0,G1005>100),\"\",IF(N1006=0,\"\",IF(N1006<80,\"Ingen poeng oppnådd,\nmindre enn 80 % oppfyller kravet\",C997)))","v":""},null,{"$f":"IF(SUM(H998:L998)>G998,\"1\",\"0\")","v":"0"},1,{"$f":"1","v":1},"=HVIS(asstype=3;0;HVIS(typescheme=2;0;1))",null,null,null,null,0]
[null,null,null,null,"Mat. 3",null,null,null,null,null,null,null,null,null,null,"0",1,{"$f":"1","v":1},"=HVIS(asstype=3;0;HVIS(typescheme=2;0;1))",null,null,null,null,0]
[null,null,null,null,"Mat. 4",null,null,null,null,null,null,null,null,null,null,"0",1,{"$f":"1","v":1},"=HVIS(asstype=3;0;HVIS(typescheme=2;0;1))",null,null,null,null,0]
[null,null,null,null,"Mat. 5",null,null,null,null,null,null,null,null,null,null,"0",1,{"$f":"1","v":1},"=HVIS(asstype=3;0;HVIS(typescheme=2;0;1))",null,null,null,null,0]
[null,null,null,null,"Mat. 6",null,null,null,null,null,null,null,null,null,null,"0",1,{"$f":"1","v":1},"=HVIS(asstype=3;0;HVIS(typescheme=2;0;1))",null,null,null,null,0]
[null,null,null,null,"Mat. 7",null,null,null,null,null,null,null,null,null,null,"0",1,{"$f":"1","v":1},"=HVIS(asstype=3;0;HVIS(typescheme=2;0;1))",null,null,null,null,0]
[null,null,null,null,"Mat. 8",null,null,null,null,null,null,null,null,null,null,"0",1,{"$f":"1","v":1},"=HVIS(asstype=3;0;HVIS(typescheme=2;0;1))",null,null,null,null,0]
[null,null,null,"Totalt % av bygningselementet (relevante materialer) vurdert:",null,null,{"$f":"IF(U995=\"\",\"\",IF(U995+L1005=1,\"\",IF(SUM(G997:G1004)=0,\"\",IF(U995=1,IF(OR(G997>L1005,G998>L1005,G999>L1005,G1000>L1005,G1001>L1005,G1002>L1005,G1003>L1005,G1004>L1005,SUM(G997:G1004)>L1005),ROUND(SUM(G997:G1004)/L1005,2)*100,((SUM(G997:G1004)/L1005)*100)),IF(U995=2,IF(OR(G997>100,G998>100,G999>100,G1000>100,G1001>100,G1002>100,G1003>100,G1004>100,SUM(G997:G1004)>100),SUM(G997:G1004),SUM(G997:G1004)))))))","v":""},"Totalt volum:",null,null,null,null,null,null,null,{"$f":"IF(OR(H1006>G1006,K1006>G1006,L1006>G1006),TRUE,FALSE)","v":false},1,{"$f":"1","v":1},"=HVIS(asstype=3;0;HVIS(typescheme=2;0;1))",null,null,null,null,0]
[null,null,{"$f":"IF(G1005=0,\"0\",IF(U998=2,\"0\",IF(U998=1,(G1005/100)*100,IF(U998=2,(G1005/100)*100))))","v":false},{"$f":"G1005","v":""},null,"Total",{"$f":"IF(SUM(G997:G1004)=0,\"1\",SUM(G997:G1004))","v":"1"},{"$f":"SUM(H997:H1004)","v":0},{"$f":"SUM(I997:I1004)","v":0},{"$f":"SUM(J997:J1004)","v":0},{"$f":"SUM(K997:K1004)","v":0},{"$f":"SUM(L997:L1004)","v":0},null,{"$f":"SUM(H1007:L1007)","v":0},{"$f":"IF(G1005<80,\"0,00\",IF(P1006>0,\"0\",IF(G1005>100,\"0,00\",IF(N997>=80,M997,IF(N997<80,0)))))","v":"0,00"},{"$f":"P997+P998+P999+P1000+P1001+P1002+P1003+P1004","v":0},{"$f":"1","v":1},{"$f":"1","v":1},"=1"]
[null,null,null,null,null,null,"Percentage",{"$f":"IF(H1006+G1006=0,\"0\",(H1006/G1006)*100)","v":0},{"$f":"IF(I1006+G1006=0,\"0\",(I1006/G1006)*100)","v":0},{"$f":"IF(J1006+G1006=0,\"0\",(J1006/G1006)*100)","v":0},{"$f":"IF(K1006+G1006=0,\"0\",(K1006/G1006)*100)","v":0},{"$f":"IF(L1006+G1006=0,\"0\",(L1006/G1006)*100)","v":0},null,100,null,null,{"$f":"1","v":1},{"$f":"1","v":1},"=1"]
[null,null,null,null,null,{"$f":"IF(U998=1,((G1006/100)*80))","v":false},"% of 80",{"$f":"(H1007/80)*100","v":0},{"$f":"(I1007/80)*100","v":0},{"$f":"(J1007/80)*100","v":0},{"$f":"(K1007/80)*100","v":0},{"$f":"(L1007/80)*100","v":0},null,null,null,null,{"$f":"1","v":1},{"$f":"1","v":1},"=1"]
[null,null,null,null,null,null,"Limiter",{"$f":"IF(H1008>100,\"100\",H1008)","v":0},{"$f":"IF(I1008>100,\"100\",I1008)","v":0},{"$f":"IF(J1008>100,\"100\",J1008)","v":0},{"$f":"IF(K1008>100,\"100\",K1008)","v":0},{"$f":"IF(L1008>100,\"100\",L1008)","v":0},null,null,null,null,{"$f":"1","v":1},{"$f":"1","v":1},"=1"]
[null,null,null,null,null,null,null,null,{"$f":"IF(H1009+I1009+J1009+K1009+L1009=0,0,100-(H1009))","v":0},{"$f":"IF(H1009+I1009+J1009+K1009+L1009=0,0,100-(H1009+I1009))","v":0},{"$f":"IF(J1009+I1009+H1009+K1009+L1009=0,0,100-(J1009+I1009+H1009))","v":0},{"$f":"IF(K1009+J1009+I1009+H1009+L1009=0,0,100-(H1009+I1009+K1009+J1009))","v":0},null,null,null,null,{"$f":"1","v":1},{"$f":"1","v":1},"=1"]
[null,null,null,null,null,null,null,null,{"$f":"IF(I1009>I1010,I1010,I1009)","v":0},{"$f":"IF(J1009>J1010,J1010,J1009)","v":0},{"$f":"IF(K1009>K1010,K1010,K1009)","v":0},{"$f":"IF(L1009>L1010,L1010,L1009)","v":0},null,null,null,null,{"$f":"1","v":1},{"$f":"1","v":1},"=1"]
[null,null,null,null,null,null,null,null,null,null,null,{"$f":"IF(K1011+J1009+H1009+I1009>=100,0,L1011)","v":0},null,null,null,null,{"$f":"1","v":1},{"$f":"1","v":1},"=1"]
[null,null,null,null,null,null,"Scores",{"$f":"IF(H1006=0,0,0.01*(H1009*H1014))","v":0},{"$f":"IF(I1006=0,0,0.01*(I1011*I1014))","v":0},{"$f":"IF(J1006=0,0,0.01*(J1011*J1014))","v":0},{"$f":"IF(K1006=0,0,0.01*(K1011*K1014))","v":0},{"$f":"IF(L1006=0,0,0.01*(L1012*L1014))","v":0},null,null,null,null,{"$f":"1","v":1},{"$f":"1","v":1},"=1"]
[null,null,null,null,null,null,null,3,2.5,2,1.5,1,"Total",null,null,null,{"$f":"1","v":1},{"$f":"1","v":1},"=1"]
[null,null,"INVENTAR (2)",null,null,"Velg elementtype:",null,null,null,null,null,null,null,null,null,null,{"$f":"IF(freq13>=4,0,1)","v":1},{"$f":"1","v":1},"=1",null,{"$f":"IF(ISERROR(VLOOKUP(G1015,$T$1249:$U$1250,2,FALSE)),\"\",VLOOKUP(G1015,$T$1249:$U$1250,2,FALSE))","v":""},null,null,{"$f":"IF($R$15=0,0,IF($G$994>=2,0,1))","v":0}]
[null,null,null,{"$f":"IF(G1025=\"\",\"\",IF(P1026>=1,\"NB! Volum av nivåene kan ikke være større enn det totale volumet for hvert enkelt materiale!\",IF(AND(P1025=TRUE,type1=2,G1025>100),\"NB! Prosentandel for hvert nivå må registreres i prosent av det vurderte bygningselementet, og den totale prosentandelen kan ikke være større enn den totale prosent av hvert enkelt materiale!\",\"\")))","v":""},null,null,null,null,null,null,null,null,null,null,null,null,1,{"$f":"1","v":1},"=1",null,null,null,null,0]
[null,null,{"$f":"IF(AND(G1015=\"\",Volum=\"\"),\"\",IF(AND(U1015=1,L1025=\"\"),\"REGISTRER FØRST DET TOTALE VOLUMET  AV MATERIALER I CELLEN NEDERST TIL HØYRE\",IF(G1017:G1024=\"\",\"\",IF(G1025>100,\"Mengden materialer kan ikke overstige det  totale volumet!\",IF(G1025<80,\"Minst 80 % av de relevante materialer må vurderes\",\"\")))))","v":""},null,"Mat. 1",null,null,null,null,null,null,null,{"$f":"IF(N1017=0,0,IF(P1025=TRUE,\"0\",IF(SUM(H1033+I1033+J1033+K1033+L1033)>=3,\"3\",SUM(H1033+I1033+J1033+K1033+L1033))))","v":0},{"$f":"IF(AND(U1015=1,L1025=\"\"),0,IF(OR(NOT(D1016=\"\"),NOT(C1017=\"\")),0,IF(ISERROR(N1026),\"0\",N1026)))","v":0},null,{"$f":"IF(SUM(H1017:L1017)>G1017,\"1\",\"0\")","v":"0"},1,{"$f":"1","v":1},"=1",null,null,null,null,0]
[null,null,null,null,"Mat. 2",null,null,null,null,null,null,null,null,{"$f":"IF(OR(G1025=\"\",G1025=0,G1025>100),\"\",IF(N1026=0,\"\",IF(N1026<80,\"Ingen poeng oppnådd,\nmindre enn 80 % oppfyller kravet\",C1017)))","v":""},null,{"$f":"IF(SUM(H1018:L1018)>G1018,\"1\",\"0\")","v":"0"},1,{"$f":"1","v":1},"=1",null,null,null,null,0]
[null,null,null,null,"Mat. 3",null,null,null,null,null,null,null,null,null,null,"0",1,{"$f":"1","v":1},"=1",null,null,null,null,0]
[null,null,null,null,"Mat. 4",null,null,null,null,null,null,null,null,null,null,"0",1,{"$f":"1","v":1},"=1",null,null,null,null,0]
[null,null,null,null,"Mat. 5",null,null,null,null,null,null,null,null,null,null,"0",1,{"$f":"1","v":1},"=1",null,null,null,null,0]
[null,null,null,null,"Mat. 6",null,null,null,null,null,null,null,null,null,null,"0",1,{"$f":"1","v":1},"=1",null,null,null,null,0]
[null,null,null,null,"Mat. 7",null,null,null,null,null,null,null,null,null,null,"0",1,{"$f":"1","v":1},"=1",null,null,null,null,0]
[null,null,null,null,"Mat. 8",null,null,null,null,null,null,null,null,null,null,"0",1,{"$f":"1","v":1},"=1",null,null,null,null,0]
[null,null,null,"Totalt % av bygningselementet (relevante materialer) vurdert:",null,null,{"$f":"IF(U1015=\"\",\"\",IF(U1015+L1025=1,\"\",IF(SUM(G1017:G1024)=0,\"\",IF(U1015=1,IF(OR(G1017>L1025,G1018>L1025,G1019>L1025,G1020>L1025,G1021>L1025,G1022>L1025,G1023>L1025,G1024>L1025,SUM(G1017:G1024)>L1025),ROUND(SUM(G1017:G1024)/L1025,2)*100,((SUM(G1017:G1024)/L1025)*100)),IF(U1015=2,IF(OR(G1017>100,G1018>100,G1019>100,G1020>100,G1021>100,G1022>100,G1023>100,G1024>100,SUM(G1017:G1024)>100),SUM(G1017:G1024),SUM(G1017:G1024)))))))","v":""},"Totalt volum:",null,null,null,null,null,null,null,{"$f":"IF(OR(H1026>G1026,K1026>G1026,L1026>G1026),TRUE,FALSE)","v":false},1,{"$f":"1","v":1},"=1",null,null,null,null,0]
[null,null,{"$f":"IF(G1025=0,\"0\",IF(U1015=2,\"0\",IF(U1015=1,(G1025/100)*100,IF(U1015=2,(G1025/100)*100))))","v":false},{"$f":"G1025","v":""},null,"Total",{"$f":"IF(SUM(G1017:G1024)=0,\"1\",SUM(G1017:G1024))","v":"1"},{"$f":"SUM(H1017:H1024)","v":0},{"$f":"SUM(I1017:I1024)","v":0},{"$f":"SUM(J1017:J1024)","v":0},{"$f":"SUM(K1017:K1024)","v":0},{"$f":"SUM(L1017:L1024)","v":0},null,{"$f":"SUM(H1027:L1027)","v":0},{"$f":"IF(G1025<80,\"0,00\",IF(P1026>0,\"0\",IF(G1025>100,\"0,00\",IF(N1017>=80,M1017,IF(N1017<80,0)))))","v":"0,00"},{"$f":"P1017+P1018+P1019+P1020+P1021+P1022+P1023+P1024","v":0},{"$f":"1","v":1},{"$f":"1","v":1},"=1"]
[null,null,null,null,null,null,"Percentage",{"$f":"IF(H1026+G1026=0,\"0\",(H1026/G1026)*100)","v":0},{"$f":"IF(I1026+G1026=0,\"0\",(I1026/G1026)*100)","v":0},{"$f":"IF(J1026+G1026=0,\"0\",(J1026/G1026)*100)","v":0},{"$f":"IF(K1026+G1026=0,\"0\",(K1026/G1026)*100)","v":0},{"$f":"IF(L1026+G1026=0,\"0\",(L1026/G1026)*100)","v":0},null,100,null,null,{"$f":"1","v":1},{"$f":"1","v":1},"=1"]
[null,null,null,null,null,{"$f":"IF(U1015=1,((G1026/100)*80))","v":false},"% of 80",{"$f":"(H1027/80)*100","v":0},{"$f":"(I1027/80)*100","v":0},{"$f":"(J1027/80)*100","v":0},{"$f":"(K1027/80)*100","v":0},{"$f":"(L1027/80)*100","v":0},null,null,null,null,{"$f":"1","v":1},{"$f":"1","v":1},"=1"]
[null,null,null,null,null,null,"Limiter",{"$f":"IF(H1028>100,\"100\",H1028)","v":0},{"$f":"IF(I1028>100,\"100\",I1028)","v":0},{"$f":"IF(J1028>100,\"100\",J1028)","v":0},{"$f":"IF(K1028>100,\"100\",K1028)","v":0},{"$f":"IF(L1028>100,\"100\",L1028)","v":0},null,null,null,null,{"$f":"1","v":1},{"$f":"1","v":1},"=1"]
[null,null,null,null,null,null,null,null,{"$f":"IF(H1029+I1029+J1029+K1029+L1029=0,0,100-(H1029))","v":0},{"$f":"IF(H1029+I1029+J1029+K1029+L1029=0,0,100-(H1029+I1029))","v":0},{"$f":"IF(J1029+I1029+H1029+K1029+L1029=0,0,100-(J1029+I1029+H1029))","v":0},{"$f":"IF(K1029+J1029+I1029+H1029+L1029=0,0,100-(H1029+I1029+K1029+J1029))","v":0},null,null,null,null,{"$f":"1","v":1},{"$f":"1","v":1},"=1"]
[null,null,null,null,null,null,null,null,{"$f":"IF(I1029>I1030,I1030,I1029)","v":0},{"$f":"IF(J1029>J1030,J1030,J1029)","v":0},{"$f":"IF(K1029>K1030,K1030,K1029)","v":0},{"$f":"IF(L1029>L1030,L1030,L1029)","v":0},null,null,null,null,{"$f":"1","v":1},{"$f":"1","v":1},"=1"]
[null,null,null,null,null,null,null,null,null,null,null,{"$f":"IF(K1031+J1029+H1029+I1029>=100,0,L1031)","v":0},null,null,null,null,{"$f":"1","v":1},{"$f":"1","v":1},"=1"]
[null,null,null,null,null,null,"Scores",{"$f":"IF(H1026=0,0,0.01*(H1029*H1034))","v":0},{"$f":"IF(I1026=0,0,0.01*(I1031*I1034))","v":0},{"$f":"IF(J1026=0,0,0.01*(J1031*J1034))","v":0},{"$f":"IF(K1026=0,0,0.01*(K1031*K1034))","v":0},{"$f":"IF(L1026=0,0,0.01*(L1032*L1034))","v":0},null,null,null,null,{"$f":"1","v":1},{"$f":"1","v":1},"=1"]
[null,null,null,null,null,null,null,3,2.5,2,1.5,1,"Total",null,null,null,{"$f":"1","v":1},{"$f":"1","v":1},"=1"]
[null,null,"INVENTAR (3)",null,null,"Velg elementtype:",null,null,null,null,null,null,null,null,null,null,{"$f":"IF(freq13>=5,0,1)","v":1},{"$f":"1","v":1},"=1",null,{"$f":"IF(ISERROR(VLOOKUP(G1035,$T$1249:$U$1250,2,FALSE)),\"\",VLOOKUP(G1035,$T$1249:$U$1250,2,FALSE))","v":""},null,null,{"$f":"IF($R$15=0,0,IF($G$994>=3,0,1))","v":0}]
[null,null,null,{"$f":"IF(G1045=\"\",\"\",IF(P1046>=1,\"NB! Volum av nivåene kan ikke være større enn det totale volumet for hvert enkelt materiale!\",IF(AND(P1045=TRUE,type1=2,G1045>100),\"NB! Prosentandel for hvert nivå må registreres i prosent av det vurderte bygningselementet, og den totale prosentandelen kan ikke være større enn den totale prosent av hvert enkelt materiale!\",\"\")))","v":""},null,null,null,null,null,null,null,null,null,null,null,null,1,{"$f":"1","v":1},"=1",null,null,null,null,0]
[null,null,{"$f":"IF(AND(G1035=\"\",Volum=\"\"),\"\",IF(AND(U1035=1,L1045=\"\"),\"REGISTRER FØRST DET TOTALE VOLUMET  AV MATERIALER I CELLEN NEDERST TIL HØYRE\",IF(G1037:G1044=\"\",\"\",IF(G1045>100,\"Mengden materialer kan ikke overstige det  totale volumet!\",IF(G1045<80,\"Minst 80 % av de relevante materialer må vurderes\",\"\")))))","v":""},null,"Mat. 1",null,null,null,null,null,null,null,{"$f":"IF(N1037=0,0,IF(P1045=TRUE,\"0\",IF(SUM(H1053+I1053+J1053+K1053+L1053)>=3,\"3\",SUM(H1053+I1053+J1053+K1053+L1053))))","v":0},{"$f":"IF(AND(U1035=1,L1045=\"\"),0,IF(OR(NOT(D1036=\"\"),NOT(C1037=\"\")),0,IF(ISERROR(N1046),\"0\",N1046)))","v":0},null,{"$f":"IF(SUM(H1037:L1037)>G1037,\"1\",\"0\")","v":"0"},1,{"$f":"1","v":1},"=1",null,null,null,null,0]
[null,null,null,null,"Mat. 2",null,null,null,null,null,null,null,null,{"$f":"IF(OR(G1045=\"\",G1045=0,G1045>100),\"\",IF(N1046=0,\"\",IF(N1046<80,\"Ingen poeng oppnådd,\nmindre enn 80 % oppfyller kravet\",C1037)))","v":""},null,{"$f":"IF(SUM(H1038:L1038)>G1038,\"1\",\"0\")","v":"0"},1,{"$f":"1","v":1},"=1",null,null,null,null,0]
[null,null,null,null,"Mat. 3",null,null,null,null,null,null,null,null,null,null,"0",1,{"$f":"1","v":1},"=1",null,null,null,null,0]
[null,null,null,null,"Mat. 4",null,null,null,null,null,null,null,null,null,null,"0",1,{"$f":"1","v":1},"=1",null,null,null,null,0]
[null,null,null,null,"Mat. 5",null,null,null,null,null,null,null,null,null,null,"0",1,{"$f":"1","v":1},"=1",null,null,null,null,0]
[null,null,null,null,"Mat. 6",null,null,null,null,null,null,null,null,null,null,"0",1,{"$f":"1","v":1},"=1",null,null,null,null,0]
[null,null,null,null,"Mat. 7",null,null,null,null,null,null,null,null,null,null,"0",1,{"$f":"1","v":1},"=1",null,null,null,null,0]
[null,null,null,null,"Mat. 8",null,null,null,null,null,null,null,null,null,null,"0",1,{"$f":"1","v":1},"=1",null,null,null,null,0]
[null,null,null,"Totalt % av bygningselementet (relevante materialer) vurdert:",null,null,{"$f":"IF(U1035=\"\",\"\",IF(U1035+L1045=1,\"\",IF(SUM(G1037:G1044)=0,\"\",IF(U1035=1,IF(OR(G1037>L1045,G1038>L1045,G1039>L1045,G1040>L1045,G1041>L1045,G1042>L1045,G1043>L1045,G1044>L1045,SUM(G1037:G1044)>L1045),ROUND(SUM(G1037:G1044)/L1045,2)*100,((SUM(G1037:G1044)/L1045)*100)),IF(U1035=2,IF(OR(G1037>100,G1038>100,G1039>100,G1040>100,G1041>100,G1042>100,G1043>100,G1044>100,SUM(G1037:G1044)>100),SUM(G1037:G1044),SUM(G1037:G1044)))))))","v":""},"Totalt volum:",null,null,null,null,null,null,null,{"$f":"IF(OR(H1046>G1046,K1046>G1046,L1046>G1046),TRUE,FALSE)","v":false},1,{"$f":"1","v":1},"=1",null,null,null,null,0]
[null,null,{"$f":"IF(G1045=0,\"0\",IF(U1035=2,\"0\",IF(U1035=1,(G1045/100)*100,IF(U1035=2,(G1045/100)*100))))","v":false},{"$f":"G1045","v":""},null,"Total",{"$f":"IF(SUM(G1037:G1044)=0,\"1\",SUM(G1037:G1044))","v":"1"},{"$f":"SUM(H1037:H1044)","v":0},{"$f":"SUM(I1037:I1044)","v":0},{"$f":"SUM(J1037:J1044)","v":0},{"$f":"SUM(K1037:K1044)","v":0},{"$f":"SUM(L1037:L1044)","v":0},null,{"$f":"SUM(H1047:L1047)","v":0},{"$f":"IF(G1045<80,\"0,00\",IF(P1046>0,\"0\",IF(G1045>100,\"0,00\",IF(N1037>=80,M1037,IF(N1037<80,0)))))","v":"0,00"},{"$f":"P1037+P1038+P1039+P1040+P1041+P1042+P1043+P1044","v":0},{"$f":"1","v":1},{"$f":"1","v":1},"=1"]
[null,null,null,null,null,null,"Percentage",{"$f":"IF(H1046+G1046=0,\"0\",(H1046/G1046)*100)","v":0},{"$f":"IF(I1046+G1046=0,\"0\",(I1046/G1046)*100)","v":0},{"$f":"IF(J1046+G1046=0,\"0\",(J1046/G1046)*100)","v":0},{"$f":"IF(K1046+G1046=0,\"0\",(K1046/G1046)*100)","v":0},{"$f":"IF(L1046+G1046=0,\"0\",(L1046/G1046)*100)","v":0},null,100,null,null,{"$f":"1","v":1},{"$f":"1","v":1},"=1"]
[null,null,null,null,null,{"$f":"IF(U1035=1,((G1046/100)*80))","v":false},"% of 80",{"$f":"(H1047/80)*100","v":0},{"$f":"(I1047/80)*100","v":0},{"$f":"(J1047/80)*100","v":0},{"$f":"(K1047/80)*100","v":0},{"$f":"(L1047/80)*100","v":0},null,null,null,null,{"$f":"1","v":1},{"$f":"1","v":1},"=1"]
[null,null,null,null,null,null,"Limiter",{"$f":"IF(H1048>100,\"100\",H1048)","v":0},{"$f":"IF(I1048>100,\"100\",I1048)","v":0},{"$f":"IF(J1048>100,\"100\",J1048)","v":0},{"$f":"IF(K1048>100,\"100\",K1048)","v":0},{"$f":"IF(L1048>100,\"100\",L1048)","v":0},null,null,null,null,{"$f":"1","v":1},{"$f":"1","v":1},"=1"]
[null,null,null,null,null,null,null,null,{"$f":"IF(H1049+I1049+J1049+K1049+L1049=0,0,100-(H1049))","v":0},{"$f":"IF(H1049+I1049+J1049+K1049+L1049=0,0,100-(H1049+I1049))","v":0},{"$f":"IF(J1049+I1049+H1049+K1049+L1049=0,0,100-(J1049+I1049+H1049))","v":0},{"$f":"IF(K1049+J1049+I1049+H1049+L1049=0,0,100-(H1049+I1049+K1049+J1049))","v":0},null,null,null,null,{"$f":"1","v":1},{"$f":"1","v":1},"=1"]
[null,null,null,null,null,null,null,null,{"$f":"IF(I1049>I1050,I1050,I1049)","v":0},{"$f":"IF(J1049>J1050,J1050,J1049)","v":0},{"$f":"IF(K1049>K1050,K1050,K1049)","v":0},{"$f":"IF(L1049>L1050,L1050,L1049)","v":0},null,null,null,null,{"$f":"1","v":1},{"$f":"1","v":1},"=1"]
[null,null,null,null,null,null,null,null,null,null,null,{"$f":"IF(K1051+J1049+H1049+I1049>=100,0,L1051)","v":0},null,null,null,null,{"$f":"1","v":1},{"$f":"1","v":1},"=1"]
[null,null,null,null,null,null,"Scores",{"$f":"IF(H1046=0,0,0.01*(H1049*H1054))","v":0},{"$f":"IF(I1046=0,0,0.01*(I1051*I1054))","v":0},{"$f":"IF(J1046=0,0,0.01*(J1051*J1054))","v":0},{"$f":"IF(K1046=0,0,0.01*(K1051*K1054))","v":0},{"$f":"IF(L1046=0,0,0.01*(L1052*L1054))","v":0},null,null,null,null,{"$f":"1","v":1},{"$f":"1","v":1},"=1"]
[null,null,null,null,null,null,null,3,2.5,2,1.5,1,"Total",null,null,null,{"$f":"1","v":1},{"$f":"1","v":1},"=1"]
[null,null,"INVENTAR (4)",null,null,"Velg elementtype:",null,null,null,null,null,null,null,null,null,null,{"$f":"IF(freq13>=6,0,1)","v":1},{"$f":"1","v":1},"=1",null,{"$f":"IF(ISERROR(VLOOKUP(G1055,$T$1249:$U$1250,2,FALSE)),\"\",VLOOKUP(G1055,$T$1249:$U$1250,2,FALSE))","v":""},null,null,{"$f":"IF($R$15=0,0,IF($G$994>=4,0,1))","v":0}]
[null,null,null,{"$f":"IF(G1065=\"\",\"\",IF(P1066>=1,\"NB! Volum av nivåene kan ikke være større enn det totale volumet for hvert enkelt materiale!\",IF(AND(P1065=TRUE,type1=2,G1065>100),\"NB! Prosentandel for hvert nivå må registreres i prosent av det vurderte bygningselementet, og den totale prosentandelen kan ikke være større enn den totale prosent av hvert enkelt materiale!\",\"\")))","v":""},null,null,null,null,null,null,null,null,null,null,null,null,1,{"$f":"1","v":1},"=1",null,null,null,null,0]
[null,null,{"$f":"IF(AND(G1055=\"\",Volum=\"\"),\"\",IF(AND(U1055=1,L1065=\"\"),\"REGISTRER FØRST DET TOTALE VOLUMET  AV MATERIALER I CELLEN NEDERST TIL HØYRE\",IF(G1057:G1064=\"\",\"\",IF(G1065>100,\"Mengden materialer kan ikke overstige det  totale volumet!\",IF(G1065<80,\"Minst 80 % av de relevante materialer må vurderes\",\"\")))))","v":""},null,"Mat. 1",null,null,null,null,null,null,null,{"$f":"IF(N1057=0,0,IF(P1065=TRUE,\"0\",IF(SUM(H1073+I1073+J1073+K1073+L1073)>=3,\"3\",SUM(H1073+I1073+J1073+K1073+L1073))))","v":0},{"$f":"IF(AND(U1055=1,L1065=\"\"),0,IF(OR(NOT(D1056=\"\"),NOT(C1057=\"\")),0,IF(ISERROR(N1066),\"0\",N1066)))","v":0},null,{"$f":"IF(SUM(H1057:L1057)>G1057,\"1\",\"0\")","v":"0"},1,{"$f":"1","v":1},"=1",null,null,null,null,0]
[null,null,null,null,"Mat. 2",null,null,null,null,null,null,null,null,{"$f":"IF(OR(G1065=\"\",G1065=0,G1065>100),\"\",IF(N1066=0,\"\",IF(N1066<80,\"Ingen poeng oppnådd,\nmindre enn 80 % oppfyller kravet\",C1057)))","v":""},null,{"$f":"IF(SUM(H1058:L1058)>G1058,\"1\",\"0\")","v":"0"},1,{"$f":"1","v":1},"=1",null,null,null,null,0]
[null,null,null,null,"Mat. 3",null,null,null,null,null,null,null,null,null,null,"0",1,{"$f":"1","v":1},"=1",null,null,null,null,0]
[null,null,null,null,"Mat. 4",null,null,null,null,null,null,null,null,null,null,"0",1,{"$f":"1","v":1},"=1",null,null,null,null,0]
[null,null,null,null,"Mat. 5",null,null,null,null,null,null,null,null,null,null,"0",1,{"$f":"1","v":1},"=1",null,null,null,null,0]
[null,null,null,null,"Mat. 6",null,null,null,null,null,null,null,null,null,null,"0",1,{"$f":"1","v":1},"=1",null,null,null,null,0]
[null,null,null,null,"Mat. 7",null,null,null,null,null,null,null,null,null,null,"0",1,{"$f":"1","v":1},"=1",null,null,null,null,0]
[null,null,null,null,"Mat. 8",null,null,null,null,null,null,null,null,null,null,"0",1,{"$f":"1","v":1},"=1",null,null,null,null,0]
[null,null,null,"Totalt % av bygningselementet (relevante materialer) vurdert:",null,null,{"$f":"IF(U1055=\"\",\"\",IF(U1055+L1065=1,\"\",IF(SUM(G1057:G1064)=0,\"\",IF(U1055=1,IF(OR(G1057>L1065,G1058>L1065,G1059>L1065,G1060>L1065,G1061>L1065,G1062>L1065,G1063>L1065,G1064>L1065,SUM(G1057:G1064)>L1065),ROUND(SUM(G1057:G1064)/L1065,2)*100,((SUM(G1057:G1064)/L1065)*100)),IF(U1055=2,IF(OR(G1057>100,G1058>100,G1059>100,G1060>100,G1061>100,G1062>100,G1063>100,G1064>100,SUM(G1057:G1064)>100),SUM(G1057:G1064),SUM(G1057:G1064)))))))","v":""},"Totalt volum:",null,null,null,null,null,null,null,{"$f":"IF(OR(H1066>G1066,K1066>G1066,L1066>G1066),TRUE,FALSE)","v":false},1,{"$f":"1","v":1},"=1",null,null,null,null,0]
[null,null,{"$f":"IF(G1065=0,\"0\",IF(U1055=2,\"0\",IF(U1055=1,(G1065/100)*100,IF(U1055=2,(G1065/100)*100))))","v":false},{"$f":"G1065","v":""},null,"Total",{"$f":"IF(SUM(G1057:G1064)=0,\"1\",SUM(G1057:G1064))","v":"1"},{"$f":"SUM(H1057:H1064)","v":0},{"$f":"SUM(I1057:I1064)","v":0},{"$f":"SUM(J1057:J1064)","v":0},{"$f":"SUM(K1057:K1064)","v":0},{"$f":"SUM(L1057:L1064)","v":0},null,{"$f":"SUM(H1067:L1067)","v":0},{"$f":"IF(G1065<80,\"0,00\",IF(P1066>0,\"0\",IF(G1065>100,\"0,00\",IF(N1057>=80,M1057,IF(N1057<80,0)))))","v":"0,00"},{"$f":"P1057+P1058+P1059+P1060+P1061+P1062+P1063+P1064","v":0},{"$f":"1","v":1},{"$f":"1","v":1},"=1"]
[null,null,null,null,null,null,"Percentage",{"$f":"IF(H1066+G1066=0,\"0\",(H1066/G1066)*100)","v":0},{"$f":"IF(I1066+G1066=0,\"0\",(I1066/G1066)*100)","v":0},{"$f":"IF(J1066+G1066=0,\"0\",(J1066/G1066)*100)","v":0},{"$f":"IF(K1066+G1066=0,\"0\",(K1066/G1066)*100)","v":0},{"$f":"IF(L1066+G1066=0,\"0\",(L1066/G1066)*100)","v":0},null,100,null,null,{"$f":"1","v":1},{"$f":"1","v":1},"=1"]
[null,null,null,null,null,{"$f":"IF(U1055=1,((G1066/100)*80))","v":false},"% of 80",{"$f":"(H1067/80)*100","v":0},{"$f":"(I1067/80)*100","v":0},{"$f":"(J1067/80)*100","v":0},{"$f":"(K1067/80)*100","v":0},{"$f":"(L1067/80)*100","v":0},null,null,null,null,{"$f":"1","v":1},{"$f":"1","v":1},"=1"]
[null,null,null,null,null,null,"Limiter",{"$f":"IF(H1068>100,\"100\",H1068)","v":0},{"$f":"IF(I1068>100,\"100\",I1068)","v":0},{"$f":"IF(J1068>100,\"100\",J1068)","v":0},{"$f":"IF(K1068>100,\"100\",K1068)","v":0},{"$f":"IF(L1068>100,\"100\",L1068)","v":0},null,null,null,null,{"$f":"1","v":1},{"$f":"1","v":1},"=1"]
[null,null,null,null,null,null,null,null,{"$f":"IF(H1069+I1069+J1069+K1069+L1069=0,0,100-(H1069))","v":0},{"$f":"IF(H1069+I1069+J1069+K1069+L1069=0,0,100-(H1069+I1069))","v":0},{"$f":"IF(J1069+I1069+H1069+K1069+L1069=0,0,100-(J1069+I1069+H1069))","v":0},{"$f":"IF(K1069+J1069+I1069+H1069+L1069=0,0,100-(H1069+I1069+K1069+J1069))","v":0},null,null,null,null,{"$f":"1","v":1},{"$f":"1","v":1},"=1"]
[null,null,null,null,null,null,null,null,{"$f":"IF(I1069>I1070,I1070,I1069)","v":0},{"$f":"IF(J1069>J1070,J1070,J1069)","v":0},{"$f":"IF(K1069>K1070,K1070,K1069)","v":0},{"$f":"IF(L1069>L1070,L1070,L1069)","v":0},null,null,null,null,{"$f":"1","v":1},{"$f":"1","v":1},"=1"]
[null,null,null,null,null,null,null,null,null,null,null,{"$f":"IF(K1071+J1069+H1069+I1069>=100,0,L1071)","v":0},null,null,null,null,{"$f":"1","v":1},{"$f":"1","v":1},"=1"]
[null,null,null,null,null,null,"Scores",{"$f":"IF(H1066=0,0,0.01*(H1069*H1074))","v":0},{"$f":"IF(I1066=0,0,0.01*(I1071*I1074))","v":0},{"$f":"IF(J1066=0,0,0.01*(J1071*J1074))","v":0},{"$f":"IF(K1066=0,0,0.01*(K1071*K1074))","v":0},{"$f":"IF(L1066=0,0,0.01*(L1072*L1074))","v":0},null,null,null,null,{"$f":"1","v":1},{"$f":"1","v":1},"=1"]
[null,null,null,null,null,null,null,3,2.5,2,1.5,1,"Total",null,null,null,{"$f":"1","v":1},{"$f":"1","v":1},"=1"]
[null,null,"BESLAG",null,null,"Velg antall beslag du ønsker å vurdere (deretter trykk «velg»):",null,null,null,null,null,null,null,null,{"$f":"IF(ISERROR(O1087+O1107+O1127+O1147)/V1076,\"\",(O1087+O1107+O1127+O1147)/V1076)","v":0},null,{"$f":"0","v":0},{"$f":"1","v":1},"=HVIS(asstype=3;0;HVIS(typescheme=2;0;1))",{"$f":"VLOOKUP(G1075,$T$1242:$U$1246,2,FALSE)","v":2}]
[null,null,"BESLAG (1)",null,null,"Velg elementtype:",null,null,null,null,null,null,null,null,null,null,{"$f":"IF(freq14>=3,0,1)","v":1},{"$f":"1","v":1},"=HVIS(asstype=3;0;HVIS(typescheme=2;0;1))",null,{"$f":"IF(ISERROR(VLOOKUP(G1076,$T$1249:$U$1250,2,FALSE)),\"\",VLOOKUP(G1076,$T$1249:$U$1250,2,FALSE))","v":""},{"$f":"IF(freq14=3,1,IF(freq14=4,2,IF(freq14=5,3,IF(freq14=6,4,1))))","v":1}]
[null,null,null,{"$f":"IF(P1086=TRUE,\"NB! Volum av nivåene kan ikke være større enn det totale volumet for hvert enkelt materiale!\",IF(G1086>100,\"NB! Prosentandel for hvert nivå må registreres i prosent av det vurderte bygningselementet, og den totale prosentandelen kan ikke være større enn den totale prosent av hvert enkelt materiale!\",\"\"))","v":""},null,null,null,null,null,null,null,null,null,null,null,null,1,{"$f":"1","v":1},"=HVIS(asstype=3;0;HVIS(typescheme=2;0;1))"]
[null,null,{"$f":"IF(G1076=\"\",\"\",IF(SUM(G1078:G1085)=0,\"\",IF(U1076=1,IF(U1076+L1086=1,\"REGISTRER DET TOTALE VOLUMET AV RELEVANTE MATERIALER\",IF((U1076+G1086+L1086)=1,\"REGISTRER DET TOTALE VOLUMET AV RELEVANTE MATERIALER\",IF(ISERROR(C1087),\"REGISTRER DET TOTALE VOLUMET AV RELEVANTE MATERIALER\",IF(OR(G1078>L1086,G1079>L1086,G1080>L1086,G1081>L1086,G1082>L1086,G1083>L1086,G1084>L1086,G1085>L1086),\"Volumet av de enkelte materialer kan ikke overstige mengden relevante materialer\",IF(SUM(G1078:G1085)>L1086,\"Den totale mengden av materialer kan ikke overstige det  totale volumet av relevante materialer\",\"\"))))),IF(U1076=2,IF(SUM(G1078:G1085)<80,\"Minst 80 % av de relevante materialer må vurderes, vennligst beregn på nytt.\",IF(OR(G1078>100,G1079>100,G1080>100,G1081>100,G1082>100,G1083>100,G1084>100,G1085>100),\"Prosentandel av de enkelte materialerer kan ikke overstige 100\",IF(SUM(G1078:G1085)>100,\"Den totale prosentandelen av materialer kan ikke overstige 100\",\"\")))))))","v":""},null,"Mat. 1",null,null,null,null,null,null,null,{"$f":"IF(SUM(H1094+I1094+J1094+K1094+L1094)>=3,\"3,00\",SUM(H1094+I1094+J1094+K1094+L1094))","v":0},{"$f":"IF(AND(U1076=1,L1086=\"\"),0,IF(OR(NOT(D1077=\"\"),NOT(C1078=\"\"),NOT(N1079=\"\")),0,IF(ISERROR(N1087),\"0\",N1087)))","v":0},null,{"$f":"IF(SUM(H1078:L1078)>G1078,\"1\",\"0\")","v":"0"},1,{"$f":"1","v":1},"=HVIS(asstype=3;0;HVIS(typescheme=2;0;1))"]
[null,null,null,null,"Mat. 2",null,null,null,null,null,null,null,null,{"$f":"IF(AND(U1076=1,L1086=\"\"),C1078,+IF(G1087>L1086,C1078,(IF(N1087<80,\"Ingen poeng oppnådd,\nmindre enn 80 % oppfyller kravet\",\"\"))))","v":""},null,{"$f":"IF(SUM(H1079:L1079)>G1079,\"1\",\"0\")","v":"0"},1,{"$f":"1","v":1},"=HVIS(asstype=3;0;HVIS(typescheme=2;0;1))"]
[null,null,null,null,"Mat. 3",null,null,null,null,null,null,null,null,null,null,"0",1,{"$f":"1","v":1},"=HVIS(asstype=3;0;HVIS(typescheme=2;0;1))"]
[null,null,null,null,"Mat. 4",null,null,null,null,null,null,null,null,null,null,"0",1,{"$f":"1","v":1},"=HVIS(asstype=3;0;HVIS(typescheme=2;0;1))"]
[null,null,null,null,"Mat. 5",null,null,null,null,null,null,null,null,null,null,"0",1,{"$f":"1","v":1},"=HVIS(asstype=3;0;HVIS(typescheme=2;0;1))"]
[null,null,null,null,"Mat. 6",null,null,null,null,null,null,null,null,null,null,"0",1,{"$f":"1","v":1},"=HVIS(asstype=3;0;HVIS(typescheme=2;0;1))"]
[null,null,null,null,"Mat. 7",null,null,null,null,null,null,null,null,null,null,"0",1,{"$f":"1","v":1},"=HVIS(asstype=3;0;HVIS(typescheme=2;0;1))"]
[null,null,null,null,"Mat. 8",null,null,null,null,null,null,null,null,null,null,"0",1,{"$f":"1","v":1},"=HVIS(asstype=3;0;HVIS(typescheme=2;0;1))"]
[null,null,null,null,"Totalt % av bygningselementet (relevante materialer) vurdert:",null,{"$f":"IF(U1076=\"\",0,IF(U1076+L1086=1,\"0\",IF(SUM(G1078:G1085)=0,\"0\",IF(U1076=1,IF(OR(G1078>L1086,G1079>L1086,G1080>L1086,G1081>L1086,G1082>L1086,G1083>L1086,G1084>L1086,G1085>L1086,SUM(G1078:G1085)>L1086),0,((SUM(G1078:G1085)/L1086)*100)),IF(U1076=2,IF(OR(G1078>100,G1079>100,G1080>100,G1081>100,G1082>100,G1083>100,G1084>100,G1085>100,SUM(G1078:G1085)>100),0,SUM(G1078:G1085)))))))","v":0},"Samlet volum for aktuelle elementer:",null,null,null,null,null,null,null,{"$f":"IF(OR(H1087>G1087,K1087>G1087,L1087>G1087),TRUE,FALSE)","v":false},1,{"$f":"1","v":1},"=HVIS(asstype=3;0;HVIS(typescheme=2;0;1))"]
[null,null,{"$f":"IF(G1086=0,\"0\",IF(U1079=2,\"0\",IF(U1079=1,(G1086/100)*100,IF(U1079=2,(G1086/100)*100))))","v":"0"},{"$f":"G1086","v":0},null,"Total",{"$f":"IF(SUM(G1078:G1085)=0,\"1\",SUM(G1078:G1085))","v":"1"},{"$f":"SUM(H1078:H1085)","v":0},{"$f":"SUM(I1078:I1085)","v":0},{"$f":"SUM(J1078:J1085)","v":0},{"$f":"SUM(K1078:K1085)","v":0},{"$f":"SUM(L1078:L1085)","v":0},null,{"$f":"SUM(H1088:L1088)","v":0},{"$f":"IF(G1086<80,\"0,00\",IF(P1087>0,\"0\",IF(G1086>100,\"0,00\",IF(N1078>=80,M1078,IF(N1078<80,0)))))","v":"0,00"},{"$f":"P1078+P1079+P1080+P1081+P1082+P1083+P1084+P1085","v":0},{"$f":"1","v":1},{"$f":"1","v":1},"=1"]
[null,null,null,null,null,null,"Percentage",{"$f":"IF(H1087+G1087=0,\"0\",(H1087/G1087)*100)","v":0},{"$f":"IF(I1087+G1087=0,\"0\",(I1087/G1087)*100)","v":0},{"$f":"IF(J1087+G1087=0,\"0\",(J1087/G1087)*100)","v":0},{"$f":"IF(K1087+G1087=0,\"0\",(K1087/G1087)*100)","v":0},{"$f":"IF(L1087+G1087=0,\"0\",(L1087/G1087)*100)","v":0},null,100,null,null,{"$f":"1","v":1},{"$f":"1","v":1},"=1"]
[null,null,null,null,null,{"$f":"IF(U1079=1,((G1087/100)*80))","v":false},"% of 80",{"$f":"(H1088/80)*100","v":0},{"$f":"(I1088/80)*100","v":0},{"$f":"(J1088/80)*100","v":0},{"$f":"(K1088/80)*100","v":0},{"$f":"(L1088/80)*100","v":0},null,null,null,null,{"$f":"1","v":1},{"$f":"1","v":1},"=1"]
[null,null,null,null,null,null,"Limiter",{"$f":"IF(H1089>100,\"100\",H1089)","v":0},{"$f":"IF(I1089>100,\"100\",I1089)","v":0},{"$f":"IF(J1089>100,\"100\",J1089)","v":0},{"$f":"IF(K1089>100,\"100\",K1089)","v":0},{"$f":"IF(L1089>100,\"100\",L1089)","v":0},null,null,null,null,{"$f":"1","v":1},{"$f":"1","v":1},"=1"]
[null,null,null,null,null,null,null,null,{"$f":"IF(H1090+I1090+J1090+K1090+L1090=0,0,100-(H1090))","v":0},{"$f":"IF(H1090+I1090+J1090+K1090+L1090=0,0,100-(H1090+I1090))","v":0},{"$f":"IF(J1090+I1090+H1090+K1090+L1090=0,0,100-(J1090+I1090+H1090))","v":0},{"$f":"IF(K1090+J1090+I1090+H1090+L1090=0,0,100-(H1090+I1090+K1090+J1090))","v":0},null,null,null,null,{"$f":"1","v":1},{"$f":"1","v":1},"=1"]
[null,null,null,null,null,null,null,null,{"$f":"IF(I1090>I1091,I1091,I1090)","v":0},{"$f":"IF(J1090>J1091,J1091,J1090)","v":0},{"$f":"IF(K1090>K1091,K1091,K1090)","v":0},{"$f":"IF(L1090>L1091,L1091,L1090)","v":0},null,null,null,null,{"$f":"1","v":1},{"$f":"1","v":1},"=1"]
[null,null,null,null,null,null,null,null,null,null,null,{"$f":"IF(K1092+J1090+H1090+I1090>=100,0,L1092)","v":0},null,null,null,null,{"$f":"1","v":1},{"$f":"1","v":1},"=1"]
[null,null,null,null,null,null,"Scores",{"$f":"IF(H1087=0,0,0.01*(H1090*H1095))","v":0},{"$f":"IF(I1087=0,0,0.01*(I1092*I1095))","v":0},{"$f":"IF(J1087=0,0,0.01*(J1092*J1095))","v":0},{"$f":"IF(K1087=0,0,0.01*(K1092*K1095))","v":0},{"$f":"IF(L1087=0,0,0.01*(L1093*L1095))","v":0},null,null,null,null,{"$f":"1","v":1},{"$f":"1","v":1},"=1"]
[null,null,null,null,null,null,null,3,2.5,2,1.5,1,"Total",null,null,null,{"$f":"1","v":1},{"$f":"1","v":1},"=1"]
[null,null,"BESLAG (2)",null,null,"Velg elementtype:",null,null,null,null,null,null,null,null,null,null,{"$f":"IF(freq14>=4,0,1)","v":1},{"$f":"1","v":1},"=1",null,{"$f":"IF(ISERROR(VLOOKUP(G1096,$T$1249:$U$1250,2,FALSE)),\"\",VLOOKUP(G1096,$T$1249:$U$1250,2,FALSE))","v":""}]
[null,null,null,{"$f":"IF(P1106=TRUE,\"NB! Volum av nivåene kan ikke være større enn det totale volumet for hvert enkelt materiale!\",IF(G1106>100,\"NB! Prosentandel for hvert nivå må registreres i prosent av det vurderte bygningselementet, og den totale prosentandelen kan ikke være større enn den totale prosent av hvert enkelt materiale!\",\"\"))","v":""},null,null,null,null,null,null,null,null,null,null,null,null,1,{"$f":"1","v":1},"=1"]
[null,null,{"$f":"IF(G1096=\"\",\"\",IF(SUM(G1098:G1105)=0,\"\",IF(U1096=1,IF(U1096+L1106=1,\"REGISTRER DET TOTALE VOLUMET AV RELEVANTE MATERIALER\",IF((U1096+G1106+L1106)=1,\"REGISTRER DET TOTALE VOLUMET AV RELEVANTE MATERIALER\",IF(ISERROR(C1107),\"REGISTRER DET TOTALE VOLUMET AV RELEVANTE MATERIALER\",IF(OR(G1098>L1106,G1099>L1106,G1100>L1106,G1101>L1106,G1102>L1106,G1103>L1106,G1104>L1106,G1105>L1106),\"Volumet av de enkelte materialer kan ikke overstige mengden relevante materialer\",IF(SUM(G1098:G1105)>L1106,\"Den totale mengden av materialer kan ikke overstige det  totale volumet av relevante materialer\",\"\"))))),IF(U1096=2,IF(SUM(G1098:G1105)<80,\"Minst 80 % av de relevante materialer må vurderes, vennligst beregn på nytt.\",IF(OR(G1098>100,G1099>100,G1100>100,G1101>100,G1102>100,G1103>100,G1104>100,G1105>100),\"Prosentandel av de enkelte materialerer kan ikke overstige 100\",IF(SUM(G1098:G1105)>100,\"Den totale prosentandelen av materialer kan ikke overstige 100\",\"\")))))))","v":""},null,"Mat. 1",null,null,null,null,null,null,null,{"$f":"IF(SUM(H1114+I1114+J1114+K1114+L1114)>=3,\"3,00\",SUM(H1114+I1114+J1114+K1114+L1114))","v":0},{"$f":"IF(AND(U1096=1,L1106=\"\"),0,IF(OR(NOT(D1097=\"\"),NOT(C1098=\"\"),NOT(N1099=\"\")),0,IF(ISERROR(N1107),\"0\",N1107)))","v":0},null,{"$f":"IF(SUM(H1098:L1098)>G1098,\"1\",\"0\")","v":"0"},1,{"$f":"1","v":1},"=1"]
[null,null,null,null,"Mat. 2",null,null,null,null,null,null,null,null,{"$f":"IF(AND(U1096=1,L1106=\"\"),C1098,+IF(G1107>L1106,C1098,(IF(N1107<80,\"Ingen poeng oppnådd,\nmindre enn 80 % oppfyller kravet\",\"\"))))","v":""},null,{"$f":"IF(SUM(H1099:L1099)>G1099,\"1\",\"0\")","v":"0"},1,{"$f":"1","v":1},"=1"]
[null,null,null,null,"Mat. 3",null,null,null,null,null,null,null,null,null,null,"0",1,{"$f":"1","v":1},"=1"]
[null,null,null,null,"Mat. 4",null,null,null,null,null,null,null,null,null,null,"0",1,{"$f":"1","v":1},"=1"]
[null,null,null,null,"Mat. 5",null,null,null,null,null,null,null,null,null,null,"0",1,{"$f":"1","v":1},"=1"]
[null,null,null,null,"Mat. 6",null,null,null,null,null,null,null,null,null,null,"0",1,{"$f":"1","v":1},"=1"]
[null,null,null,null,"Mat. 7",null,null,null,null,null,null,null,null,null,null,"0",1,{"$f":"1","v":1},"=1"]
[null,null,null,null,"Mat. 8",null,null,null,null,null,null,null,null,null,null,"0",1,{"$f":"1","v":1},"=1"]
[null,null,null,null,"Totalt % av bygningselementet (relevante materialer) vurdert:",null,{"$f":"IF(U1096=\"\",0,IF(U1096+L1106=1,\"0\",IF(SUM(G1098:G1105)=0,\"0\",IF(U1096=1,IF(OR(G1098>L1106,G1099>L1106,G1100>L1106,G1101>L1106,G1102>L1106,G1103>L1106,G1104>L1106,G1105>L1106,SUM(G1098:G1105)>L1106),0,((SUM(G1098:G1105)/L1106)*100)),IF(U1096=2,IF(OR(G1098>100,G1099>100,G1100>100,G1101>100,G1102>100,G1103>100,G1104>100,G1105>100,SUM(G1098:G1105)>100),0,SUM(G1098:G1105)))))))","v":0},"Samlet volum for aktuelle elementer:",null,null,null,null,null,null,null,{"$f":"IF(OR(H1107>G1107,K1107>G1107,L1107>G1107),TRUE,FALSE)","v":false},1,{"$f":"1","v":1},"=1"]
[null,null,{"$f":"IF(G1106=0,\"0\",IF(U1096=2,\"0\",IF(U1096=1,(G1106/100)*100,IF(U1096=2,(G1106/100)*100))))","v":"0"},{"$f":"G1106","v":0},null,"Total",{"$f":"IF(SUM(G1098:G1105)=0,\"1\",SUM(G1098:G1105))","v":"1"},{"$f":"SUM(H1098:H1105)","v":0},{"$f":"SUM(I1098:I1105)","v":0},{"$f":"SUM(J1098:J1105)","v":0},{"$f":"SUM(K1098:K1105)","v":0},{"$f":"SUM(L1098:L1105)","v":0},null,{"$f":"SUM(H1108:L1108)","v":0},{"$f":"IF(G1106<80,\"0,00\",IF(P1107>0,\"0\",IF(G1106>100,\"0,00\",IF(N1098>=80,M1098,IF(N1098<80,0)))))","v":"0,00"},{"$f":"P1098+P1099+P1100+P1101+P1102+P1103+P1104+P1105","v":0},{"$f":"1","v":1},{"$f":"1","v":1},"=1"]
[null,null,null,null,null,null,"Percentage",{"$f":"IF(H1107+G1107=0,\"0\",(H1107/G1107)*100)","v":0},{"$f":"IF(I1107+G1107=0,\"0\",(I1107/G1107)*100)","v":0},{"$f":"IF(J1107+G1107=0,\"0\",(J1107/G1107)*100)","v":0},{"$f":"IF(K1107+G1107=0,\"0\",(K1107/G1107)*100)","v":0},{"$f":"IF(L1107+G1107=0,\"0\",(L1107/G1107)*100)","v":0},null,100,null,null,{"$f":"1","v":1},{"$f":"1","v":1},"=1"]
[null,null,null,null,null,{"$f":"IF(U1096=1,((G1107/100)*80))","v":false},"% of 80",{"$f":"(H1108/80)*100","v":0},{"$f":"(I1108/80)*100","v":0},{"$f":"(J1108/80)*100","v":0},{"$f":"(K1108/80)*100","v":0},{"$f":"(L1108/80)*100","v":0},null,null,null,null,{"$f":"1","v":1},{"$f":"1","v":1},"=1"]
[null,null,null,null,null,null,"Limiter",{"$f":"IF(H1109>100,\"100\",H1109)","v":0},{"$f":"IF(I1109>100,\"100\",I1109)","v":0},{"$f":"IF(J1109>100,\"100\",J1109)","v":0},{"$f":"IF(K1109>100,\"100\",K1109)","v":0},{"$f":"IF(L1109>100,\"100\",L1109)","v":0},null,null,null,null,{"$f":"1","v":1},{"$f":"1","v":1},"=1"]
[null,null,null,null,null,null,null,null,{"$f":"IF(H1110+I1110+J1110+K1110+L1110=0,0,100-(H1110))","v":0},{"$f":"IF(H1110+I1110+J1110+K1110+L1110=0,0,100-(H1110+I1110))","v":0},{"$f":"IF(J1110+I1110+H1110+K1110+L1110=0,0,100-(J1110+I1110+H1110))","v":0},{"$f":"IF(K1110+J1110+I1110+H1110+L1110=0,0,100-(H1110+I1110+K1110+J1110))","v":0},null,null,null,null,{"$f":"1","v":1},{"$f":"1","v":1},"=1"]
[null,null,null,null,null,null,null,null,{"$f":"IF(I1110>I1111,I1111,I1110)","v":0},{"$f":"IF(J1110>J1111,J1111,J1110)","v":0},{"$f":"IF(K1110>K1111,K1111,K1110)","v":0},{"$f":"IF(L1110>L1111,L1111,L1110)","v":0},null,null,null,null,{"$f":"1","v":1},{"$f":"1","v":1},"=1"]
[null,null,null,null,null,null,null,null,null,null,null,{"$f":"IF(K1112+J1110+H1110+I1110>=100,0,L1112)","v":0},null,null,null,null,{"$f":"1","v":1},{"$f":"1","v":1},"=1"]
[null,null,null,null,null,null,"Scores",{"$f":"IF(H1107=0,0,0.01*(H1110*H1115))","v":0},{"$f":"IF(I1107=0,0,0.01*(I1112*I1115))","v":0},{"$f":"IF(J1107=0,0,0.01*(J1112*J1115))","v":0},{"$f":"IF(K1107=0,0,0.01*(K1112*K1115))","v":0},{"$f":"IF(L1107=0,0,0.01*(L1113*L1115))","v":0},null,null,null,null,{"$f":"1","v":1},{"$f":"1","v":1},"=1"]
[null,null,null,null,null,null,null,3,2.5,2,1.5,1,"Total",null,null,null,{"$f":"1","v":1},{"$f":"1","v":1},"=1"]
[null,null,"BESLAG (3)",null,null,"Velg elementtype:",null,null,null,null,null,null,null,null,null,null,{"$f":"IF(freq14>=5,0,1)","v":1},{"$f":"1","v":1},"=1",null,{"$f":"IF(ISERROR(VLOOKUP(G1116,$T$1249:$U$1250,2,FALSE)),\"\",VLOOKUP(G1116,$T$1249:$U$1250,2,FALSE))","v":""}]
[null,null,null,{"$f":"IF(P1126=TRUE,\"NB! Volum av nivåene kan ikke være større enn det totale volumet for hvert enkelt materiale!\",IF(G1126>100,\"NB! Prosentandel for hvert nivå må registreres i prosent av det vurderte bygningselementet, og den totale prosentandelen kan ikke være større enn den totale prosent av hvert enkelt materiale!\",\"\"))","v":""},null,null,null,null,null,null,null,null,null,null,null,null,1,{"$f":"1","v":1},"=1"]
[null,null,{"$f":"IF(G1116=\"\",\"\",IF(SUM(G1118:G1125)=0,\"\",IF(U1116=1,IF(U1116+L1126=1,\"REGISTRER DET TOTALE VOLUMET AV RELEVANTE MATERIALER\",IF((U1116+G1126+L1126)=1,\"REGISTRER DET TOTALE VOLUMET AV RELEVANTE MATERIALER\",IF(ISERROR(C1127),\"REGISTRER DET TOTALE VOLUMET AV RELEVANTE MATERIALER\",IF(OR(G1118>L1126,G1119>L1126,G1120>L1126,G1121>L1126,G1122>L1126,G1123>L1126,G1124>L1126,G1125>L1126),\"Volumet av de enkelte materialer kan ikke overstige mengden relevante materialer\",IF(SUM(G1118:G1125)>L1126,\"Den totale mengden av materialer kan ikke overstige det  totale volumet av relevante materialer\",\"\"))))),IF(U1116=2,IF(SUM(G1118:G1125)<80,\"Minst 80 % av de relevante materialer må vurderes, vennligst beregn på nytt.\",IF(OR(G1118>100,G1119>100,G1120>100,G1121>100,G1122>100,G1123>100,G1124>100,G1125>100),\"Prosentandel av de enkelte materialerer kan ikke overstige 100\",IF(SUM(G1118:G1125)>100,\"Den totale prosentandelen av materialer kan ikke overstige 100\",\"\")))))))","v":""},null,"Mat. 1",null,null,null,null,null,null,null,{"$f":"IF(SUM(H1134+I1134+J1134+K1134+L1134)>=3,\"3,00\",SUM(H1134+I1134+J1134+K1134+L1134))","v":0},{"$f":"IF(AND(U1116=1,L1126=\"\"),0,IF(OR(NOT(D1117=\"\"),NOT(C1118=\"\"),NOT(N1119=\"\")),0,IF(ISERROR(N1127),\"0\",N1127)))","v":0},null,{"$f":"IF(SUM(H1118:L1118)>G1118,\"1\",\"0\")","v":"0"},1,{"$f":"1","v":1},"=1"]
[null,null,null,null,"Mat. 2",null,null,null,null,null,null,null,null,{"$f":"IF(AND(U1116=1,L1126=\"\"),C1118,+IF(G1127>L1126,C1118,(IF(N1127<80,\"Ingen poeng oppnådd,\nmindre enn 80 % oppfyller kravet\",\"\"))))","v":""},null,{"$f":"IF(SUM(H1119:L1119)>G1119,\"1\",\"0\")","v":"0"},1,{"$f":"1","v":1},"=1"]
[null,null,null,null,"Mat. 3",null,null,null,null,null,null,null,null,null,null,"0",1,{"$f":"1","v":1},"=1"]
[null,null,null,null,"Mat. 4",null,null,null,null,null,null,null,null,null,null,"0",1,{"$f":"1","v":1},"=1"]
[null,null,null,null,"Mat. 5",null,null,null,null,null,null,null,null,null,null,"0",1,{"$f":"1","v":1},"=1"]
[null,null,null,null,"Mat. 6",null,null,null,null,null,null,null,null,null,null,"0",1,{"$f":"1","v":1},"=1"]
[null,null,null,null,"Mat. 7",null,null,null,null,null,null,null,null,null,null,"0",1,{"$f":"1","v":1},"=1"]
[null,null,null,null,"Mat. 8",null,null,null,null,null,null,null,null,null,null,"0",1,{"$f":"1","v":1},"=1"]
[null,null,null,null,"Totalt % av bygningselementet (relevante materialer) vurdert:",null,{"$f":"IF(U1116=\"\",0,IF(U1116+L1126=1,\"0\",IF(SUM(G1118:G1125)=0,\"0\",IF(U1116=1,IF(OR(G1118>L1126,G1119>L1126,G1120>L1126,G1121>L1126,G1122>L1126,G1123>L1126,G1124>L1126,G1125>L1126,SUM(G1118:G1125)>L1126),0,((SUM(G1118:G1125)/L1126)*100)),IF(U1116=2,IF(OR(G1118>100,G1119>100,G1120>100,G1121>100,G1122>100,G1123>100,G1124>100,G1125>100,SUM(G1118:G1125)>100),0,SUM(G1118:G1125)))))))","v":0},"Samlet volum for aktuelle elementer:",null,null,null,null,null,null,null,{"$f":"IF(OR(H1127>G1127,K1127>G1127,L1127>G1127),TRUE,FALSE)","v":false},1,{"$f":"1","v":1},"=1"]
[null,null,{"$f":"IF(G1126=0,\"0\",IF(U1116=2,\"0\",IF(U1116=1,(G1126/100)*100,IF(U1116=2,(G1126/100)*100))))","v":"0"},{"$f":"G1126","v":0},null,"Total",{"$f":"IF(SUM(G1118:G1125)=0,\"1\",SUM(G1118:G1125))","v":"1"},{"$f":"SUM(H1118:H1125)","v":0},{"$f":"SUM(I1118:I1125)","v":0},{"$f":"SUM(J1118:J1125)","v":0},{"$f":"SUM(K1118:K1125)","v":0},{"$f":"SUM(L1118:L1125)","v":0},null,{"$f":"SUM(H1128:L1128)","v":0},{"$f":"IF(G1126<80,\"0,00\",IF(P1127>0,\"0\",IF(G1126>100,\"0,00\",IF(N1118>=80,M1118,IF(N1118<80,0)))))","v":"0,00"},{"$f":"P1118+P1119+P1120+P1121+P1122+P1123+P1124+P1125","v":0},{"$f":"1","v":1},{"$f":"1","v":1},"=1"]
[null,null,null,null,null,null,"Percentage",{"$f":"IF(H1127+G1127=0,\"0\",(H1127/G1127)*100)","v":0},{"$f":"IF(I1127+G1127=0,\"0\",(I1127/G1127)*100)","v":0},{"$f":"IF(J1127+G1127=0,\"0\",(J1127/G1127)*100)","v":0},{"$f":"IF(K1127+G1127=0,\"0\",(K1127/G1127)*100)","v":0},{"$f":"IF(L1127+G1127=0,\"0\",(L1127/G1127)*100)","v":0},null,100,null,null,{"$f":"1","v":1},{"$f":"1","v":1},"=1"]
[null,null,null,null,null,{"$f":"IF(U1116=1,((G1127/100)*80))","v":false},"% of 80",{"$f":"(H1128/80)*100","v":0},{"$f":"(I1128/80)*100","v":0},{"$f":"(J1128/80)*100","v":0},{"$f":"(K1128/80)*100","v":0},{"$f":"(L1128/80)*100","v":0},null,null,null,null,{"$f":"1","v":1},{"$f":"1","v":1},"=1"]
[null,null,null,null,null,null,"Limiter",{"$f":"IF(H1129>100,\"100\",H1129)","v":0},{"$f":"IF(I1129>100,\"100\",I1129)","v":0},{"$f":"IF(J1129>100,\"100\",J1129)","v":0},{"$f":"IF(K1129>100,\"100\",K1129)","v":0},{"$f":"IF(L1129>100,\"100\",L1129)","v":0},null,null,null,null,{"$f":"1","v":1},{"$f":"1","v":1},"=1"]
[null,null,null,null,null,null,null,null,{"$f":"IF(H1130+I1130+J1130+K1130+L1130=0,0,100-(H1130))","v":0},{"$f":"IF(H1130+I1130+J1130+K1130+L1130=0,0,100-(H1130+I1130))","v":0},{"$f":"IF(J1130+I1130+H1130+K1130+L1130=0,0,100-(J1130+I1130+H1130))","v":0},{"$f":"IF(K1130+J1130+I1130+H1130+L1130=0,0,100-(H1130+I1130+K1130+J1130))","v":0},null,null,null,null,{"$f":"1","v":1},{"$f":"1","v":1},"=1"]
[null,null,null,null,null,null,null,null,{"$f":"IF(I1130>I1131,I1131,I1130)","v":0},{"$f":"IF(J1130>J1131,J1131,J1130)","v":0},{"$f":"IF(K1130>K1131,K1131,K1130)","v":0},{"$f":"IF(L1130>L1131,L1131,L1130)","v":0},null,null,null,null,{"$f":"1","v":1},{"$f":"1","v":1},"=1"]
[null,null,null,null,null,null,null,null,null,null,null,{"$f":"IF(K1132+J1130+H1130+I1130>=100,0,L1132)","v":0},null,null,null,null,{"$f":"1","v":1},{"$f":"1","v":1},"=1"]
[null,null,null,null,null,null,"Scores",{"$f":"IF(H1127=0,0,0.01*(H1130*H1135))","v":0},{"$f":"IF(I1127=0,0,0.01*(I1132*I1135))","v":0},{"$f":"IF(J1127=0,0,0.01*(J1132*J1135))","v":0},{"$f":"IF(K1127=0,0,0.01*(K1132*K1135))","v":0},{"$f":"IF(L1127=0,0,0.01*(L1133*L1135))","v":0},null,null,null,null,{"$f":"1","v":1},{"$f":"1","v":1},"=1"]
[null,null,null,null,null,null,null,3,2.5,2,1.5,1,"Total",null,null,null,{"$f":"1","v":1},{"$f":"1","v":1},"=1"]
[null,null,"BESLAG (4)",null,null,"Velg elementtype:",null,null,null,null,null,null,null,null,null,null,{"$f":"IF(freq14>=6,0,1)","v":1},{"$f":"1","v":1},"=1",null,{"$f":"IF(ISERROR(VLOOKUP(G1136,$T$1249:$U$1250,2,FALSE)),\"\",VLOOKUP(G1136,$T$1249:$U$1250,2,FALSE))","v":""}]
[null,null,null,{"$f":"IF(P1146=TRUE,\"NB! Volum av nivåene kan ikke være større enn det totale volumet for hvert enkelt materiale!\",IF(G1146>100,\"NB! Prosentandel for hvert nivå må registreres i prosent av det vurderte bygningselementet, og den totale prosentandelen kan ikke være større enn den totale prosent av hvert enkelt materiale!\",\"\"))","v":""},null,null,null,null,null,null,null,null,null,null,null,null,1,{"$f":"1","v":1},"=1"]
[null,null,{"$f":"IF(G1136=\"\",\"\",IF(SUM(G1138:G1145)=0,\"\",IF(U1136=1,IF(U1136+L1146=1,\"REGISTRER DET TOTALE VOLUMET AV RELEVANTE MATERIALER\",IF((U1136+G1146+L1146)=1,\"REGISTRER DET TOTALE VOLUMET AV RELEVANTE MATERIALER\",IF(ISERROR(C1147),\"REGISTRER DET TOTALE VOLUMET AV RELEVANTE MATERIALER\",IF(OR(G1138>L1146,G1139>L1146,G1140>L1146,G1141>L1146,G1142>L1146,G1143>L1146,G1144>L1146,G1145>L1146),\"Volumet av de enkelte materialer kan ikke overstige mengden relevante materialer\",IF(SUM(G1138:G1145)>L1146,\"Den totale mengden av materialer kan ikke overstige det  totale volumet av relevante materialer\",\"\"))))),IF(U1136=2,IF(SUM(G1138:G1145)<80,\"Minst 80 % av de relevante materialer må vurderes, vennligst beregn på nytt.\",IF(OR(G1138>100,G1139>100,G1140>100,G1141>100,G1142>100,G1143>100,G1144>100,G1145>100),\"Prosentandel av de enkelte materialerer kan ikke overstige 100\",IF(SUM(G1138:G1145)>100,\"Den totale prosentandelen av materialer kan ikke overstige 100\",\"\")))))))","v":""},null,"Mat. 1",null,null,null,null,null,null,null,{"$f":"IF(SUM(H1154+I1154+J1154+K1154+L1154)>=3,\"3,00\",SUM(H1154+I1154+J1154+K1154+L1154))","v":0},{"$f":"IF(AND(U1136=1,L1146=\"\"),0,IF(OR(NOT(D1137=\"\"),NOT(C1138=\"\"),NOT(N1139=\"\")),0,IF(ISERROR(N1147),\"0\",N1147)))","v":0},null,{"$f":"IF(SUM(H1138:L1138)>G1138,\"1\",\"0\")","v":"0"},1,{"$f":"1","v":1},"=1"]
[null,null,null,null,"Mat. 2",null,null,null,null,null,null,null,null,{"$f":"IF(AND(U1136=1,L1146=\"\"),C1138,+IF(G1147>L1146,C1138,(IF(N1147<80,\"Ingen poeng oppnådd,\nmindre enn 80 % oppfyller kravet\",\"\"))))","v":""},null,{"$f":"IF(SUM(H1139:L1139)>G1139,\"1\",\"0\")","v":"0"},1,{"$f":"1","v":1},"=1"]
[null,null,null,null,"Mat. 3",null,null,null,null,null,null,null,null,null,null,"0",1,{"$f":"1","v":1},"=1"]
[null,null,null,null,"Mat. 4",null,null,null,null,null,null,null,null,null,null,"0",1,{"$f":"1","v":1},"=1"]
[null,null,null,null,"Mat. 5",null,null,null,null,null,null,null,null,null,null,"0",1,{"$f":"1","v":1},"=1"]
[null,null,null,null,"Mat. 6",null,null,null,null,null,null,null,null,null,null,"0",1,{"$f":"1","v":1},"=1"]
[null,null,null,null,"Mat. 7",null,null,null,null,null,null,null,null,null,null,"0",1,{"$f":"1","v":1},"=1"]
[null,null,null,null,"Mat. 8",null,null,null,null,null,null,null,null,null,null,"0",1,{"$f":"1","v":1},"=1"]
[null,null,null,null,"Totalt % av bygningselementet (relevante materialer) vurdert:",null,{"$f":"IF(U1136=\"\",0,IF(U1136+L1146=1,\"0\",IF(SUM(G1138:G1145)=0,\"0\",IF(U1136=1,IF(OR(G1138>L1146,G1139>L1146,G1140>L1146,G1141>L1146,G1142>L1146,G1143>L1146,G1144>L1146,G1145>L1146,SUM(G1138:G1145)>L1146),0,((SUM(G1138:G1145)/L1146)*100)),IF(U1136=2,IF(OR(G1138>100,G1139>100,G1140>100,G1141>100,G1142>100,G1143>100,G1144>100,G1145>100,SUM(G1138:G1145)>100),0,SUM(G1138:G1145)))))))","v":0},"Samlet volum for aktuelle elementer:",null,null,null,null,null,null,null,{"$f":"IF(OR(H1147>G1147,K1147>G1147,L1147>G1147),TRUE,FALSE)","v":false},1,{"$f":"1","v":1},"=1"]
[null,null,{"$f":"IF(G1146=0,\"0\",IF(U1136=2,\"0\",IF(U1136=1,(G1146/100)*100,IF(U1136=2,(G1146/100)*100))))","v":"0"},{"$f":"G1146","v":0},null,"Total",{"$f":"IF(SUM(G1138:G1145)=0,\"1\",SUM(G1138:G1145))","v":"1"},{"$f":"SUM(H1138:H1145)","v":0},{"$f":"SUM(I1138:I1145)","v":0},{"$f":"SUM(J1138:J1145)","v":0},{"$f":"SUM(K1138:K1145)","v":0},{"$f":"SUM(L1138:L1145)","v":0},null,{"$f":"SUM(H1148:L1148)","v":0},{"$f":"IF(G1146<80,\"0,00\",IF(P1147>0,\"0\",IF(G1146>100,\"0,00\",IF(N1138>=80,M1138,IF(N1138<80,0)))))","v":"0,00"},{"$f":"P1138+P1139+P1140+P1141+P1142+P1143+P1144+P1145","v":0},{"$f":"1","v":1},{"$f":"1","v":1},"=1"]
[null,null,null,null,null,null,"Percentage",{"$f":"IF(H1147+G1147=0,\"0\",(H1147/G1147)*100)","v":0},{"$f":"IF(I1147+G1147=0,\"0\",(I1147/G1147)*100)","v":0},{"$f":"IF(J1147+G1147=0,\"0\",(J1147/G1147)*100)","v":0},{"$f":"IF(K1147+G1147=0,\"0\",(K1147/G1147)*100)","v":0},{"$f":"IF(L1147+G1147=0,\"0\",(L1147/G1147)*100)","v":0},null,100,null,null,{"$f":"1","v":1},{"$f":"1","v":1},"=1"]
[null,null,null,null,null,{"$f":"IF(U1136=1,((G1147/100)*80))","v":false},"% of 80",{"$f":"(H1148/80)*100","v":0},{"$f":"(I1148/80)*100","v":0},{"$f":"(J1148/80)*100","v":0},{"$f":"(K1148/80)*100","v":0},{"$f":"(L1148/80)*100","v":0},null,null,null,null,{"$f":"1","v":1},{"$f":"1","v":1},"=1"]
[null,null,null,null,null,null,"Limiter",{"$f":"IF(H1149>100,\"100\",H1149)","v":0},{"$f":"IF(I1149>100,\"100\",I1149)","v":0},{"$f":"IF(J1149>100,\"100\",J1149)","v":0},{"$f":"IF(K1149>100,\"100\",K1149)","v":0},{"$f":"IF(L1149>100,\"100\",L1149)","v":0},null,null,null,null,{"$f":"1","v":1},{"$f":"1","v":1},"=1"]
[null,null,null,null,null,null,null,null,{"$f":"IF(H1150+I1150+J1150+K1150+L1150=0,0,100-(H1150))","v":0},{"$f":"IF(H1150+I1150+J1150+K1150+L1150=0,0,100-(H1150+I1150))","v":0},{"$f":"IF(J1150+I1150+H1150+K1150+L1150=0,0,100-(J1150+I1150+H1150))","v":0},{"$f":"IF(K1150+J1150+I1150+H1150+L1150=0,0,100-(H1150+I1150+K1150+J1150))","v":0},null,null,null,null,{"$f":"1","v":1},{"$f":"1","v":1},"=1"]
[null,null,null,null,null,null,null,null,{"$f":"IF(I1150>I1151,I1151,I1150)","v":0},{"$f":"IF(J1150>J1151,J1151,J1150)","v":0},{"$f":"IF(K1150>K1151,K1151,K1150)","v":0},{"$f":"IF(L1150>L1151,L1151,L1150)","v":0},null,null,null,null,{"$f":"1","v":1},{"$f":"1","v":1},"=1"]
[null,null,null,null,null,null,null,null,null,null,null,{"$f":"IF(K1152+J1150+H1150+I1150>=100,0,L1152)","v":0},null,null,null,null,{"$f":"1","v":1},{"$f":"1","v":1},"=1"]
[null,null,null,null,null,null,"Scores",{"$f":"IF(H1147=0,0,0.01*(H1150*H1155))","v":0},{"$f":"IF(I1147=0,0,0.01*(I1152*I1155))","v":0},{"$f":"IF(J1147=0,0,0.01*(J1152*J1155))","v":0},{"$f":"IF(K1147=0,0,0.01*(K1152*K1155))","v":0},{"$f":"IF(L1147=0,0,0.01*(L1153*L1155))","v":0},null,null,null,null,{"$f":"1","v":1},{"$f":"1","v":1},"=1"]
[null,null,null,null,null,null,null,3,2.5,2,1.5,1,"Total",null,null,null,{"$f":"1","v":1},{"$f":"1","v":1},"=1"]
[null,null," ANNEN BETYDELIG BRUK",null,null,"Velg antall «annen betydelig bruk» du ønsker å vurdere (deretter trykk «velg»):",null,null,null,null,null,null,null,null,{"$f":"IF(ISERROR(O1168+O1188+O1208+O1228)/V1157,\"\",(O1168+O1188+O1208+O1228)/V1157)","v":0},null,{"$f":"0","v":0},{"$f":"1","v":1},"=HVIS(asstype=3;0;HVIS(typescheme=2;0;1))",{"$f":"VLOOKUP(G1156,$T$1242:$U$1246,2,FALSE)","v":2},null,null,null,{"$f":"IF($R$15=0,0,IF($G$1156>=1,0,1))","v":0}]
[null,null," ANNEN BETYDELIG BRUK (1)",null,null,"Velg elementtype:",null,null,null,null,null,null,null,null,null,null,{"$f":"IF(freq15>=3,0,1)","v":1},{"$f":"1","v":1},"=HVIS(asstype=3;0;HVIS(typescheme=2;0;1))",null,{"$f":"IF(ISERROR(VLOOKUP(G1157,$T$1249:$U$1250,2,FALSE)),\"\",VLOOKUP(G1157,$T$1249:$U$1250,2,FALSE))","v":""},{"$f":"IF(freq15=3,1,IF(freq15=4,2,IF(freq15=5,3,IF(freq15=6,4,1))))","v":1},null,0]
[null,null,null,{"$f":"IF(G1167=\"\",\"\",IF(P1168>=1,\"NB! Volum av nivåene kan ikke være større enn det totale volumet for hvert enkelt materiale!\",IF(AND(P1167=TRUE,type1=2,G1167>100),\"NB! Prosentandel for hvert nivå må registreres i prosent av det vurderte bygningselementet, og den totale prosentandelen kan ikke være større enn den totale prosent av hvert enkelt materiale!\",\"\")))","v":""},null,null,null,null,null,null,null,null,null,null,null,null,{"$f":"IF(freq15>=3,0,1)","v":1},{"$f":"1","v":1},"=HVIS(asstype=3;0;HVIS(typescheme=2;0;1))",null,null,null,null,0]
[null,null,{"$f":"IF(AND(G1156=\"\",Volum=\"\"),\"\",IF(AND(U1157=1,L1167=\"\"),\"REGISTRER FØRST DET TOTALE VOLUMET  AV MATERIALER I CELLEN NEDERST TIL HØYRE\",IF(G1159:G1166=\"\",\"\",IF(G1167>100,\"Mengden materialer kan ikke overstige det  totale volumet!\",IF(G1167<80,\"Minst 80 % av de relevante materialer må vurderes\",\"\")))))","v":""},null,"Mat. 1",null,null,null,null,null,null,null,{"$f":"IF(N1159=0,0,IF(P1167=TRUE,\"0\",IF(SUM(H1175+I1175+J1175+K1175+L1175)>=3,\"3\",SUM(H1175+I1175+J1175+K1175+L1175))))","v":0},{"$f":"IF(AND(U1157=1,L1167=\"\"),0,IF(OR(NOT(D1158=\"\"),NOT(C1159=\"\")),0,IF(ISERROR(N1168),\"0\",N1168)))","v":0},null,{"$f":"IF(SUM(H1159:L1159)>G1159,\"1\",\"0\")","v":"0"},1,{"$f":"1","v":1},"=HVIS(asstype=3;0;HVIS(typescheme=2;0;1))",null,null,null,null,0]
[null,null,null,null,"Mat. 2",null,null,null,null,null,null,null,null,{"$f":"IF(OR(G1167=\"\",G1167=0,G1167>100),\"\",IF(N1168=0,\"\",IF(N1168<80,\"Ingen poeng oppnådd,\nmindre enn 80 % oppfyller kravet\",C1159)))","v":""},null,{"$f":"IF(SUM(H1160:L1160)>G1160,\"1\",\"0\")","v":"0"},1,{"$f":"1","v":1},"=HVIS(asstype=3;0;HVIS(typescheme=2;0;1))",null,null,null,null,0]
[null,null,null,null,"Mat. 3",null,null,null,null,null,null,null,null,null,null,"0",1,{"$f":"1","v":1},"=HVIS(asstype=3;0;HVIS(typescheme=2;0;1))",null,null,null,null,0]
[null,null,null,null,"Mat. 4",null,null,null,null,null,null,null,null,null,null,"0",1,{"$f":"1","v":1},"=HVIS(asstype=3;0;HVIS(typescheme=2;0;1))",null,null,null,null,0]
[null,null,null,null,"Mat. 5",null,null,null,null,null,null,null,null,null,null,"0",1,{"$f":"1","v":1},"=HVIS(asstype=3;0;HVIS(typescheme=2;0;1))",null,null,null,null,0]
[null,null,null,null,"Mat. 6",null,null,null,null,null,null,null,null,null,null,"0",1,{"$f":"1","v":1},"=HVIS(asstype=3;0;HVIS(typescheme=2;0;1))",null,null,null,null,0]
[null,null,null,null,"Mat. 7",null,null,null,null,null,null,null,null,null,null,"0",1,{"$f":"1","v":1},"=HVIS(asstype=3;0;HVIS(typescheme=2;0;1))",null,null,null,null,0]
[null,null,null,null,"Mat. 8",null,null,null,null,null,null,null,null,null,null,"0",1,{"$f":"1","v":1},"=HVIS(asstype=3;0;HVIS(typescheme=2;0;1))",null,null,null,null,0]
[null,null,null,"Totalt % av bygningselementet (relevante materialer) vurdert:",null,null,{"$f":"IF(U1157=\"\",\"\",IF(U1157+L1167=1,\"\",IF(SUM(G1159:G1166)=0,\"\",IF(U1157=1,IF(OR(G1159>L1167,G1160>L1167,G1161>L1167,G1162>L1167,G1163>L1167,G1164>L1167,G1165>L1167,G1166>L1167,SUM(G1159:G1166)>L1167),ROUND(SUM(G1159:G1166)/L1167,2)*100,((SUM(G1159:G1166)/L1167)*100)),IF(U1157=2,IF(OR(G1159>100,G1160>100,G1161>100,G1162>100,G1163>100,G1164>100,G1165>100,G1166>100,SUM(G1159:G1166)>100),SUM(G1159:G1166),SUM(G1159:G1166)))))))","v":""},"Totalt volum:",null,null,null,null,null,null,null,{"$f":"IF(OR(H1168>G1168,K1168>G1168,L1168>G1168),TRUE,FALSE)","v":false},1,{"$f":"1","v":1},"=HVIS(asstype=3;0;HVIS(typescheme=2;0;1))",null,null,null,null,0]
[null,null,{"$f":"IF(G1167=0,\"0\",IF(U1160=2,\"0\",IF(U1160=1,(G1167/100)*100,IF(U1160=2,(G1167/100)*100))))","v":false},{"$f":"G1167","v":""},null,"Total",{"$f":"IF(SUM(G1159:G1166)=0,\"1\",SUM(G1159:G1166))","v":"1"},{"$f":"SUM(H1159:H1166)","v":0},{"$f":"SUM(I1159:I1166)","v":0},{"$f":"SUM(J1159:J1166)","v":0},{"$f":"SUM(K1159:K1166)","v":0},{"$f":"SUM(L1159:L1166)","v":0},null,{"$f":"SUM(H1169:L1169)","v":0},{"$f":"IF(G1167<80,\"0,00\",IF(P1168>0,\"0\",IF(G1167>100,\"0,00\",IF(N1159>=80,M1159,IF(N1159<80,0)))))","v":"0,00"},{"$f":"P1159+P1160+P1161+P1162+P1163+P1164+P1165+P1166","v":0},{"$f":"1","v":1},{"$f":"1","v":1},"=1"]
[null,null,null,null,null,null,"Percentage",{"$f":"IF(H1168+G1168=0,\"0\",(H1168/G1168)*100)","v":0},{"$f":"IF(I1168+G1168=0,\"0\",(I1168/G1168)*100)","v":0},{"$f":"IF(J1168+G1168=0,\"0\",(J1168/G1168)*100)","v":0},{"$f":"IF(K1168+G1168=0,\"0\",(K1168/G1168)*100)","v":0},{"$f":"IF(L1168+G1168=0,\"0\",(L1168/G1168)*100)","v":0},null,100,null,null,{"$f":"1","v":1},{"$f":"1","v":1},"=1"]
[null,null,null,null,null,{"$f":"IF(U1160=1,((G1168/100)*80))","v":false},"% of 80",{"$f":"(H1169/80)*100","v":0},{"$f":"(I1169/80)*100","v":0},{"$f":"(J1169/80)*100","v":0},{"$f":"(K1169/80)*100","v":0},{"$f":"(L1169/80)*100","v":0},null,null,null,null,{"$f":"1","v":1},{"$f":"1","v":1},"=1"]
[null,null,null,null,null,null,"Limiter",{"$f":"IF(H1170>100,\"100\",H1170)","v":0},{"$f":"IF(I1170>100,\"100\",I1170)","v":0},{"$f":"IF(J1170>100,\"100\",J1170)","v":0},{"$f":"IF(K1170>100,\"100\",K1170)","v":0},{"$f":"IF(L1170>100,\"100\",L1170)","v":0},null,null,null,null,{"$f":"1","v":1},{"$f":"1","v":1},"=1"]
[null,null,null,null,null,null,null,null,{"$f":"IF(H1171+I1171+J1171+K1171+L1171=0,0,100-(H1171))","v":0},{"$f":"IF(H1171+I1171+J1171+K1171+L1171=0,0,100-(H1171+I1171))","v":0},{"$f":"IF(J1171+I1171+H1171+K1171+L1171=0,0,100-(J1171+I1171+H1171))","v":0},{"$f":"IF(K1171+J1171+I1171+H1171+L1171=0,0,100-(H1171+I1171+K1171+J1171))","v":0},null,null,null,null,{"$f":"1","v":1},{"$f":"1","v":1},"=1"]
[null,null,null,null,null,null,null,null,{"$f":"IF(I1171>I1172,I1172,I1171)","v":0},{"$f":"IF(J1171>J1172,J1172,J1171)","v":0},{"$f":"IF(K1171>K1172,K1172,K1171)","v":0},{"$f":"IF(L1171>L1172,L1172,L1171)","v":0},null,null,null,null,{"$f":"1","v":1},{"$f":"1","v":1},"=1"]
[null,null,null,null,null,null,null,null,null,null,null,{"$f":"IF(K1173+J1171+H1171+I1171>=100,0,L1173)","v":0},null,null,null,null,{"$f":"1","v":1},{"$f":"1","v":1},"=1"]
[null,null,null,null,null,null,"Scores",{"$f":"IF(H1168=0,0,0.01*(H1171*H1176))","v":0},{"$f":"IF(I1168=0,0,0.01*(I1173*I1176))","v":0},{"$f":"IF(J1168=0,0,0.01*(J1173*J1176))","v":0},{"$f":"IF(K1168=0,0,0.01*(K1173*K1176))","v":0},{"$f":"IF(L1168=0,0,0.01*(L1174*L1176))","v":0},null,null,null,null,{"$f":"1","v":1},{"$f":"1","v":1},"=1"]
[null,null,null,null,null,null,null,3,2.5,2,1.5,1,"Total",null,null,null,{"$f":"1","v":1},{"$f":"1","v":1},"=1"]
[null,null," ANNEN BETYDELIG BRUK (2)",null,null,"Velg elementtype:",null,null,null,null,null,null,null,null,null,null,{"$f":"IF(freq15>=4,0,1)","v":1},{"$f":"1","v":1},"=1",null,{"$f":"IF(ISERROR(VLOOKUP(G1177,$T$1249:$U$1250,2,FALSE)),\"\",VLOOKUP(G1177,$T$1249:$U$1250,2,FALSE))","v":""},null,null,{"$f":"IF($R$15=0,0,IF($G$1156>=2,0,1))","v":0}]
[null,null,null,{"$f":"IF(G1187=\"\",\"\",IF(P1188>=1,\"NB! Volum av nivåene kan ikke være større enn det totale volumet for hvert enkelt materiale!\",IF(AND(P1187=TRUE,type1=2,G1187>100),\"NB! Prosentandel for hvert nivå må registreres i prosent av det vurderte bygningselementet, og den totale prosentandelen kan ikke være større enn den totale prosent av hvert enkelt materiale!\",\"\")))","v":""},null,null,null,null,null,null,null,null,null,null,null,null,1,{"$f":"1","v":1},"=1",null,null,null,null,0]
[null,null,{"$f":"IF(AND(G1177=\"\",Volum=\"\"),\"\",IF(AND(U1177=1,L1187=\"\"),\"REGISTRER FØRST DET TOTALE VOLUMET  AV MATERIALER I CELLEN NEDERST TIL HØYRE\",IF(G1179:G1186=\"\",\"\",IF(G1187>100,\"Mengden materialer kan ikke overstige det  totale volumet!\",IF(G1187<80,\"Minst 80 % av de relevante materialer må vurderes\",\"\")))))","v":""},null,"Mat. 1",null,null,null,null,null,null,null,{"$f":"IF(N1179=0,0,IF(P1187=TRUE,\"0\",IF(SUM(H1195+I1195+J1195+K1195+L1195)>=3,\"3\",SUM(H1195+I1195+J1195+K1195+L1195))))","v":0},{"$f":"IF(AND(U1177=1,L1187=\"\"),0,IF(OR(NOT(D1178=\"\"),NOT(C1179=\"\")),0,IF(ISERROR(N1188),\"0\",N1188)))","v":0},null,{"$f":"IF(SUM(H1179:L1179)>G1179,\"1\",\"0\")","v":"0"},1,{"$f":"1","v":1},"=1",null,null,null,null,0]
[null,null,null,null,"Mat. 2",null,null,null,null,null,null,null,null,{"$f":"IF(OR(G1187=\"\",G1187=0,G1187>100),\"\",IF(N1188=0,\"\",IF(N1188<80,\"Ingen poeng oppnådd,\nmindre enn 80 % oppfyller kravet\",C1179)))","v":""},null,{"$f":"IF(SUM(H1180:L1180)>G1180,\"1\",\"0\")","v":"0"},1,{"$f":"1","v":1},"=1",null,null,null,null,0]
[null,null,null,null,"Mat. 3",null,null,null,null,null,null,null,null,null,null,"0",1,{"$f":"1","v":1},"=1",null,null,null,null,0]
[null,null,null,null,"Mat. 4",null,null,null,null,null,null,null,null,null,null,"0",1,{"$f":"1","v":1},"=1",null,null,null,null,0]
[null,null,null,null,"Mat. 5",null,null,null,null,null,null,null,null,null,null,"0",1,{"$f":"1","v":1},"=1",null,null,null,null,0]
[null,null,null,null,"Mat. 6",null,null,null,null,null,null,null,null,null,null,"0",1,{"$f":"1","v":1},"=1",null,null,null,null,0]
[null,null,null,null,"Mat. 7",null,null,null,null,null,null,null,null,null,null,"0",1,{"$f":"1","v":1},"=1",null,null,null,null,0]
[null,null,null,null,"Mat. 8",null,null,null,null,null,null,null,null,null,null,"0",1,{"$f":"1","v":1},"=1",null,null,null,null,0]
[null,null,null,"Totalt % av bygningselementet (relevante materialer) vurdert:",null,null,{"$f":"IF(U1177=\"\",\"\",IF(U1177+L1187=1,\"\",IF(SUM(G1179:G1186)=0,\"\",IF(U1177=1,IF(OR(G1179>L1187,G1180>L1187,G1181>L1187,G1182>L1187,G1183>L1187,G1184>L1187,G1185>L1187,G1186>L1187,SUM(G1179:G1186)>L1187),ROUND(SUM(G1179:G1186)/L1187,2)*100,((SUM(G1179:G1186)/L1187)*100)),IF(U1177=2,IF(OR(G1179>100,G1180>100,G1181>100,G1182>100,G1183>100,G1184>100,G1185>100,G1186>100,SUM(G1179:G1186)>100),SUM(G1179:G1186),SUM(G1179:G1186)))))))","v":""},"Totalt volum:",null,null,null,null,null,null,null,{"$f":"IF(OR(H1188>G1188,K1188>G1188,L1188>G1188),TRUE,FALSE)","v":false},1,{"$f":"1","v":1},"=1",null,null,null,null,0]
[null,null,{"$f":"IF(G1187=0,\"0\",IF(U1177=2,\"0\",IF(U1177=1,(G1187/100)*100,IF(U1177=2,(G1187/100)*100))))","v":false},{"$f":"G1187","v":""},null,"Total",{"$f":"IF(SUM(G1179:G1186)=0,\"1\",SUM(G1179:G1186))","v":"1"},{"$f":"SUM(H1179:H1186)","v":0},{"$f":"SUM(I1179:I1186)","v":0},{"$f":"SUM(J1179:J1186)","v":0},{"$f":"SUM(K1179:K1186)","v":0},{"$f":"SUM(L1179:L1186)","v":0},null,{"$f":"SUM(H1189:L1189)","v":0},{"$f":"IF(G1187<80,\"0,00\",IF(P1188>0,\"0\",IF(G1187>100,\"0,00\",IF(N1179>=80,M1179,IF(N1179<80,0)))))","v":"0,00"},{"$f":"P1179+P1180+P1181+P1182+P1183+P1184+P1185+P1186","v":0},{"$f":"1","v":1},{"$f":"1","v":1},"=1"]
[null,null,null,null,null,null,"Percentage",{"$f":"IF(H1188+G1188=0,\"0\",(H1188/G1188)*100)","v":0},{"$f":"IF(I1188+G1188=0,\"0\",(I1188/G1188)*100)","v":0},{"$f":"IF(J1188+G1188=0,\"0\",(J1188/G1188)*100)","v":0},{"$f":"IF(K1188+G1188=0,\"0\",(K1188/G1188)*100)","v":0},{"$f":"IF(L1188+G1188=0,\"0\",(L1188/G1188)*100)","v":0},null,100,null,null,{"$f":"1","v":1},{"$f":"1","v":1},"=1"]
[null,null,null,null,null,{"$f":"IF(U1177=1,((G1188/100)*80))","v":false},"% of 80",{"$f":"(H1189/80)*100","v":0},{"$f":"(I1189/80)*100","v":0},{"$f":"(J1189/80)*100","v":0},{"$f":"(K1189/80)*100","v":0},{"$f":"(L1189/80)*100","v":0},null,null,null,null,{"$f":"1","v":1},{"$f":"1","v":1},"=1"]
[null,null,null,null,null,null,"Limiter",{"$f":"IF(H1190>100,\"100\",H1190)","v":0},{"$f":"IF(I1190>100,\"100\",I1190)","v":0},{"$f":"IF(J1190>100,\"100\",J1190)","v":0},{"$f":"IF(K1190>100,\"100\",K1190)","v":0},{"$f":"IF(L1190>100,\"100\",L1190)","v":0},null,null,null,null,{"$f":"1","v":1},{"$f":"1","v":1},"=1"]
[null,null,null,null,null,null,null,null,{"$f":"IF(H1191+I1191+J1191+K1191+L1191=0,0,100-(H1191))","v":0},{"$f":"IF(H1191+I1191+J1191+K1191+L1191=0,0,100-(H1191+I1191))","v":0},{"$f":"IF(J1191+I1191+H1191+K1191+L1191=0,0,100-(J1191+I1191+H1191))","v":0},{"$f":"IF(K1191+J1191+I1191+H1191+L1191=0,0,100-(H1191+I1191+K1191+J1191))","v":0},null,null,null,null,{"$f":"1","v":1},{"$f":"1","v":1},"=1"]
[null,null,null,null,null,null,null,null,{"$f":"IF(I1191>I1192,I1192,I1191)","v":0},{"$f":"IF(J1191>J1192,J1192,J1191)","v":0},{"$f":"IF(K1191>K1192,K1192,K1191)","v":0},{"$f":"IF(L1191>L1192,L1192,L1191)","v":0},null,null,null,null,{"$f":"1","v":1},{"$f":"1","v":1},"=1"]
[null,null,null,null,null,null,null,null,null,null,null,{"$f":"IF(K1193+J1191+H1191+I1191>=100,0,L1193)","v":0},null,null,null,null,{"$f":"1","v":1},{"$f":"1","v":1},"=1"]
[null,null,null,null,null,null,"Scores",{"$f":"IF(H1188=0,0,0.01*(H1191*H1196))","v":0},{"$f":"IF(I1188=0,0,0.01*(I1193*I1196))","v":0},{"$f":"IF(J1188=0,0,0.01*(J1193*J1196))","v":0},{"$f":"IF(K1188=0,0,0.01*(K1193*K1196))","v":0},{"$f":"IF(L1188=0,0,0.01*(L1194*L1196))","v":0},null,null,null,null,{"$f":"1","v":1},{"$f":"1","v":1},"=1"]
[null,null,null,null,null,null,null,3,2.5,2,1.5,1,"Total",null,null,null,{"$f":"1","v":1},{"$f":"1","v":1},"=1"]
[null,null," ANNEN BETYDELIG BRUK (3)",null,null,"Velg elementtype:",null,null,null,null,null,null,null,null,null,null,{"$f":"IF(freq15>=5,0,1)","v":1},{"$f":"1","v":1},"=1",null,{"$f":"IF(ISERROR(VLOOKUP(G1197,$T$1249:$U$1250,2,FALSE)),\"\",VLOOKUP(G1197,$T$1249:$U$1250,2,FALSE))","v":""},null,null,{"$f":"IF($R$15=0,0,IF($G$1156>=3,0,1))","v":0}]
[null,null,null,{"$f":"IF(G1207=\"\",\"\",IF(P1208>=1,\"NB! Volum av nivåene kan ikke være større enn det totale volumet for hvert enkelt materiale!\",IF(AND(P1207=TRUE,type1=2,G1207>100),\"NB! Prosentandel for hvert nivå må registreres i prosent av det vurderte bygningselementet, og den totale prosentandelen kan ikke være større enn den totale prosent av hvert enkelt materiale!\",\"\")))","v":""},null,null,null,null,null,null,null,null,null,null,null,null,1,{"$f":"1","v":1},"=1",null,null,null,null,0]
[null,null,{"$f":"IF(AND(G1197=\"\",Volum=\"\"),\"\",IF(AND(U1197=1,L1207=\"\"),\"REGISTRER FØRST DET TOTALE VOLUMET  AV MATERIALER I CELLEN NEDERST TIL HØYRE\",IF(G1199:G1206=\"\",\"\",IF(G1207>100,\"Mengden materialer kan ikke overstige det  totale volumet!\",IF(G1207<80,\"Minst 80 % av de relevante materialer må vurderes\",\"\")))))","v":""},null,"Mat. 1",null,null,null,null,null,null,null,{"$f":"IF(N1199=0,0,IF(P1207=TRUE,\"0\",IF(SUM(H1215+I1215+J1215+K1215+L1215)>=3,\"3\",SUM(H1215+I1215+J1215+K1215+L1215))))","v":0},{"$f":"IF(AND(U1197=1,L1207=\"\"),0,IF(OR(NOT(D1198=\"\"),NOT(C1199=\"\")),0,IF(ISERROR(N1208),\"0\",N1208)))","v":0},null,{"$f":"IF(SUM(H1199:L1199)>G1199,\"1\",\"0\")","v":"0"},1,{"$f":"1","v":1},"=1",null,null,null,null,0]
[null,null,null,null,"Mat. 2",null,null,null,null,null,null,null,null,{"$f":"IF(OR(G1207=\"\",G1207=0,G1207>100),\"\",IF(N1208=0,\"\",IF(N1208<80,\"Ingen poeng oppnådd,\nmindre enn 80 % oppfyller kravet\",C1199)))","v":""},null,{"$f":"IF(SUM(H1200:L1200)>G1200,\"1\",\"0\")","v":"0"},1,{"$f":"1","v":1},"=1",null,null,null,null,0]
[null,null,null,null,"Mat. 3",null,null,null,null,null,null,null,null,null,null,"0",1,{"$f":"1","v":1},"=1",null,null,null,null,0]
[null,null,null,null,"Mat. 4",null,null,null,null,null,null,null,null,null,null,"0",1,{"$f":"1","v":1},"=1",null,null,null,null,0]
[null,null,null,null,"Mat. 5",null,null,null,null,null,null,null,null,null,null,"0",1,{"$f":"1","v":1},"=1",null,null,null,null,0]
[null,null,null,null,"Mat. 6",null,null,null,null,null,null,null,null,null,null,"0",1,{"$f":"1","v":1},"=1",null,null,null,null,0]
[null,null,null,null,"Mat. 7",null,null,null,null,null,null,null,null,null,null,"0",1,{"$f":"1","v":1},"=1",null,null,null,null,0]
[null,null,null,null,"Mat. 8",null,null,null,null,null,null,null,null,null,null,"0",1,{"$f":"1","v":1},"=1",null,null,null,null,0]
[null,null,null,"Totalt % av bygningselementet (relevante materialer) vurdert:",null,null,{"$f":"IF(U1197=\"\",\"\",IF(U1197+L1207=1,\"\",IF(SUM(G1199:G1206)=0,\"\",IF(U1197=1,IF(OR(G1199>L1207,G1200>L1207,G1201>L1207,G1202>L1207,G1203>L1207,G1204>L1207,G1205>L1207,G1206>L1207,SUM(G1199:G1206)>L1207),ROUND(SUM(G1199:G1206)/L1207,2)*100,((SUM(G1199:G1206)/L1207)*100)),IF(U1197=2,IF(OR(G1199>100,G1200>100,G1201>100,G1202>100,G1203>100,G1204>100,G1205>100,G1206>100,SUM(G1199:G1206)>100),SUM(G1199:G1206),SUM(G1199:G1206)))))))","v":""},"Totalt volum:",null,null,null,null,null,null,null,{"$f":"IF(OR(H1208>G1208,K1208>G1208,L1208>G1208),TRUE,FALSE)","v":false},1,{"$f":"1","v":1},"=1",null,null,null,null,0]
[null,null,{"$f":"IF(G1207=0,\"0\",IF(U1197=2,\"0\",IF(U1197=1,(G1207/100)*100,IF(U1197=2,(G1207/100)*100))))","v":false},{"$f":"G1207","v":""},null,"Total",{"$f":"IF(SUM(G1199:G1206)=0,\"1\",SUM(G1199:G1206))","v":"1"},{"$f":"SUM(H1199:H1206)","v":0},{"$f":"SUM(I1199:I1206)","v":0},{"$f":"SUM(J1199:J1206)","v":0},{"$f":"SUM(K1199:K1206)","v":0},{"$f":"SUM(L1199:L1206)","v":0},null,{"$f":"SUM(H1209:L1209)","v":0},{"$f":"IF(G1207<80,\"0,00\",IF(P1208>0,\"0\",IF(G1207>100,\"0,00\",IF(N1199>=80,M1199,IF(N1199<80,0)))))","v":"0,00"},{"$f":"P1199+P1200+P1201+P1202+P1203+P1204+P1205+P1206","v":0},{"$f":"1","v":1},{"$f":"1","v":1},"=1"]
[null,null,null,null,null,null,"Percentage",{"$f":"IF(H1208+G1208=0,\"0\",(H1208/G1208)*100)","v":0},{"$f":"IF(I1208+G1208=0,\"0\",(I1208/G1208)*100)","v":0},{"$f":"IF(J1208+G1208=0,\"0\",(J1208/G1208)*100)","v":0},{"$f":"IF(K1208+G1208=0,\"0\",(K1208/G1208)*100)","v":0},{"$f":"IF(L1208+G1208=0,\"0\",(L1208/G1208)*100)","v":0},null,100,null,null,{"$f":"1","v":1},{"$f":"1","v":1},"=1"]
[null,null,null,null,null,{"$f":"IF(U1197=1,((G1208/100)*80))","v":false},"% of 80",{"$f":"(H1209/80)*100","v":0},{"$f":"(I1209/80)*100","v":0},{"$f":"(J1209/80)*100","v":0},{"$f":"(K1209/80)*100","v":0},{"$f":"(L1209/80)*100","v":0},null,null,null,null,{"$f":"1","v":1},{"$f":"1","v":1},"=1"]
[null,null,null,null,null,null,"Limiter",{"$f":"IF(H1210>100,\"100\",H1210)","v":0},{"$f":"IF(I1210>100,\"100\",I1210)","v":0},{"$f":"IF(J1210>100,\"100\",J1210)","v":0},{"$f":"IF(K1210>100,\"100\",K1210)","v":0},{"$f":"IF(L1210>100,\"100\",L1210)","v":0},null,null,null,null,{"$f":"1","v":1},{"$f":"1","v":1},"=1"]
[null,null,null,null,null,null,null,null,{"$f":"IF(H1211+I1211+J1211+K1211+L1211=0,0,100-(H1211))","v":0},{"$f":"IF(H1211+I1211+J1211+K1211+L1211=0,0,100-(H1211+I1211))","v":0},{"$f":"IF(J1211+I1211+H1211+K1211+L1211=0,0,100-(J1211+I1211+H1211))","v":0},{"$f":"IF(K1211+J1211+I1211+H1211+L1211=0,0,100-(H1211+I1211+K1211+J1211))","v":0},null,null,null,null,{"$f":"1","v":1},{"$f":"1","v":1},"=1"]
[null,null,null,null,null,null,null,null,{"$f":"IF(I1211>I1212,I1212,I1211)","v":0},{"$f":"IF(J1211>J1212,J1212,J1211)","v":0},{"$f":"IF(K1211>K1212,K1212,K1211)","v":0},{"$f":"IF(L1211>L1212,L1212,L1211)","v":0},null,null,null,null,{"$f":"1","v":1},{"$f":"1","v":1},"=1"]
[null,null,null,null,null,null,null,null,null,null,null,{"$f":"IF(K1213+J1211+H1211+I1211>=100,0,L1213)","v":0},null,null,null,null,{"$f":"1","v":1},{"$f":"1","v":1},"=1"]
[null,null,null,null,null,null,"Scores",{"$f":"IF(H1208=0,0,0.01*(H1211*H1216))","v":0},{"$f":"IF(I1208=0,0,0.01*(I1213*I1216))","v":0},{"$f":"IF(J1208=0,0,0.01*(J1213*J1216))","v":0},{"$f":"IF(K1208=0,0,0.01*(K1213*K1216))","v":0},{"$f":"IF(L1208=0,0,0.01*(L1214*L1216))","v":0},null,null,null,null,{"$f":"1","v":1},{"$f":"1","v":1},"=1"]
[null,null,null,null,null,null,null,3,2.5,2,1.5,1,"Total",null,null,null,{"$f":"1","v":1},{"$f":"1","v":1},"=1"]
[null,null," ANNEN BETYDELIG BRUK (4)",null,null,"Velg elementtype:",null,null,null,null,null,null,null,null,null,null,{"$f":"IF(freq15>=6,0,1)","v":1},{"$f":"1","v":1},"=1",null,{"$f":"IF(ISERROR(VLOOKUP(G1217,$T$1249:$U$1250,2,FALSE)),\"\",VLOOKUP(G1217,$T$1249:$U$1250,2,FALSE))","v":""},null,null,{"$f":"IF($R$15=0,0,IF($G$1156>=4,0,1))","v":0}]
[null,null,null,{"$f":"IF(G1227=\"\",\"\",IF(P1228>=1,\"NB! Volum av nivåene kan ikke være større enn det totale volumet for hvert enkelt materiale!\",IF(AND(P1227=TRUE,type1=2,G1227>100),\"NB! Prosentandel for hvert nivå må registreres i prosent av det vurderte bygningselementet, og den totale prosentandelen kan ikke være større enn den totale prosent av hvert enkelt materiale!\",\"\")))","v":""},null,null,null,null,null,null,null,null,null,null,null,null,1,{"$f":"1","v":1},"=1",null,null,null,null,0]
[null,null,{"$f":"IF(AND(G1217=\"\",Volum=\"\"),\"\",IF(AND(U1217=1,L1227=\"\"),\"REGISTRER FØRST DET TOTALE VOLUMET  AV MATERIALER I CELLEN NEDERST TIL HØYRE\",IF(G1219:G1226=\"\",\"\",IF(G1227>100,\"Mengden materialer kan ikke overstige det  totale volumet!\",IF(G1227<80,\"Minst 80 % av de relevante materialer må vurderes\",\"\")))))","v":""},null,"Mat. 1",null,null,null,null,null,null,null,{"$f":"IF(N1219=0,0,IF(P1227=TRUE,\"0\",IF(SUM(H1235+I1235+J1235+K1235+L1235)>=3,\"3\",SUM(H1235+I1235+J1235+K1235+L1235))))","v":0},{"$f":"IF(AND(U1217=1,L1227=\"\"),0,IF(OR(NOT(D1218=\"\"),NOT(C1219=\"\")),0,IF(ISERROR(N1228),\"0\",N1228)))","v":0},null,{"$f":"IF(SUM(H1219:L1219)>G1219,\"1\",\"0\")","v":"0"},1,{"$f":"1","v":1},"=1",null,null,null,null,0]
[null,null,null,null,"Mat. 2",null,null,null,null,null,null,null,null,{"$f":"IF(OR(G1227=\"\",G1227=0,G1227>100),\"\",IF(N1228=0,\"\",IF(N1228<80,\"Ingen poeng oppnådd,\nmindre enn 80 % oppfyller kravet\",C1219)))","v":""},null,{"$f":"IF(SUM(H1220:L1220)>G1220,\"1\",\"0\")","v":"0"},1,{"$f":"1","v":1},"=1",null,null,null,null,0]
[null,null,null,null,"Mat. 3",null,null,null,null,null,null,null,null,null,null,"0",1,{"$f":"1","v":1},"=1",null,null,null,null,0]
[null,null,null,null,"Mat. 4",null,null,null,null,null,null,null,null,null,null,"0",1,{"$f":"1","v":1},"=1",null,null,null,null,0]
[null,null,null,null,"Mat. 5",null,null,null,null,null,null,null,null,null,null,"0",1,{"$f":"1","v":1},"=1",null,null,null,null,0]
[null,null,null,null,"Mat. 6",null,null,null,null,null,null,null,null,null,null,"0",1,{"$f":"1","v":1},"=1",null,null,null,null,0]
[null,null,null,null,"Mat. 7",null,null,null,null,null,null,null,null,null,null,"0",1,{"$f":"1","v":1},"=1",null,null,null,null,0]
[null,null,null,null,"Mat. 8",null,null,null,null,null,null,null,null,null,null,"0",1,{"$f":"1","v":1},"=1",null,null,null,null,0]
[null,null,null,"Totalt % av bygningselementet (relevante materialer) vurdert:",null,null,{"$f":"IF(U1217=\"\",\"\",IF(U1217+L1227=1,\"\",IF(SUM(G1219:G1226)=0,\"\",IF(U1217=1,IF(OR(G1219>L1227,G1220>L1227,G1221>L1227,G1222>L1227,G1223>L1227,G1224>L1227,G1225>L1227,G1226>L1227,SUM(G1219:G1226)>L1227),ROUND(SUM(G1219:G1226)/L1227,2)*100,((SUM(G1219:G1226)/L1227)*100)),IF(U1217=2,IF(OR(G1219>100,G1220>100,G1221>100,G1222>100,G1223>100,G1224>100,G1225>100,G1226>100,SUM(G1219:G1226)>100),SUM(G1219:G1226),SUM(G1219:G1226)))))))","v":""},"Totalt volum:",null,null,null,null,null,null,null,{"$f":"IF(OR(H1228>G1228,K1228>G1228,L1228>G1228),TRUE,FALSE)","v":false},1,{"$f":"1","v":1},"=1",null,null,null,null,0]
[null,null,{"$f":"IF(G1227=0,\"0\",IF(U1217=2,\"0\",IF(U1217=1,(G1227/100)*100,IF(U1217=2,(G1227/100)*100))))","v":false},{"$f":"G1227","v":""},null,"Total",{"$f":"IF(SUM(G1219:G1226)=0,\"1\",SUM(G1219:G1226))","v":"1"},{"$f":"SUM(H1219:H1226)","v":0},{"$f":"SUM(I1219:I1226)","v":0},{"$f":"SUM(J1219:J1226)","v":0},{"$f":"SUM(K1219:K1226)","v":0},{"$f":"SUM(L1219:L1226)","v":0},null,{"$f":"SUM(H1229:L1229)","v":0},{"$f":"IF(G1227<80,\"0,00\",IF(P1228>0,\"0\",IF(G1227>100,\"0,00\",IF(N1219>=80,M1219,IF(N1219<80,0)))))","v":"0,00"},{"$f":"P1219+P1220+P1221+P1222+P1223+P1224+P1225+P1226","v":0},{"$f":"1","v":1},{"$f":"1","v":1},"=1"]
[null,null,null,null,null,null,"Percentage",{"$f":"IF(H1228+G1228=0,\"0\",(H1228/G1228)*100)","v":0},{"$f":"IF(I1228+G1228=0,\"0\",(I1228/G1228)*100)","v":0},{"$f":"IF(J1228+G1228=0,\"0\",(J1228/G1228)*100)","v":0},{"$f":"IF(K1228+G1228=0,\"0\",(K1228/G1228)*100)","v":0},{"$f":"IF(L1228+G1228=0,\"0\",(L1228/G1228)*100)","v":0},null,100,null,null,{"$f":"1","v":1},{"$f":"1","v":1},"=1"]
[null,null,null,null,null,{"$f":"IF(U1217=1,((G1228/100)*80))","v":false},"% of 80",{"$f":"(H1229/80)*100","v":0},{"$f":"(I1229/80)*100","v":0},{"$f":"(J1229/80)*100","v":0},{"$f":"(K1229/80)*100","v":0},{"$f":"(L1229/80)*100","v":0},null,null,null,null,{"$f":"1","v":1},{"$f":"1","v":1},"=1"]
[null,null,null,null,null,null,"Limiter",{"$f":"IF(H1230>100,\"100\",H1230)","v":0},{"$f":"IF(I1230>100,\"100\",I1230)","v":0},{"$f":"IF(J1230>100,\"100\",J1230)","v":0},{"$f":"IF(K1230>100,\"100\",K1230)","v":0},{"$f":"IF(L1230>100,\"100\",L1230)","v":0},null,null,null,null,{"$f":"1","v":1},{"$f":"1","v":1},"=1"]
[null,null,null,null,null,null,null,null,{"$f":"IF(H1231+I1231+J1231+K1231+L1231=0,0,100-(H1231))","v":0},{"$f":"IF(H1231+I1231+J1231+K1231+L1231=0,0,100-(H1231+I1231))","v":0},{"$f":"IF(J1231+I1231+H1231+K1231+L1231=0,0,100-(J1231+I1231+H1231))","v":0},{"$f":"IF(K1231+J1231+I1231+H1231+L1231=0,0,100-(H1231+I1231+K1231+J1231))","v":0},null,null,null,null,{"$f":"1","v":1},{"$f":"1","v":1},"=1"]
[null,null,null,null,null,null,null,null,{"$f":"IF(I1231>I1232,I1232,I1231)","v":0},{"$f":"IF(J1231>J1232,J1232,J1231)","v":0},{"$f":"IF(K1231>K1232,K1232,K1231)","v":0},{"$f":"IF(L1231>L1232,L1232,L1231)","v":0},null,null,null,null,{"$f":"1","v":1},{"$f":"1","v":1},"=1"]
[null,null,null,null,null,null,null,null,null,null,null,{"$f":"IF(K1233+J1231+H1231+I1231>=100,0,L1233)","v":0},null,null,null,null,{"$f":"1","v":1},{"$f":"1","v":1},"=1"]
[null,null,null,null,null,null,"Scores",{"$f":"IF(H1228=0,0,0.01*(H1231*H1236))","v":0},{"$f":"IF(I1228=0,0,0.01*(I1233*I1236))","v":0},{"$f":"IF(J1228=0,0,0.01*(J1233*J1236))","v":0},{"$f":"IF(K1228=0,0,0.01*(K1233*K1236))","v":0},{"$f":"IF(L1228=0,0,0.01*(L1234*L1236))","v":0},null,null,null,null,{"$f":"1","v":1},{"$f":"1","v":1},"=1"]
[null,null,null,null,null,null,null,3,2.5,2,1.5,1,"Total",null,null,null,{"$f":"1","v":1},{"$f":"1","v":1},"=1"]
[null,null,null,null,null,null,null,null,null,null,null,null,null,null,null,null,1,1,"=1"]
[]
[]
[null,null,null,null,null,null,null,null,null,null,null,null,null,null,null,null,null,null,null,"Dropdown data validation:","Lookup for dropdown"]
[null,null,"FOR BOTH NEW BUILD & FIT OUT"]
[null,null,"Present",{"$f":"COUNTIF(D1246:D1260,1)","v":0},"Volume","Points required:","1 Credits","2 credits","3 credits","6 credits","for 8 elements (constant):",null,null,null,null,null,null,null,null,0,2]
[null,null,"Not Present",{"$f":"COUNTIF(D1246:D1260,0)","v":15},"Percentage","(greater than)",{"$f":"IF(D1262=0,0,(D1242/D1262)*4.9999)","v":0},{"$f":"IF(D1262=0,0,(D1242/D1262)*9.9999)","v":0},{"$f":"(D1242/D1262)*14.9999","v":{"$error":"#DIV/0!"}},0,0,null,null,null,null,null,null,null,null,1,3]
[null,null,null,null,null,null,null,null,null,null,null,null,null,null,null,null,null,null,null,2,4]
[null,null,"total",{"$f":"SUM(D1242:D1243)","v":15},null,null,0,0,0,"Nybygg","Renovering",null,null,null,null,null,null,null,null,3,5]
[null,null,"FRAME",{"$f":"IF(freq1>=3,1,0)","v":0},{"$f":"IF(D1246=1,1,0)","v":0},5,{"$f":"G1243","v":0},1,null,{"$f":"IF(N11>=5,1,0)","v":0},{"$f":"IF(N11>=5,1,0)","v":0},null,null,null,null,null,null,null,null,4,6]
[null,null,"GROUND FLOOR",{"$f":"IF(freq2>=3,1,0)","v":0},{"$f":"IF(D1247=1,1,0)","v":0},10,{"$f":"H1243","v":0},2,null,{"$f":"IF(N11>=10,2,0)","v":0},{"$f":"IF(N11>=5,1,0)","v":0}]
[null,null,"UPPER FLOORS",{"$f":"IF(freq3>=3,1,0)","v":0},0,15,{"$f":"I1243","v":{"$error":"#DIV/0!"}},3]
[null,null,"ROOF",{"$f":"IF(freq4>=3,1,0)","v":0},0,null,{"$f":"J1243","v":0},6,null,null,null,null,null,null,null,null,null,null,null,"Volum",1]
[null,null,"EXTERNAL WALLS",{"$f":"IF(freq5>=3,1,0)","v":0},0,null,null,null,null,null,null,null,null,null,null,null,null,null,null,"Prosentandel",2]
[null,null,"INTERNAL WALLS",{"$f":"IF(freq6>=3,1,0)","v":0},0]
[null,null,"FOUNDATIONS/SUB",{"$f":"IF(freq7>=3,1,0)","v":0},0]
[null,null,"STAIRCASE",{"$f":"IF(freq8>=3,1,0)","v":0},0]
[null,null,"WINDOWS",{"$f":"IF(freq9>=3,1,0)","v":0},0]
[null,null,"EXT/INT DOORS",{"$f":"IF(freq10>=3,1,0)","v":0},0]
[null,null,"SKIRTING",{"$f":"IF(freq11>=3,1,0)","v":0},0]
[null,null,"PANELLING",{"$f":"IF(freq12>=3,1,0)","v":0},0]
[null,null,"FURNITURE",{"$f":"IF(freq13>=3,1,0)","v":0},0]
[null,null,"FASCIAS",{"$f":"IF(freq14>=3,1,0)","v":0},0]
[null,null,"OTHER",{"$f":"IF(freq15>=3,1,0)","v":0},0]
[]
[null,null,"Total elements of \ntype assessed",{"$f":"SUM(E1246:E1260)","v":0}]

{"sheet":"Ark2","index":1,"n_rows":24,"n_cols":1,"rows_kept":24,"cut":false,"hidden":false,"merged":[]}
["Dialogboks 1"]
["- Murstein (herunder lettklinkerblokk, teglstein og annen keramikk samt mørtel og puss)"]
["- Harpiksbaserte komposittmaterialer og materialer, herunder glassfiberarmert plast"]
["  og polymerpuss"]
["- Betong (herunder prefabrikkert betong og plasstøpt betong, betongblokker,"]
["  belegningsstein, heller, påstøp, osv.)"]
["- Fliser"]
["- Glass"]
["- Plast og gummi (herunder takmembran av EPDM, TPO, PVC og VET"]
[" samt polymerpuss)"]
["- Metaller (stål, aluminium osv.)"]
["- Naturstein, bygningsstein og skifer"]
["- Trevirke, trekompositt og trepaneler (herunder limtre, kryssfiner, OSB, MDF, "]
["  sponplate og sementbundne sponplater)"]
["- Gipsplater og gips"]
["- Isolasjonsmaterialer"]
["- Asfaltholdige materialer som f.eks. takmembraner og asfalt"]
["- Andre mineralbaserte materialer, herunder fibersement og kalsiumsilikat"]
["- Produkter med resirkulert innhold"]
[]
["Merk: Tilbehør, lim og tilsetningsstoffer er ikke tatt med i vurderingen. "]
["For eventuelt andre materialer som utgjør en del av et relevant bygningselement, "]
["men som ikke passer inn i listen over relevante materialer, henvises det til NGBC,"]
["som vil identifisere relevant nøkkelprosess og forsyningskjede eller -kjeder."]

{"sheet":"Schedule of changes","index":3,"n_rows":7,"n_cols":9,"rows_kept":7,"cut":false,"hidden":false,"merged":[[2,6,2,8]]}
[null,"Schedule of Changes to the Mat 5 Spreadsheet tool"]
[]
[null,null,null,null,null,null,"Schemes affected by change"]
[null,null,"Previous rev no.","New rev. No.","Date","Description of change/amendment to previous rev no.","Industrial","Offices","Retail"]
[null,null,"rev 01","rev 02","2013-05-10","Green guide preset options have been removed due to compatability issues with excel. ","Yes","Yes","Yes"]
[null,null,"rev 02","rev 03","2013-05-20","Updates made to buttons due to compatability issues with Excel","Yes","Yes","Yes"]
[null,null,"rev 03","rev 04","2013-07-01","Tilpasset norsk versjon (Arne Hammerstad, Norsk Byggtjeneste)","Yes","Yes","Yes"]